| Back to Mac ARM64 build report for BioC 3.16 |
|
This page was generated on 2023-04-19 11:01:57 -0400 (Wed, 19 Apr 2023).
| Hostname | OS | Arch (*) | R version | Installed pkgs |
|---|---|---|---|---|
| kjohnson | macOS 13.0 Ventura | arm64 | 4.2.2 (2022-10-31) -- "Innocent and Trusting" | 4256 |
| Click on any hostname to see more info about the system (e.g. compilers) (*) as reported by 'uname -p', except on Windows and Mac OS X | ||||
|
To the developers/maintainers of the ReQON package: Make sure to use the following settings in order to reproduce any error or warning you see on this page. |
| Package 1652/2183 | Hostname | OS / Arch | INSTALL | BUILD | BUILD BIN | ||||||||
| ReQON 1.44.0 (landing page) Christopher Cabanski
| kjohnson | macOS 13.0 Ventura / arm64 | ERROR | ERROR | skipped | ||||||||
| Package: ReQON |
| Version: 1.44.0 |
| Command: /Library/Frameworks/R.framework/Resources/bin/R CMD build --keep-empty-dirs --no-resave-data ReQON |
| StartedAt: 2023-04-18 00:39:42 -0400 (Tue, 18 Apr 2023) |
| EndedAt: 2023-04-18 00:39:43 -0400 (Tue, 18 Apr 2023) |
| EllapsedTime: 1.2 seconds |
| RetCode: 1 |
| Status: ERROR |
| PackageFile: None |
| PackageFileSize: NA |
##############################################################################
##############################################################################
###
### Running command:
###
### /Library/Frameworks/R.framework/Resources/bin/R CMD build --keep-empty-dirs --no-resave-data ReQON
###
##############################################################################
##############################################################################
* checking for file ‘ReQON/DESCRIPTION’ ... OK
* preparing ‘ReQON’:
* checking DESCRIPTION meta-information ... OK
* installing the package to build vignettes
-----------------------------------
ERROR: dependency ‘seqbias’ is not available for package ‘ReQON’
* removing ‘/private/tmp/RtmpZrZeMi/Rinst1200bae6100/ReQON’
-----------------------------------
ERROR: package installation failed