| Back to Mac ARM64 build report for BioC 3.16 |
|
This page was generated on 2023-04-19 11:01:56 -0400 (Wed, 19 Apr 2023).
| Hostname | OS | Arch (*) | R version | Installed pkgs |
|---|---|---|---|---|
| kjohnson | macOS 13.0 Ventura | arm64 | 4.2.2 (2022-10-31) -- "Innocent and Trusting" | 4256 |
| Click on any hostname to see more info about the system (e.g. compilers) (*) as reported by 'uname -p', except on Windows and Mac OS X | ||||
|
To the developers/maintainers of the OmnipathR package: Make sure to use the following settings in order to reproduce any error or warning you see on this page. |
| Package 1393/2183 | Hostname | OS / Arch | INSTALL | BUILD | BUILD BIN | ||||||||
| OmnipathR 3.6.6 (landing page) Denes Turei
| kjohnson | macOS 13.0 Ventura / arm64 | OK | OK | OK | ||||||||
| Package: OmnipathR |
| Version: 3.6.6 |
| Command: rm -rf OmnipathR.buildbin-libdir && mkdir OmnipathR.buildbin-libdir && /Users/biocbuild/BBS/utils/build-universal.sh OmnipathR_3.6.6.tar.gz /Library/Frameworks/R.framework/Resources/bin/R OmnipathR.buildbin-libdir |
| StartedAt: 2023-04-18 18:01:58 -0400 (Tue, 18 Apr 2023) |
| EndedAt: 2023-04-18 18:02:38 -0400 (Tue, 18 Apr 2023) |
| EllapsedTime: 39.6 seconds |
| RetCode: 0 |
| Status: OK |
| PackageFile: OmnipathR_3.6.6.tgz |
| PackageFileSize: 3.057 MiB |
############################################################################## ############################################################################## ### ### Running command: ### ### rm -rf OmnipathR.buildbin-libdir && mkdir OmnipathR.buildbin-libdir && /Users/biocbuild/BBS/utils/build-universal.sh OmnipathR_3.6.6.tar.gz /Library/Frameworks/R.framework/Resources/bin/R OmnipathR.buildbin-libdir ### ############################################################################## ############################################################################## >>>>>>> >>>>>>> INSTALLATION WITH 'R CMD INSTALL --preclean --no-multiarch --library=OmnipathR.buildbin-libdir OmnipathR_3.6.6.tar.gz' >>>>>>> * installing *source* package ‘OmnipathR’ ... ** using staged installation ** R ** inst ** byte-compile and prepare package for lazy loading ** help *** installing help indices ** building package indices ** installing vignettes ** testing if installed package can be loaded from temporary location [2023-04-18 18:02:27] [INFO] [OmnipathR] Initialized cache: `/Users/biocbuild/Library/Caches/OmnipathR`. [2023-04-18 18:02:27] [TRACE] [OmnipathR] Running on a build server, wiping cache. [2023-04-18 18:02:27] [TRACE] [OmnipathR] Cache is at `/Users/biocbuild/Library/Caches/OmnipathR`. [2023-04-18 18:02:27] [TRACE] [OmnipathR] Contains 6 files. [2023-04-18 18:02:27] [TRACE] [OmnipathR] Cache is locked: FALSE. [2023-04-18 18:02:27] [SUCCESS] [OmnipathR] Removing all cache contents from `/Users/biocbuild/Library/Caches/OmnipathR`. [2023-04-18 18:02:29] [TRACE] [OmnipathR] Pandoc version: `2.7.3`. [2023-04-18 18:02:29] [TRACE] [OmnipathR] Cache locked: FALSE ** testing if installed package can be loaded from final location [2023-04-18 18:02:34] [INFO] [OmnipathR] Initialized cache: `/Users/biocbuild/Library/Caches/OmnipathR`. [2023-04-18 18:02:34] [TRACE] [OmnipathR] Running on a build server, wiping cache. [2023-04-18 18:02:34] [TRACE] [OmnipathR] Cache is at `/Users/biocbuild/Library/Caches/OmnipathR`. [2023-04-18 18:02:34] [TRACE] [OmnipathR] Contains 1 files. [2023-04-18 18:02:34] [TRACE] [OmnipathR] Cache is locked: FALSE. [2023-04-18 18:02:34] [SUCCESS] [OmnipathR] Removing all cache contents from `/Users/biocbuild/Library/Caches/OmnipathR`. [2023-04-18 18:02:34] [TRACE] [OmnipathR] Pandoc version: `2.7.3`. [2023-04-18 18:02:34] [TRACE] [OmnipathR] Cache locked: FALSE ** testing if installed package keeps a record of temporary installation path * DONE (OmnipathR)