| Back to Mac ARM64 build report for BioC 3.16 |
|
This page was generated on 2023-04-05 11:02:09 -0400 (Wed, 05 Apr 2023).
| Hostname | OS | Arch (*) | R version | Installed pkgs |
|---|---|---|---|---|
| kjohnson | macOS 13.0 Ventura | arm64 | 4.2.2 (2022-10-31) -- "Innocent and Trusting" | 4252 |
| Click on any hostname to see more info about the system (e.g. compilers) (*) as reported by 'uname -p', except on Windows and Mac OS X | ||||
|
To the developers/maintainers of the ISAnalytics package: Make sure to use the following settings in order to reproduce any error or warning you see on this page. |
| Package 996/2183 | Hostname | OS / Arch | INSTALL | BUILD | BUILD BIN | ||||||||
| ISAnalytics 1.8.1 (landing page) Andrea Calabria
| kjohnson | macOS 13.0 Ventura / arm64 | OK | OK | OK | ||||||||
| Package: ISAnalytics |
| Version: 1.8.1 |
| Command: rm -rf ISAnalytics.buildbin-libdir && mkdir ISAnalytics.buildbin-libdir && /Users/biocbuild/BBS/utils/build-universal.sh ISAnalytics_1.8.1.tar.gz /Library/Frameworks/R.framework/Resources/bin/R ISAnalytics.buildbin-libdir |
| StartedAt: 2023-04-04 15:59:01 -0400 (Tue, 04 Apr 2023) |
| EndedAt: 2023-04-04 16:00:03 -0400 (Tue, 04 Apr 2023) |
| EllapsedTime: 62.0 seconds |
| RetCode: 0 |
| Status: OK |
| PackageFile: ISAnalytics_1.8.1.tgz |
| PackageFileSize: 5.182 MiB |
############################################################################## ############################################################################## ### ### Running command: ### ### rm -rf ISAnalytics.buildbin-libdir && mkdir ISAnalytics.buildbin-libdir && /Users/biocbuild/BBS/utils/build-universal.sh ISAnalytics_1.8.1.tar.gz /Library/Frameworks/R.framework/Resources/bin/R ISAnalytics.buildbin-libdir ### ############################################################################## ############################################################################## >>>>>>> >>>>>>> INSTALLATION WITH 'R CMD INSTALL --preclean --no-multiarch --library=ISAnalytics.buildbin-libdir ISAnalytics_1.8.1.tar.gz' >>>>>>> * installing *source* package ‘ISAnalytics’ ... ** using staged installation ** R ** data ** inst ** byte-compile and prepare package for lazy loading ** help *** installing help indices *** copying figures ** building package indices ** installing vignettes ** testing if installed package can be loaded from temporary location ** testing if installed package can be loaded from final location ** testing if installed package keeps a record of temporary installation path * DONE (ISAnalytics)