| Back to Mac ARM64 build report for BioC 3.16 |
|
This page was generated on 2023-04-19 11:01:46 -0400 (Wed, 19 Apr 2023).
| Hostname | OS | Arch (*) | R version | Installed pkgs |
|---|---|---|---|---|
| kjohnson | macOS 13.0 Ventura | arm64 | 4.2.2 (2022-10-31) -- "Innocent and Trusting" | 4256 |
| Click on any hostname to see more info about the system (e.g. compilers) (*) as reported by 'uname -p', except on Windows and Mac OS X | ||||
|
To the developers/maintainers of the AnnotationHub package: Make sure to use the following settings in order to reproduce any error or warning you see on this page. |
| Package 59/2183 | Hostname | OS / Arch | INSTALL | BUILD | BUILD BIN | ||||||||
| AnnotationHub 3.6.0 (landing page) Bioconductor Package Maintainer
| kjohnson | macOS 13.0 Ventura / arm64 | OK | OK | OK | ||||||||
| QUICK STATS | OS / Arch | INSTALL | BUILD | BUILD BIN | |||||||||||||
| kjohnson | macOS 13.0 Ventura / arm64 |
|
|
| |||||||||||||
| Package 1/43 | Hostname | OS / Arch | INSTALL | BUILD | BUILD BIN | ||||||||||||
| adductomicsR 1.14.0 (landing page) Josie Hayes
| kjohnson | macOS 13.0 Ventura / arm64 | OK | OK | OK | ||||||||||||
| Package 2/43 | Hostname | OS / Arch | INSTALL | BUILD | BUILD BIN | ||||||||||||
| AnnotationHubData 1.28.0 (landing page) Bioconductor Package Maintainer
| kjohnson | macOS 13.0 Ventura / arm64 | OK | OK | OK | ||||||||||||
| Package 3/43 | Hostname | OS / Arch | INSTALL | BUILD | BUILD BIN | ||||||||||||
| annotatr 1.24.0 (landing page) Raymond G. Cavalcante
| kjohnson | macOS 13.0 Ventura / arm64 | OK | OK | OK | ||||||||||||
| Package 4/43 | Hostname | OS / Arch | INSTALL | BUILD | BUILD BIN | ||||||||||||
| atena 1.4.1 (landing page) Beatriz Calvo-Serra
| kjohnson | macOS 13.0 Ventura / arm64 | OK | OK | OK | ||||||||||||
| Package 5/43 | Hostname | OS / Arch | INSTALL | BUILD | BUILD BIN | ||||||||||||
| circRNAprofiler 1.12.2 (landing page) Simona Aufiero
| kjohnson | macOS 13.0 Ventura / arm64 | OK | OK | OK | ||||||||||||
| Package 6/43 | Hostname | OS / Arch | INSTALL | BUILD | BUILD BIN | ||||||||||||
| coMethDMR 1.2.0 (landing page) Fernanda Veitzman
| kjohnson | macOS 13.0 Ventura / arm64 | OK | OK | OK | ||||||||||||
| Package 7/43 | Hostname | OS / Arch | INSTALL | BUILD | BUILD BIN | ||||||||||||
| cTRAP 1.16.0 (landing page) Nuno Saraiva-Agostinho
| kjohnson | macOS 13.0 Ventura / arm64 | OK | OK | OK | ||||||||||||
| Package 8/43 | Hostname | OS / Arch | INSTALL | BUILD | BUILD BIN | ||||||||||||
| customCMPdb 1.8.0 (landing page) Yuzhu Duan
| kjohnson | macOS 13.0 Ventura / arm64 | OK | OK | OK | ||||||||||||
| Package 9/43 | Hostname | OS / Arch | INSTALL | BUILD | BUILD BIN | ||||||||||||
| dmrseq 1.18.1 (landing page) Keegan Korthauer
| kjohnson | macOS 13.0 Ventura / arm64 | OK | OK | OK | ||||||||||||
| Package 10/43 | Hostname | OS / Arch | INSTALL | BUILD | BUILD BIN | ||||||||||||
| ENmix 1.34.02 (landing page) Zongli Xu
| kjohnson | macOS 13.0 Ventura / arm64 | OK | OK | OK | ||||||||||||
| Package 11/43 | Hostname | OS / Arch | INSTALL | BUILD | BUILD BIN | ||||||||||||
| EpiCompare 1.2.0 (landing page) Sera Choi
| kjohnson | macOS 13.0 Ventura / arm64 | OK | OK | OK | ||||||||||||
| Package 12/43 | Hostname | OS / Arch | INSTALL | BUILD | BUILD BIN | ||||||||||||
| EpiMix 1.0.2 (landing page) Yuanning Zheng
| kjohnson | macOS 13.0 Ventura / arm64 | OK | ERROR | skipped | ||||||||||||
| Package 13/43 | Hostname | OS / Arch | INSTALL | BUILD | BUILD BIN | ||||||||||||
| epimutacions 1.2.0 (landing page) Dolors Pelegri-Siso
| kjohnson | macOS 13.0 Ventura / arm64 | OK | OK | OK | ||||||||||||
| Package 14/43 | Hostname | OS / Arch | INSTALL | BUILD | BUILD BIN | ||||||||||||
| ExperimentHub 2.6.0 (landing page) Bioconductor Package Maintainer
| kjohnson | macOS 13.0 Ventura / arm64 | OK | OK | OK | ||||||||||||
| Package 15/43 | Hostname | OS / Arch | INSTALL | BUILD | BUILD BIN | ||||||||||||
| GenomicScores 2.10.0 (landing page) Robert Castelo
| kjohnson | macOS 13.0 Ventura / arm64 | OK | OK | OK | ||||||||||||
| Package 16/43 | Hostname | OS / Arch | INSTALL | BUILD | BUILD BIN | ||||||||||||
| GSEABenchmarkeR 1.18.0 (landing page) Ludwig Geistlinger
| kjohnson | macOS 13.0 Ventura / arm64 | OK | OK | OK | ||||||||||||
| Package 17/43 | Hostname | OS / Arch | INSTALL | BUILD | BUILD BIN | ||||||||||||
| gwascat 2.30.0 (landing page) VJ Carey
| kjohnson | macOS 13.0 Ventura / arm64 | OK | OK | OK | ||||||||||||
| Package 18/43 | Hostname | OS / Arch | INSTALL | BUILD | BUILD BIN | ||||||||||||
| hipathia 2.14.0 (landing page) Marta R. Hidalgo
| kjohnson | macOS 13.0 Ventura / arm64 | OK | OK | OK | ||||||||||||
| Package 19/43 | Hostname | OS / Arch | INSTALL | BUILD | BUILD BIN | ||||||||||||
| ipdDb 1.16.0 (landing page) Steffen Klasberg
| kjohnson | macOS 13.0 Ventura / arm64 | OK | OK | OK | ||||||||||||
| Package 20/43 | Hostname | OS / Arch | INSTALL | BUILD | BUILD BIN | ||||||||||||
| iSEEhub 1.0.0 (landing page) Kevin Rue-Albrecht
| kjohnson | macOS 13.0 Ventura / arm64 | OK | OK | OK | ||||||||||||
| Package 21/43 | Hostname | OS / Arch | INSTALL | BUILD | BUILD BIN | ||||||||||||
| LRcell 1.6.0 (landing page) Wenjing Ma
| kjohnson | macOS 13.0 Ventura / arm64 | OK | OK | OK | ||||||||||||
| Package 22/43 | Hostname | OS / Arch | INSTALL | BUILD | BUILD BIN | ||||||||||||
| MACSr 1.6.0 (landing page) Qiang Hu
| kjohnson | macOS 13.0 Ventura / arm64 | OK | OK | OK | ||||||||||||
| Package 23/43 | Hostname | OS / Arch | INSTALL | BUILD | BUILD BIN | ||||||||||||
| meshes 1.24.0 (landing page) Guangchuang Yu
| kjohnson | macOS 13.0 Ventura / arm64 | OK | OK | OK | ||||||||||||
| Package 24/43 | Hostname | OS / Arch | INSTALL | BUILD | BUILD BIN | ||||||||||||
| MethReg 1.8.0 (landing page) Tiago Silva
| kjohnson | macOS 13.0 Ventura / arm64 | OK | OK | OK | ||||||||||||
| Package 25/43 | Hostname | OS / Arch | INSTALL | BUILD | BUILD BIN | ||||||||||||
| MSnID 1.32.0 (landing page) Vlad Petyuk
| kjohnson | macOS 13.0 Ventura / arm64 | OK | OK | OK | ||||||||||||
| Package 26/43 | Hostname | OS / Arch | INSTALL | BUILD | BUILD BIN | ||||||||||||
| NxtIRFcore 1.4.0 (landing page) Alex Chit Hei Wong
| kjohnson | macOS 13.0 Ventura / arm64 | OK | OK | OK | ||||||||||||
| Package 27/43 | Hostname | OS / Arch | INSTALL | BUILD | BUILD BIN | ||||||||||||
| octad 1.0.0 (landing page) E. Chekalin
| kjohnson | macOS 13.0 Ventura / arm64 | OK | OK | OK | ||||||||||||
| Package 28/43 | Hostname | OS / Arch | INSTALL | BUILD | BUILD BIN | ||||||||||||
| OGRE 1.2.0 (landing page) Sven Berres
| kjohnson | macOS 13.0 Ventura / arm64 | OK | OK | OK | ||||||||||||
| Package 29/43 | Hostname | OS / Arch | INSTALL | BUILD | BUILD BIN | ||||||||||||
| ontoProc 1.20.0 (landing page) Vincent Carey
| kjohnson | macOS 13.0 Ventura / arm64 | OK | OK | OK | ||||||||||||
| Package 30/43 | Hostname | OS / Arch | INSTALL | BUILD | BUILD BIN | ||||||||||||
| psichomics 1.24.0 (landing page) Nuno Saraiva-Agostinho
| kjohnson | macOS 13.0 Ventura / arm64 | OK | OK | OK | ||||||||||||
| Package 31/43 | Hostname | OS / Arch | INSTALL | BUILD | BUILD BIN | ||||||||||||
| pwOmics 1.30.0 (landing page) Maren Sitte
| kjohnson | macOS 13.0 Ventura / arm64 | OK | OK | OK | ||||||||||||
| Package 32/43 | Hostname | OS / Arch | INSTALL | BUILD | BUILD BIN | ||||||||||||
| regutools 1.10.0 (landing page) Joselyn Chavez
| kjohnson | macOS 13.0 Ventura / arm64 | OK | OK | OK | ||||||||||||
| Package 33/43 | Hostname | OS / Arch | INSTALL | BUILD | BUILD BIN | ||||||||||||
| REMP 1.22.0 (landing page) Yinan Zheng
| kjohnson | macOS 13.0 Ventura / arm64 | OK | OK | OK | ||||||||||||
| Package 34/43 | Hostname | OS / Arch | INSTALL | BUILD | BUILD BIN | ||||||||||||
| restfulSE 1.20.0 (landing page) Shweta Gopaulakrishnan
| kjohnson | macOS 13.0 Ventura / arm64 | OK | OK | OK | ||||||||||||
| Package 35/43 | Hostname | OS / Arch | INSTALL | BUILD | BUILD BIN | ||||||||||||
| RLSeq 1.4.1 (landing page) Henry Miller
| kjohnson | macOS 13.0 Ventura / arm64 | OK | ERROR | skipped | ||||||||||||
| Package 36/43 | Hostname | OS / Arch | INSTALL | BUILD | BUILD BIN | ||||||||||||
| scanMiRApp 1.4.0 (landing page) Pierre-Luc Germain
| kjohnson | macOS 13.0 Ventura / arm64 | OK | OK | OK | ||||||||||||
| Package 37/43 | Hostname | OS / Arch | INSTALL | BUILD | BUILD BIN | ||||||||||||
| scAnnotatR 1.4.0 (landing page) Johannes Griss
| kjohnson | macOS 13.0 Ventura / arm64 | OK | OK | OK | ||||||||||||
| Package 38/43 | Hostname | OS / Arch | INSTALL | BUILD | BUILD BIN | ||||||||||||
| scmeth 1.18.0 (landing page) Divy Kangeyan
| kjohnson | macOS 13.0 Ventura / arm64 | OK | OK | OK | ||||||||||||
| Package 39/43 | Hostname | OS / Arch | INSTALL | BUILD | BUILD BIN | ||||||||||||
| scTensor 2.8.0 (landing page) Koki Tsuyuzaki
| kjohnson | macOS 13.0 Ventura / arm64 | OK | OK | OK | ||||||||||||
| Package 40/43 | Hostname | OS / Arch | INSTALL | BUILD | BUILD BIN | ||||||||||||
| singleCellTK 2.8.0 (landing page) Yichen Wang
| kjohnson | macOS 13.0 Ventura / arm64 | OK | OK | OK | ||||||||||||
| Package 41/43 | Hostname | OS / Arch | INSTALL | BUILD | BUILD BIN | ||||||||||||
| SpliceWiz 1.0.4 (landing page) Alex Chit Hei Wong
| kjohnson | macOS 13.0 Ventura / arm64 | OK | OK | OK | ||||||||||||
| Package 42/43 | Hostname | OS / Arch | INSTALL | BUILD | BUILD BIN | ||||||||||||
| tximeta 1.16.1 (landing page) Michael Love
| kjohnson | macOS 13.0 Ventura / arm64 | OK | OK | OK | ||||||||||||
| Package 43/43 | Hostname | OS / Arch | INSTALL | BUILD | BUILD BIN | ||||||||||||
| Ularcirc 1.16.0 (landing page) David Humphreys
| kjohnson | macOS 13.0 Ventura / arm64 | OK | OK | OK | ||||||||||||