| Back to Mac ARM64 build report for BioC 3.16 |
|
This page was generated on 2023-04-19 11:01:53 -0400 (Wed, 19 Apr 2023).
| Hostname | OS | Arch (*) | R version | Installed pkgs |
|---|---|---|---|---|
| kjohnson | macOS 13.0 Ventura | arm64 | 4.2.2 (2022-10-31) -- "Innocent and Trusting" | 4256 |
| Click on any hostname to see more info about the system (e.g. compilers) (*) as reported by 'uname -p', except on Windows and Mac OS X | ||||
|
To the developers/maintainers of the AlpsNMR package: Make sure to use the following settings in order to reproduce any error or warning you see on this page. |
| Package 43/2183 | Hostname | OS / Arch | INSTALL | BUILD | BUILD BIN | ||||||||
| AlpsNMR 4.0.4 (landing page) Sergio Oller Moreno
| kjohnson | macOS 13.0 Ventura / arm64 | ERROR | ERROR | skipped | ||||||||
| Package: AlpsNMR |
| Version: 4.0.4 |
| Command: /Library/Frameworks/R.framework/Resources/bin/R CMD build --keep-empty-dirs --no-resave-data AlpsNMR |
| StartedAt: 2023-04-16 19:35:18 -0400 (Sun, 16 Apr 2023) |
| EndedAt: 2023-04-16 19:35:20 -0400 (Sun, 16 Apr 2023) |
| EllapsedTime: 2.3 seconds |
| RetCode: 1 |
| Status: ERROR |
| PackageFile: None |
| PackageFileSize: NA |
##############################################################################
##############################################################################
###
### Running command:
###
### /Library/Frameworks/R.framework/Resources/bin/R CMD build --keep-empty-dirs --no-resave-data AlpsNMR
###
##############################################################################
##############################################################################
* checking for file ‘AlpsNMR/DESCRIPTION’ ... OK
* preparing ‘AlpsNMR’:
* checking DESCRIPTION meta-information ... OK
* installing the package to build vignettes
-----------------------------------
* installing *source* package ‘AlpsNMR’ ...
** using staged installation
** R
** data
** inst
** byte-compile and prepare package for lazy loading
Error in loadNamespace(j <- i[[1L]], c(lib.loc, .libPaths()), versionCheck = vI[[j]]) :
namespace ‘dplyr’ 1.0.10 is being loaded, but >= 1.1.0 is required
Calls: <Anonymous> ... namespaceImportFrom -> asNamespace -> loadNamespace
Execution halted
ERROR: lazy loading failed for package ‘AlpsNMR’
* removing ‘/private/tmp/RtmpZvIaxG/Rinst1766d5c0b7314/AlpsNMR’
-----------------------------------
ERROR: package installation failed