| Back to Multiple platform build/check report for BioC 3.16 |
|
This page was generated on 2022-07-11 11:06:57 -0400 (Mon, 11 Jul 2022).
| Hostname | OS | Arch (*) | R version | Installed pkgs |
|---|---|---|---|---|
| nebbiolo2 | Linux (Ubuntu 20.04.4 LTS) | x86_64 | 4.2.1 (2022-06-23) -- "Funny-Looking Kid" | 4148 |
| lconway | macOS 12.2.1 Monterey | x86_64 | 4.2.0 Patched (2022-05-29 r82424) -- "Vigorous Calisthenics" | 4168 |
| kjohnson | macOS 12.4 Monterey | arm64 | 4.2.1 (2022-06-23) -- "Funny-Looking Kid" | 3545 |
| Click on any hostname to see more info about the system (e.g. compilers) (*) as reported by 'uname -p', except on Windows and Mac OS X | ||||
|
To the developers/maintainers of the seqbias package: - Please allow up to 24 hours (and sometimes 48 hours) for your latest push to git@git.bioconductor.org:packages/seqbias.git to reflect on this report. See How and When does the builder pull? When will my changes propagate? for more information. - Make sure to use the following settings in order to reproduce any error or warning you see on this page. |
| Package 1800/2130 | Hostname | OS / Arch | INSTALL | BUILD | CHECK | BUILD BIN | ||||||||
| seqbias 1.45.0 (landing page) Daniel Jones
| nebbiolo2 | Linux (Ubuntu 20.04.4 LTS) / x86_64 | ERROR | ERROR | skipped | |||||||||
| lconway | macOS 12.2.1 Monterey / x86_64 | ERROR | ERROR | skipped | skipped | |||||||||
| kjohnson | macOS 12.4 Monterey / arm64 | ERROR | NA | NA | NA | |||||||||
| Package: seqbias |
| Version: 1.45.0 |
| Command: /Library/Frameworks/R.framework/Resources/bin/R CMD INSTALL seqbias |
| StartedAt: 2022-07-10 15:27:37 -0400 (Sun, 10 Jul 2022) |
| EndedAt: 2022-07-10 15:27:39 -0400 (Sun, 10 Jul 2022) |
| EllapsedTime: 2.3 seconds |
| RetCode: 1 |
| Status: ERROR |
##############################################################################
##############################################################################
###
### Running command:
###
### /Library/Frameworks/R.framework/Resources/bin/R CMD INSTALL seqbias
###
##############################################################################
##############################################################################
* installing to library ‘/Library/Frameworks/R.framework/Versions/4.2-arm64/Resources/library’
* installing *source* package ‘seqbias’ ...
** using staged installation
** libs
clang -arch arm64 -I"/Library/Frameworks/R.framework/Resources/include" -DNDEBUG -D_FILE_OFFSET_BITS=64 -I'/Library/Frameworks/R.framework/Versions/4.2-arm64/Resources/library/Rhtslib/include' -I/opt/R/arm64/include -Wall -Wextra -I. -fPIC -falign-functions=64 -Wall -g -O2 -c sam.c -o sam.o
In file included from ./sam.c:1:
In file included from ./sam.c:1:
In file included from ./sam.c:1:
In file included from ./sam.c:1:
In file included from ./sam.c:1:
In file included from ./sam.c:1:
In file included from ./sam.c:1:
In file included from ./sam.c:1:
In file included from ./sam.c:1:
In file included from ./sam.c:1:
In file included from ./sam.c:1:
In file included from ./sam.c:1:
In file included from ./sam.c:1:
In file included from ./sam.c:1:
In file included from ./sam.c:1:
In file included from ./sam.c:1:
In file included from ./sam.c:1:
In file included from ./sam.c:1:
In file included from ./sam.c:1:
In file included from ./sam.c:1:
In file included from ./sam.c:1:
In file included from ./sam.c:1:
In file included from ./sam.c:1:
In file included from ./sam.c:1:
In file included from ./sam.c:1:
In file included from ./sam.c:1:
In file included from ./sam.c:1:
In file included from ./sam.c:1:
In file included from ./sam.c:1:
In file included from ./sam.c:1:
In file included from ./sam.c:1:
In file included from ./sam.c:1:
In file included from ./sam.c:1:
In file included from ./sam.c:1:
In file included from ./sam.c:1:
In file included from ./sam.c:1:
In file included from ./sam.c:1:
In file included from ./sam.c:1:
In file included from ./sam.c:1:
In file included from ./sam.c:1:
In file included from ./sam.c:1:
In file included from ./sam.c:1:
In file included from ./sam.c:1:
In file included from ./sam.c:1:
In file included from ./sam.c:1:
In file included from ./sam.c:1:
In file included from ./sam.c:1:
In file included from ./sam.c:1:
In file included from ./sam.c:1:
In file included from ./sam.c:1:
In file included from ./sam.c:1:
In file included from ./sam.c:1:
In file included from ./sam.c:1:
In file included from ./sam.c:1:
In file included from ./sam.c:1:
In file included from ./sam.c:1:
In file included from ./sam.c:1:
In file included from ./sam.c:1:
In file included from ./sam.c:1:
In file included from ./sam.c:1:
In file included from ./sam.c:1:
In file included from ./sam.c:1:
In file included from ./sam.c:1:
In file included from ./sam.c:1:
In file included from ./sam.c:1:
In file included from ./sam.c:1:
In file included from ./sam.c:1:
In file included from ./sam.c:1:
In file included from ./sam.c:1:
In file included from ./sam.c:1:
In file included from ./sam.c:1:
In file included from ./sam.c:1:
In file included from ./sam.c:1:
In file included from ./sam.c:1:
In file included from ./sam.c:1:
In file included from ./sam.c:1:
In file included from ./sam.c:1:
In file included from ./sam.c:1:
In file included from ./sam.c:1:
In file included from ./sam.c:1:
In file included from ./sam.c:1:
In file included from ./sam.c:1:
In file included from ./sam.c:1:
In file included from ./sam.c:1:
In file included from ./sam.c:1:
In file included from ./sam.c:1:
In file included from ./sam.c:1:
In file included from ./sam.c:1:
In file included from ./sam.c:1:
In file included from ./sam.c:1:
In file included from ./sam.c:1:
In file included from ./sam.c:1:
In file included from ./sam.c:1:
In file included from ./sam.c:1:
In file included from ./sam.c:1:
In file included from ./sam.c:1:
In file included from ./sam.c:1:
In file included from ./sam.c:1:
In file included from ./sam.c:1:
In file included from ./sam.c:1:
In file included from ./sam.c:1:
In file included from ./sam.c:1:
In file included from ./sam.c:1:
In file included from ./sam.c:1:
In file included from ./sam.c:1:
In file included from ./sam.c:1:
In file included from ./sam.c:1:
In file included from ./sam.c:1:
In file included from ./sam.c:1:
In file included from ./sam.c:1:
In file included from ./sam.c:1:
In file included from ./sam.c:1:
In file included from ./sam.c:1:
In file included from ./sam.c:1:
In file included from ./sam.c:1:
In file included from ./sam.c:1:
In file included from ./sam.c:1:
In file included from ./sam.c:1:
In file included from ./sam.c:1:
In file included from ./sam.c:1:
In file included from ./sam.c:1:
In file included from ./sam.c:1:
In file included from ./sam.c:1:
In file included from ./sam.c:1:
In file included from ./sam.c:1:
In file included from ./sam.c:1:
In file included from ./sam.c:1:
In file included from ./sam.c:1:
In file included from ./sam.c:1:
In file included from ./sam.c:1:
In file included from ./sam.c:1:
In file included from ./sam.c:1:
In file included from ./sam.c:1:
In file included from ./sam.c:1:
In file included from ./sam.c:1:
In file included from ./sam.c:1:
In file included from ./sam.c:1:
In file included from ./sam.c:1:
In file included from ./sam.c:1:
In file included from ./sam.c:1:
In file included from ./sam.c:1:
In file included from ./sam.c:1:
In file included from ./sam.c:1:
In file included from ./sam.c:1:
In file included from ./sam.c:1:
In file included from ./sam.c:1:
In file included from ./sam.c:1:
In file included from ./sam.c:1:
In file included from ./sam.c:1:
In file included from ./sam.c:1:
In file included from ./sam.c:1:
In file included from ./sam.c:1:
In file included from ./sam.c:1:
In file included from ./sam.c:1:
In file included from ./sam.c:1:
In file included from ./sam.c:1:
In file included from ./sam.c:1:
In file included from ./sam.c:1:
In file included from ./sam.c:1:
In file included from ./sam.c:1:
In file included from ./sam.c:1:
In file included from ./sam.c:1:
In file included from ./sam.c:1:
In file included from ./sam.c:1:
In file included from ./sam.c:1:
In file included from ./sam.c:1:
In file included from ./sam.c:1:
In file included from ./sam.c:1:
In file included from ./sam.c:1:
In file included from ./sam.c:1:
In file included from ./sam.c:1:
In file included from ./sam.c:1:
In file included from ./sam.c:1:
In file included from ./sam.c:1:
In file included from ./sam.c:1:
In file included from ./sam.c:1:
In file included from ./sam.c:1:
In file included from ./sam.c:1:
In file included from ./sam.c:1:
In file included from ./sam.c:1:
In file included from ./sam.c:1:
In file included from ./sam.c:1:
In file included from ./sam.c:1:
In file included from ./sam.c:1:
In file included from ./sam.c:1:
In file included from ./sam.c:1:
In file included from ./sam.c:1:
In file included from ./sam.c:1:
In file included from ./sam.c:1:
In file included from ./sam.c:1:
In file included from ./sam.c:1:
In file included from ./sam.c:1:
In file included from ./sam.c:1:
In file included from ./sam.c:1:
In file included from ./sam.c:1:
In file included from ./sam.c:1:
In file included from ./sam.c:1:
In file included from ./sam.c:1:
In file included from ./sam.c:1:
./sam.c:1:10: error: #include nested too deeply
#include <sam.c>
^
1 error generated.
make: *** [sam.o] Error 1
ERROR: compilation failed for package ‘seqbias’
* removing ‘/Library/Frameworks/R.framework/Versions/4.2-arm64/Resources/library/seqbias’