| Back to Multiple platform build/check report for BioC 3.16 |
|
This page was generated on 2022-07-11 11:06:56 -0400 (Mon, 11 Jul 2022).
| Hostname | OS | Arch (*) | R version | Installed pkgs |
|---|---|---|---|---|
| nebbiolo2 | Linux (Ubuntu 20.04.4 LTS) | x86_64 | 4.2.1 (2022-06-23) -- "Funny-Looking Kid" | 4148 |
| lconway | macOS 12.2.1 Monterey | x86_64 | 4.2.0 Patched (2022-05-29 r82424) -- "Vigorous Calisthenics" | 4168 |
| kjohnson | macOS 12.4 Monterey | arm64 | 4.2.1 (2022-06-23) -- "Funny-Looking Kid" | 3545 |
| Click on any hostname to see more info about the system (e.g. compilers) (*) as reported by 'uname -p', except on Windows and Mac OS X | ||||
|
To the developers/maintainers of the scde package: - Please allow up to 24 hours (and sometimes 48 hours) for your latest push to git@git.bioconductor.org:packages/scde.git to reflect on this report. See How and When does the builder pull? When will my changes propagate? for more information. - Make sure to use the following settings in order to reproduce any error or warning you see on this page. |
| Package 1756/2130 | Hostname | OS / Arch | INSTALL | BUILD | CHECK | BUILD BIN | ||||||||
| scde 2.25.0 (landing page) Jean Fan
| nebbiolo2 | Linux (Ubuntu 20.04.4 LTS) / x86_64 | OK | OK | WARNINGS | |||||||||
| lconway | macOS 12.2.1 Monterey / x86_64 | OK | OK | WARNINGS | OK | |||||||||
| kjohnson | macOS 12.4 Monterey / arm64 | OK | NA | NA | NA | |||||||||
| Package: scde |
| Version: 2.25.0 |
| Command: /Library/Frameworks/R.framework/Resources/bin/R CMD INSTALL scde |
| StartedAt: 2022-07-10 17:39:35 -0400 (Sun, 10 Jul 2022) |
| EndedAt: 2022-07-10 17:41:39 -0400 (Sun, 10 Jul 2022) |
| EllapsedTime: 123.5 seconds |
| RetCode: 0 |
| Status: OK |
##############################################################################
##############################################################################
###
### Running command:
###
### /Library/Frameworks/R.framework/Resources/bin/R CMD INSTALL scde
###
##############################################################################
##############################################################################
* installing to library ‘/Library/Frameworks/R.framework/Versions/4.2-arm64/Resources/library’
* installing *source* package ‘scde’ ...
** using staged installation
** libs
clang++ -arch arm64 -std=gnu++14 -I"/Library/Frameworks/R.framework/Resources/include" -DNDEBUG -I'/Library/Frameworks/R.framework/Versions/4.2-arm64/Resources/library/Rcpp/include' -I'/Library/Frameworks/R.framework/Versions/4.2-arm64/Resources/library/RcppArmadillo/include' -I/opt/R/arm64/include -fPIC -falign-functions=64 -Wall -g -O2 -c bwpca.cpp -o bwpca.o
bwpca.cpp:28:14: warning: 'random_shuffle<std::__wrap_iter<int *>>' is deprecated [-Wdeprecated-declarations]
std::random_shuffle(ind.begin(), ind.end());
^
/Library/Developer/CommandLineTools/SDKs/MacOSX.sdk/usr/include/c++/v1/__algorithm/shuffle.h:60:1: note: 'random_shuffle<std::__wrap_iter<int *>>' has been explicitly marked deprecated here
_LIBCPP_DEPRECATED_IN_CXX14 void
^
/Library/Developer/CommandLineTools/SDKs/MacOSX.sdk/usr/include/c++/v1/__config:1060:39: note: expanded from macro '_LIBCPP_DEPRECATED_IN_CXX14'
# define _LIBCPP_DEPRECATED_IN_CXX14 _LIBCPP_DEPRECATED
^
/Library/Developer/CommandLineTools/SDKs/MacOSX.sdk/usr/include/c++/v1/__config:1043:48: note: expanded from macro '_LIBCPP_DEPRECATED'
# define _LIBCPP_DEPRECATED __attribute__ ((deprecated))
^
bwpca.cpp:45:14: warning: 'random_shuffle<std::__wrap_iter<int *>>' is deprecated [-Wdeprecated-declarations]
std::random_shuffle(ind.begin(), ind.end());
^
/Library/Developer/CommandLineTools/SDKs/MacOSX.sdk/usr/include/c++/v1/__algorithm/shuffle.h:60:1: note: 'random_shuffle<std::__wrap_iter<int *>>' has been explicitly marked deprecated here
_LIBCPP_DEPRECATED_IN_CXX14 void
^
/Library/Developer/CommandLineTools/SDKs/MacOSX.sdk/usr/include/c++/v1/__config:1060:39: note: expanded from macro '_LIBCPP_DEPRECATED_IN_CXX14'
# define _LIBCPP_DEPRECATED_IN_CXX14 _LIBCPP_DEPRECATED
^
/Library/Developer/CommandLineTools/SDKs/MacOSX.sdk/usr/include/c++/v1/__config:1043:48: note: expanded from macro '_LIBCPP_DEPRECATED'
# define _LIBCPP_DEPRECATED __attribute__ ((deprecated))
^
bwpca.cpp:105:11: warning: explicitly assigning value of variable of type 'arma::mat' (aka 'Mat<double>') to itself [-Wself-assign-overloaded]
totvm %=totvm;
~~~~~ ^ ~~~~~
bwpca.cpp:122:15: warning: explicitly assigning value of variable of type 'arma::mat' (aka 'Mat<double>') to itself [-Wself-assign-overloaded]
delta %=delta;
~~~~~ ^ ~~~~~
bwpca.cpp:147:19: warning: explicitly assigning value of variable of type 'arma::mat' (aka 'Mat<double>') to itself [-Wself-assign-overloaded]
delta %=delta;
~~~~~ ^ ~~~~~
bwpca.cpp:271:19: warning: explicitly assigning value of variable of type 'arma::mat' (aka 'Mat<double>') to itself [-Wself-assign-overloaded]
delta %=delta;
~~~~~ ^ ~~~~~
6 warnings generated.
clang++ -arch arm64 -std=gnu++14 -I"/Library/Frameworks/R.framework/Resources/include" -DNDEBUG -I'/Library/Frameworks/R.framework/Versions/4.2-arm64/Resources/library/Rcpp/include' -I'/Library/Frameworks/R.framework/Versions/4.2-arm64/Resources/library/RcppArmadillo/include' -I/opt/R/arm64/include -fPIC -falign-functions=64 -Wall -g -O2 -c jpmatLogBoot.cpp -o jpmatLogBoot.o
jpmatLogBoot.cpp:200:24: warning: unused variable 'maxv' [-Wunused-variable]
double maxv=nbp.max(maxij);
^
jpmatLogBoot.cpp:443:10: warning: unused variable 'maxv' [-Wunused-variable]
double maxv=nbp.max(maxij);
^
2 warnings generated.
clang++ -arch arm64 -std=gnu++14 -I"/Library/Frameworks/R.framework/Resources/include" -DNDEBUG -I'/Library/Frameworks/R.framework/Versions/4.2-arm64/Resources/library/Rcpp/include' -I'/Library/Frameworks/R.framework/Versions/4.2-arm64/Resources/library/RcppArmadillo/include' -I/opt/R/arm64/include -fPIC -falign-functions=64 -Wall -g -O2 -c matSlideMult.cpp -o matSlideMult.o
clang++ -arch arm64 -std=gnu++14 -I"/Library/Frameworks/R.framework/Resources/include" -DNDEBUG -I'/Library/Frameworks/R.framework/Versions/4.2-arm64/Resources/library/Rcpp/include' -I'/Library/Frameworks/R.framework/Versions/4.2-arm64/Resources/library/RcppArmadillo/include' -I/opt/R/arm64/include -fPIC -falign-functions=64 -Wall -g -O2 -c pagoda.cpp -o pagoda.o
pagoda.cpp:56:15: warning: explicitly assigning value of variable of type 'arma::colvec' (aka 'Col<double>') to itself [-Wself-assign-overloaded]
ic%=ic; jc%=jc;
~~^ ~~
pagoda.cpp:56:23: warning: explicitly assigning value of variable of type 'arma::colvec' (aka 'Col<double>') to itself [-Wself-assign-overloaded]
ic%=ic; jc%=jc;
~~^ ~~
2 warnings generated.
clang++ -arch arm64 -std=gnu++14 -dynamiclib -Wl,-headerpad_max_install_names -undefined dynamic_lookup -single_module -multiply_defined suppress -L/Library/Frameworks/R.framework/Resources/lib -L/opt/R/arm64/lib -o scde.so bwpca.o jpmatLogBoot.o matSlideMult.o pagoda.o -L/Library/Frameworks/R.framework/Resources/lib -lRlapack -L/Library/Frameworks/R.framework/Resources/lib -lRblas -L/opt/R/arm64/gfortran/lib/gcc/aarch64-apple-darwin20.6.0/12.0.1 -L/opt/R/arm64/gfortran/lib -lgfortran -lemutls_w -lquadmath -F/Library/Frameworks/R.framework/.. -framework R -Wl,-framework -Wl,CoreFoundation
installing to /Library/Frameworks/R.framework/Versions/4.2-arm64/Resources/library/00LOCK-scde/00new/scde/libs
** R
** data
*** moving datasets to lazyload DB
** byte-compile and prepare package for lazy loading
** help
*** installing help indices
** building package indices
** installing vignettes
** testing if installed package can be loaded from temporary location
** checking absolute paths in shared objects and dynamic libraries
** testing if installed package can be loaded from final location
** testing if installed package keeps a record of temporary installation path
* DONE (scde)