| Back to Multiple platform build/check report for BioC 3.16 |
|
This page was generated on 2022-07-11 11:06:46 -0400 (Mon, 11 Jul 2022).
| Hostname | OS | Arch (*) | R version | Installed pkgs |
|---|---|---|---|---|
| nebbiolo2 | Linux (Ubuntu 20.04.4 LTS) | x86_64 | 4.2.1 (2022-06-23) -- "Funny-Looking Kid" | 4148 |
| lconway | macOS 12.2.1 Monterey | x86_64 | 4.2.0 Patched (2022-05-29 r82424) -- "Vigorous Calisthenics" | 4168 |
| kjohnson | macOS 12.4 Monterey | arm64 | 4.2.1 (2022-06-23) -- "Funny-Looking Kid" | 3545 |
| Click on any hostname to see more info about the system (e.g. compilers) (*) as reported by 'uname -p', except on Windows and Mac OS X | ||||
|
To the developers/maintainers of the fmcsR package: - Please allow up to 24 hours (and sometimes 48 hours) for your latest push to git@git.bioconductor.org:packages/fmcsR.git to reflect on this report. See How and When does the builder pull? When will my changes propagate? for more information. - Make sure to use the following settings in order to reproduce any error or warning you see on this page. |
| Package 697/2130 | Hostname | OS / Arch | INSTALL | BUILD | CHECK | BUILD BIN | ||||||||
| fmcsR 1.39.0 (landing page) Thomas Girke
| nebbiolo2 | Linux (Ubuntu 20.04.4 LTS) / x86_64 | OK | OK | WARNINGS | |||||||||
| lconway | macOS 12.2.1 Monterey / x86_64 | OK | OK | WARNINGS | OK | |||||||||
| kjohnson | macOS 12.4 Monterey / arm64 | OK | NA | NA | NA | |||||||||
| Package: fmcsR |
| Version: 1.39.0 |
| Command: /Library/Frameworks/R.framework/Resources/bin/R CMD INSTALL fmcsR |
| StartedAt: 2022-07-10 16:06:47 -0400 (Sun, 10 Jul 2022) |
| EndedAt: 2022-07-10 16:07:36 -0400 (Sun, 10 Jul 2022) |
| EllapsedTime: 48.6 seconds |
| RetCode: 0 |
| Status: OK |
##############################################################################
##############################################################################
###
### Running command:
###
### /Library/Frameworks/R.framework/Resources/bin/R CMD INSTALL fmcsR
###
##############################################################################
##############################################################################
* installing to library ‘/Library/Frameworks/R.framework/Versions/4.2-arm64/Resources/library’
* installing *source* package ‘fmcsR’ ...
** using staged installation
checking for g++... g++
checking whether the C++ compiler works... yes
checking for C++ compiler default output file name... a.out
checking for suffix of executables...
checking whether we are cross compiling... no
checking for suffix of object files... o
checking whether we are using the GNU C++ compiler... yes
checking whether g++ accepts -g... yes
checking for gcc... gcc
checking whether we are using the GNU C compiler... yes
checking whether gcc accepts -g... yes
checking for gcc option to accept ISO C89... none needed
checking how to run the C preprocessor... gcc -E
checking for grep that handles long lines and -e... /usr/bin/grep
checking for egrep... /usr/bin/grep -E
checking for ANSI C header files... yes
checking for sys/types.h... yes
checking for sys/stat.h... yes
checking for stdlib.h... yes
checking for string.h... yes
checking for memory.h... yes
checking for strings.h... yes
checking for inttypes.h... yes
checking for stdint.h... yes
checking for unistd.h... yes
checking for stdbool.h that conforms to C99... yes
checking for _Bool... yes
checking for inline... inline
checking for size_t... yes
checking for alarm... yes
configure: creating ./config.status
config.status: creating src/Makevars
config.status: creating config.h
config.status: config.h is unchanged
** libs
clang++ -arch arm64 -std=gnu++14 -I"/Library/Frameworks/R.framework/Resources/include" -DNDEBUG -I/opt/R/arm64/include -fPIC -falign-functions=64 -Wall -g -O2 -c MCS.cpp -o MCS.o
clang++ -arch arm64 -std=gnu++14 -I"/Library/Frameworks/R.framework/Resources/include" -DNDEBUG -I/opt/R/arm64/include -fPIC -falign-functions=64 -Wall -g -O2 -c MCSCompound.cpp -o MCSCompound.o
clang++ -arch arm64 -std=gnu++14 -I"/Library/Frameworks/R.framework/Resources/include" -DNDEBUG -I/opt/R/arm64/include -fPIC -falign-functions=64 -Wall -g -O2 -c MCSMap.cpp -o MCSMap.o
clang++ -arch arm64 -std=gnu++14 -I"/Library/Frameworks/R.framework/Resources/include" -DNDEBUG -I/opt/R/arm64/include -fPIC -falign-functions=64 -Wall -g -O2 -c MCSRingDetector.cpp -o MCSRingDetector.o
MCSRingDetector.cpp:175:13: warning: unused variable 'aromaticCount' [-Wunused-variable]
int aromaticCount = 0;
^
1 warning generated.
clang++ -arch arm64 -std=gnu++14 -I"/Library/Frameworks/R.framework/Resources/include" -DNDEBUG -I/opt/R/arm64/include -fPIC -falign-functions=64 -Wall -g -O2 -c fmcs_R_wrap.cpp -o fmcs_R_wrap.o
fmcs_R_wrap.cpp:47:13: warning: variable 'matchType' is used uninitialized whenever switch default is taken [-Wsometimes-uninitialized]
default:
^~~~~~~
fmcs_R_wrap.cpp:74:13: note: uninitialized use occurs here
matchType, runningMode, *timeout);
^~~~~~~~~
fmcs_R_wrap.cpp:42:6: note: variable 'matchType' is declared here
MCS::MatchType matchType;
^
fmcs_R_wrap.cpp:56:13: warning: variable 'runningMode' is used uninitialized whenever switch default is taken [-Wsometimes-uninitialized]
default:
^~~~~~~
fmcs_R_wrap.cpp:74:24: note: uninitialized use occurs here
matchType, runningMode, *timeout);
^~~~~~~~~~~
fmcs_R_wrap.cpp:52:9: note: variable 'runningMode' is declared here
MCS::RunningMode runningMode;
^
2 warnings generated.
clang++ -arch arm64 -std=gnu++14 -I"/Library/Frameworks/R.framework/Resources/include" -DNDEBUG -I/opt/R/arm64/include -fPIC -falign-functions=64 -Wall -g -O2 -c util.cpp -o util.o
clang++ -arch arm64 -std=gnu++14 -dynamiclib -Wl,-headerpad_max_install_names -undefined dynamic_lookup -single_module -multiply_defined suppress -L/Library/Frameworks/R.framework/Resources/lib -L/opt/R/arm64/lib -o fmcsR.so MCS.o MCSCompound.o MCSMap.o MCSRingDetector.o fmcs_R_wrap.o util.o -F/Library/Frameworks/R.framework/.. -framework R -Wl,-framework -Wl,CoreFoundation
installing to /Library/Frameworks/R.framework/Versions/4.2-arm64/Resources/library/00LOCK-fmcsR/00new/fmcsR/libs
** R
** data
** inst
** byte-compile and prepare package for lazy loading
** help
*** installing help indices
** building package indices
** installing vignettes
** testing if installed package can be loaded from temporary location
** checking absolute paths in shared objects and dynamic libraries
** testing if installed package can be loaded from final location
** testing if installed package keeps a record of temporary installation path
* DONE (fmcsR)