| Back to Multiple platform build/check report for BioC 3.16 |
|
This page was generated on 2022-07-11 11:06:44 -0400 (Mon, 11 Jul 2022).
| Hostname | OS | Arch (*) | R version | Installed pkgs |
|---|---|---|---|---|
| nebbiolo2 | Linux (Ubuntu 20.04.4 LTS) | x86_64 | 4.2.1 (2022-06-23) -- "Funny-Looking Kid" | 4148 |
| lconway | macOS 12.2.1 Monterey | x86_64 | 4.2.0 Patched (2022-05-29 r82424) -- "Vigorous Calisthenics" | 4168 |
| kjohnson | macOS 12.4 Monterey | arm64 | 4.2.1 (2022-06-23) -- "Funny-Looking Kid" | 3545 |
| Click on any hostname to see more info about the system (e.g. compilers) (*) as reported by 'uname -p', except on Windows and Mac OS X | ||||
|
To the developers/maintainers of the debCAM package: - Please allow up to 24 hours (and sometimes 48 hours) for your latest push to git@git.bioconductor.org:packages/debCAM.git to reflect on this report. See How and When does the builder pull? When will my changes propagate? for more information. - Make sure to use the following settings in order to reproduce any error or warning you see on this page. |
| Package 474/2130 | Hostname | OS / Arch | INSTALL | BUILD | CHECK | BUILD BIN | ||||||||
| debCAM 1.15.0 (landing page) Lulu Chen
| nebbiolo2 | Linux (Ubuntu 20.04.4 LTS) / x86_64 | OK | OK | OK | |||||||||
| lconway | macOS 12.2.1 Monterey / x86_64 | OK | OK | OK | OK | |||||||||
| kjohnson | macOS 12.4 Monterey / arm64 | ERROR | NA | NA | NA | |||||||||
| Package: debCAM |
| Version: 1.15.0 |
| Command: /Library/Frameworks/R.framework/Resources/bin/R CMD INSTALL debCAM |
| StartedAt: 2022-07-10 17:31:54 -0400 (Sun, 10 Jul 2022) |
| EndedAt: 2022-07-10 17:31:56 -0400 (Sun, 10 Jul 2022) |
| EllapsedTime: 2.2 seconds |
| RetCode: 1 |
| Status: ERROR |
##############################################################################
##############################################################################
###
### Running command:
###
### /Library/Frameworks/R.framework/Resources/bin/R CMD INSTALL debCAM
###
##############################################################################
##############################################################################
* installing to library ‘/Library/Frameworks/R.framework/Versions/4.2-arm64/Resources/library’
* installing *source* package ‘debCAM’ ...
** using staged installation
** R
** data
** inst
** byte-compile and prepare package for lazy loading
Warning in fun(libname, pkgname) :
JAVA_HOME is set incorrectly! Ingoring.
The operation couldn’t be completed. Unable to locate a Java Runtime.
Please visit http://www.java.com for information on installing Java.
Warning in system("/usr/libexec/java_home", intern = TRUE) :
running command '/usr/libexec/java_home' had status 1
Warning in fun(libname, pkgname) :
Cannot find JVM library 'NA/lib/server/libjvm.dylib'
Install Java and/or check JAVA_HOME (if in doubt, do NOT set it, it will be detected)
Error: .onLoad failed in loadNamespace() for 'rJava', details:
call: fun(libname, pkgname)
error: JVM could not be found
Execution halted
ERROR: lazy loading failed for package ‘debCAM’
* removing ‘/Library/Frameworks/R.framework/Versions/4.2-arm64/Resources/library/debCAM’