| Back to Multiple platform build/check report for BioC 3.16 | 
 | 
This page was generated on 2022-07-11 11:06:41 -0400 (Mon, 11 Jul 2022).
| Hostname | OS | Arch (*) | R version | Installed pkgs | 
|---|---|---|---|---|
| nebbiolo2 | Linux (Ubuntu 20.04.4 LTS) | x86_64 | 4.2.1 (2022-06-23) -- "Funny-Looking Kid" | 4148 | 
| lconway | macOS 12.2.1 Monterey | x86_64 | 4.2.0 Patched (2022-05-29 r82424) -- "Vigorous Calisthenics" | 4168 | 
| kjohnson | macOS 12.4 Monterey | arm64 | 4.2.1 (2022-06-23) -- "Funny-Looking Kid" | 3545 | 
| Click on any hostname to see more info about the system (e.g. compilers) (*) as reported by 'uname -p', except on Windows and Mac OS X | ||||
| To the developers/maintainers of the borealis package: - Please allow up to 24 hours (and sometimes 48 hours) for your latest push to git@git.bioconductor.org:packages/borealis.git to reflect on this report. See How and When does the builder pull? When will my changes propagate? for more information. - Make sure to use the following settings in order to reproduce any error or warning you see on this page. | 
| Package 214/2130 | Hostname | OS / Arch | INSTALL | BUILD | CHECK | BUILD BIN | ||||||||
| borealis 1.1.2  (landing page) Garrett Jenkinson 
 | nebbiolo2 | Linux (Ubuntu 20.04.4 LTS) / x86_64 | OK | OK | OK |  | ||||||||
| lconway | macOS 12.2.1 Monterey / x86_64 | OK | OK | OK | OK |  | ||||||||
| kjohnson | macOS 12.4 Monterey / arm64 | ERROR | ERROR | skipped | skipped | |||||||||
| Package: borealis | 
| Version: 1.1.2 | 
| Command: /Library/Frameworks/R.framework/Resources/bin/R CMD INSTALL borealis | 
| StartedAt: 2022-07-10 18:57:03 -0400 (Sun, 10 Jul 2022) | 
| EndedAt: 2022-07-10 18:57:04 -0400 (Sun, 10 Jul 2022) | 
| EllapsedTime: 1.1 seconds | 
| RetCode: 1 | 
| Status: ERROR | 
############################################################################## ############################################################################## ### ### Running command: ### ### /Library/Frameworks/R.framework/Resources/bin/R CMD INSTALL borealis ### ############################################################################## ############################################################################## * installing to library ‘/Library/Frameworks/R.framework/Versions/4.2-arm64/Resources/library’ ERROR: dependencies ‘bsseq’, ‘DSS’ are not available for package ‘borealis’ * removing ‘/Library/Frameworks/R.framework/Versions/4.2-arm64/Resources/library/borealis’