| Back to Multiple platform build/check report for BioC 3.16 |
|
This page was generated on 2022-07-11 11:06:39 -0400 (Mon, 11 Jul 2022).
| Hostname | OS | Arch (*) | R version | Installed pkgs |
|---|---|---|---|---|
| nebbiolo2 | Linux (Ubuntu 20.04.4 LTS) | x86_64 | 4.2.1 (2022-06-23) -- "Funny-Looking Kid" | 4148 |
| lconway | macOS 12.2.1 Monterey | x86_64 | 4.2.0 Patched (2022-05-29 r82424) -- "Vigorous Calisthenics" | 4168 |
| kjohnson | macOS 12.4 Monterey | arm64 | 4.2.1 (2022-06-23) -- "Funny-Looking Kid" | 3545 |
| Click on any hostname to see more info about the system (e.g. compilers) (*) as reported by 'uname -p', except on Windows and Mac OS X | ||||
|
To the developers/maintainers of the bacon package: - Please allow up to 24 hours (and sometimes 48 hours) for your latest push to git@git.bioconductor.org:packages/bacon.git to reflect on this report. See How and When does the builder pull? When will my changes propagate? for more information. - Make sure to use the following settings in order to reproduce any error or warning you see on this page. |
| Package 103/2130 | Hostname | OS / Arch | INSTALL | BUILD | CHECK | BUILD BIN | ||||||||
| bacon 1.25.0 (landing page) Maarten van Iterson
| nebbiolo2 | Linux (Ubuntu 20.04.4 LTS) / x86_64 | OK | OK | OK | |||||||||
| lconway | macOS 12.2.1 Monterey / x86_64 | OK | OK | OK | OK | |||||||||
| kjohnson | macOS 12.4 Monterey / arm64 | OK | OK | NA | NA | |||||||||
| Package: bacon |
| Version: 1.25.0 |
| Command: /Library/Frameworks/R.framework/Resources/bin/R CMD INSTALL bacon |
| StartedAt: 2022-07-10 16:58:14 -0400 (Sun, 10 Jul 2022) |
| EndedAt: 2022-07-10 16:58:27 -0400 (Sun, 10 Jul 2022) |
| EllapsedTime: 13.0 seconds |
| RetCode: 0 |
| Status: OK |
##############################################################################
##############################################################################
###
### Running command:
###
### /Library/Frameworks/R.framework/Resources/bin/R CMD INSTALL bacon
###
##############################################################################
##############################################################################
* installing to library ‘/Library/Frameworks/R.framework/Versions/4.2-arm64/Resources/library’
* installing *source* package ‘bacon’ ...
** using staged installation
** libs
clang -arch arm64 -I"/Library/Frameworks/R.framework/Resources/include" -DNDEBUG -I/opt/R/arm64/include -fPIC -falign-functions=64 -Wall -g -O2 -c Rinit.c -o Rinit.o
Rinit.c:11:3: warning: suggest braces around initialization of subobject [-Wmissing-braces]
NULL
^~~~
{ }
/Library/Developer/CommandLineTools/usr/lib/clang/13.1.6/include/stddef.h:89:16: note: expanded from macro 'NULL'
# define NULL ((void*)0)
^~~~~~~~~~
1 warning generated.
clang -arch arm64 -I"/Library/Frameworks/R.framework/Resources/include" -DNDEBUG -I/opt/R/arm64/include -fPIC -falign-functions=64 -Wall -g -O2 -c bacon.c -o bacon.o
clang -arch arm64 -dynamiclib -Wl,-headerpad_max_install_names -undefined dynamic_lookup -single_module -multiply_defined suppress -L/Library/Frameworks/R.framework/Resources/lib -L/opt/R/arm64/lib -o bacon.so Rinit.o bacon.o -F/Library/Frameworks/R.framework/.. -framework R -Wl,-framework -Wl,CoreFoundation
installing to /Library/Frameworks/R.framework/Versions/4.2-arm64/Resources/library/00LOCK-bacon/00new/bacon/libs
** R
** inst
** byte-compile and prepare package for lazy loading
** help
*** installing help indices
** building package indices
** installing vignettes
** testing if installed package can be loaded from temporary location
** checking absolute paths in shared objects and dynamic libraries
** testing if installed package can be loaded from final location
** testing if installed package keeps a record of temporary installation path
* DONE (bacon)