| Back to Multiple platform build/check report for BioC 3.16 |
|
This page was generated on 2022-07-11 11:06:54 -0400 (Mon, 11 Jul 2022).
| Hostname | OS | Arch (*) | R version | Installed pkgs |
|---|---|---|---|---|
| nebbiolo2 | Linux (Ubuntu 20.04.4 LTS) | x86_64 | 4.2.1 (2022-06-23) -- "Funny-Looking Kid" | 4148 |
| lconway | macOS 12.2.1 Monterey | x86_64 | 4.2.0 Patched (2022-05-29 r82424) -- "Vigorous Calisthenics" | 4168 |
| kjohnson | macOS 12.4 Monterey | arm64 | 4.2.1 (2022-06-23) -- "Funny-Looking Kid" | 3545 |
| Click on any hostname to see more info about the system (e.g. compilers) (*) as reported by 'uname -p', except on Windows and Mac OS X | ||||
|
To the developers/maintainers of the RareVariantVis package: - Please allow up to 24 hours (and sometimes 48 hours) for your latest push to git@git.bioconductor.org:packages/RareVariantVis.git to reflect on this report. See How and When does the builder pull? When will my changes propagate? for more information. - Make sure to use the following settings in order to reproduce any error or warning you see on this page. |
| Package 1561/2130 | Hostname | OS / Arch | INSTALL | BUILD | CHECK | BUILD BIN | ||||||||
| RareVariantVis 2.25.0 (landing page) Tomasz Stokowy
| nebbiolo2 | Linux (Ubuntu 20.04.4 LTS) / x86_64 | OK | OK | OK | |||||||||
| lconway | macOS 12.2.1 Monterey / x86_64 | OK | OK | OK | OK | |||||||||
| kjohnson | macOS 12.4 Monterey / arm64 | ERROR | NA | NA | NA | |||||||||
| Package: RareVariantVis |
| Version: 2.25.0 |
| Command: /Library/Frameworks/R.framework/Resources/bin/R CMD INSTALL RareVariantVis |
| StartedAt: 2022-07-10 18:57:27 -0400 (Sun, 10 Jul 2022) |
| EndedAt: 2022-07-10 18:57:28 -0400 (Sun, 10 Jul 2022) |
| EllapsedTime: 1.0 seconds |
| RetCode: 1 |
| Status: ERROR |
############################################################################## ############################################################################## ### ### Running command: ### ### /Library/Frameworks/R.framework/Resources/bin/R CMD INSTALL RareVariantVis ### ############################################################################## ############################################################################## * installing to library ‘/Library/Frameworks/R.framework/Versions/4.2-arm64/Resources/library’ ERROR: dependencies ‘VariantAnnotation’, ‘GenomicFeatures’, ‘BSgenome’, ‘BSgenome.Hsapiens.UCSC.hg19’, ‘TxDb.Hsapiens.UCSC.hg19.knownGene’, ‘phastCons100way.UCSC.hg19’ are not available for package ‘RareVariantVis’ * removing ‘/Library/Frameworks/R.framework/Versions/4.2-arm64/Resources/library/RareVariantVis’