| Back to Multiple platform build/check report for BioC 3.16 |
|
This page was generated on 2022-07-11 11:06:52 -0400 (Mon, 11 Jul 2022).
| Hostname | OS | Arch (*) | R version | Installed pkgs |
|---|---|---|---|---|
| nebbiolo2 | Linux (Ubuntu 20.04.4 LTS) | x86_64 | 4.2.1 (2022-06-23) -- "Funny-Looking Kid" | 4148 |
| lconway | macOS 12.2.1 Monterey | x86_64 | 4.2.0 Patched (2022-05-29 r82424) -- "Vigorous Calisthenics" | 4168 |
| kjohnson | macOS 12.4 Monterey | arm64 | 4.2.1 (2022-06-23) -- "Funny-Looking Kid" | 3545 |
| Click on any hostname to see more info about the system (e.g. compilers) (*) as reported by 'uname -p', except on Windows and Mac OS X | ||||
|
To the developers/maintainers of the NetPathMiner package: - Please allow up to 24 hours (and sometimes 48 hours) for your latest push to git@git.bioconductor.org:packages/NetPathMiner.git to reflect on this report. See How and When does the builder pull? When will my changes propagate? for more information. - Make sure to use the following settings in order to reproduce any error or warning you see on this page. |
| Package 1315/2130 | Hostname | OS / Arch | INSTALL | BUILD | CHECK | BUILD BIN | ||||||||
| NetPathMiner 1.33.0 (landing page) Ahmed Mohamed
| nebbiolo2 | Linux (Ubuntu 20.04.4 LTS) / x86_64 | OK | OK | WARNINGS | |||||||||
| lconway | macOS 12.2.1 Monterey / x86_64 | OK | OK | OK | OK | |||||||||
| kjohnson | macOS 12.4 Monterey / arm64 | ERROR | NA | NA | NA | |||||||||
| Package: NetPathMiner |
| Version: 1.33.0 |
| Command: /Library/Frameworks/R.framework/Resources/bin/R CMD INSTALL NetPathMiner |
| StartedAt: 2022-07-10 15:37:31 -0400 (Sun, 10 Jul 2022) |
| EndedAt: 2022-07-10 15:37:43 -0400 (Sun, 10 Jul 2022) |
| EllapsedTime: 12.0 seconds |
| RetCode: 1 |
| Status: ERROR |
##############################################################################
##############################################################################
###
### Running command:
###
### /Library/Frameworks/R.framework/Resources/bin/R CMD INSTALL NetPathMiner
###
##############################################################################
##############################################################################
* installing to library ‘/Library/Frameworks/R.framework/Versions/4.2-arm64/Resources/library’
* installing *source* package ‘NetPathMiner’ ...
** using staged installation
'config' variable 'CPP' is defunct
checking for gcc... clang -arch arm64
checking whether the C compiler works... yes
checking for C compiler default output file name... a.out
checking for suffix of executables...
checking whether we are cross compiling... no
checking for suffix of object files... o
checking whether we are using the GNU C compiler... yes
checking whether clang -arch arm64 accepts -g... yes
checking for clang -arch arm64 option to accept ISO C89... none needed
checking how to run the C preprocessor... clang -arch arm64 -E
checking for xmlParseFile in -lxml2... yes
checking for readSBML in -lsbml... no
untarring boost include tree...
SBML not found.
libXML2 found
checking for xml2-config... /usr/bin/xml2-config
configure: creating ./config.status
config.status: creating src/Makevars
** libs
clang++ -arch arm64 -std=gnu++14 -I"/Library/Frameworks/R.framework/Resources/include" -DNDEBUG -I/opt/R/arm64/include -I . -I/opt/R/arm64/include -DHAVE_XML -I/Library/Developer/CommandLineTools/SDKs/MacOSX.sdk/usr/include -fPIC -falign-functions=64 -Wall -g -O2 -c PathRanker.cpp -o PathRanker.o
In file included from PathRanker.cpp:23:
In file included from ./boost/graph/graph_utility.hpp:30:
In file included from ./boost/graph/properties.hpp:19:
In file included from ./boost/property_map/property_map.hpp:844:
In file included from ./boost/property_map/vector_property_map.hpp:14:
In file included from ./boost/shared_ptr.hpp:17:
In file included from ./boost/smart_ptr/shared_ptr.hpp:32:
In file included from ./boost/smart_ptr/detail/shared_count.hpp:29:
./boost/smart_ptr/detail/sp_counted_base.hpp:60:11: fatal error: 'boost/smart_ptr/detail/sp_counted_base_sync.hpp' file not found
# include <boost/smart_ptr/detail/sp_counted_base_sync.hpp>
^~~~~~~~~~~~~~~~~~~~~~~~~~~~~~~~~~~~~~~~~~~~~~~~~
1 error generated.
make: *** [PathRanker.o] Error 1
ERROR: compilation failed for package ‘NetPathMiner’
* removing ‘/Library/Frameworks/R.framework/Versions/4.2-arm64/Resources/library/NetPathMiner’