| Back to Multiple platform build/check report for BioC 3.16 |
|
This page was generated on 2022-07-11 11:06:41 -0400 (Mon, 11 Jul 2022).
| Hostname | OS | Arch (*) | R version | Installed pkgs |
|---|---|---|---|---|
| nebbiolo2 | Linux (Ubuntu 20.04.4 LTS) | x86_64 | 4.2.1 (2022-06-23) -- "Funny-Looking Kid" | 4148 |
| lconway | macOS 12.2.1 Monterey | x86_64 | 4.2.0 Patched (2022-05-29 r82424) -- "Vigorous Calisthenics" | 4168 |
| kjohnson | macOS 12.4 Monterey | arm64 | 4.2.1 (2022-06-23) -- "Funny-Looking Kid" | 3545 |
| Click on any hostname to see more info about the system (e.g. compilers) (*) as reported by 'uname -p', except on Windows and Mac OS X | ||||
|
To the developers/maintainers of the BufferedMatrixMethods package: - Please allow up to 24 hours (and sometimes 48 hours) for your latest push to git@git.bioconductor.org:packages/BufferedMatrixMethods.git to reflect on this report. See How and When does the builder pull? When will my changes propagate? for more information. - Make sure to use the following settings in order to reproduce any error or warning you see on this page. |
| Package 230/2130 | Hostname | OS / Arch | INSTALL | BUILD | CHECK | BUILD BIN | ||||||||
| BufferedMatrixMethods 1.61.0 (landing page) Ben Bolstad
| nebbiolo2 | Linux (Ubuntu 20.04.4 LTS) / x86_64 | OK | OK | OK | |||||||||
| lconway | macOS 12.2.1 Monterey / x86_64 | OK | OK | OK | OK | |||||||||
| kjohnson | macOS 12.4 Monterey / arm64 | OK | OK | NA | NA | |||||||||
| Package: BufferedMatrixMethods |
| Version: 1.61.0 |
| Command: /Library/Frameworks/R.framework/Resources/bin/R CMD INSTALL BufferedMatrixMethods |
| StartedAt: 2022-07-10 15:09:42 -0400 (Sun, 10 Jul 2022) |
| EndedAt: 2022-07-10 15:09:47 -0400 (Sun, 10 Jul 2022) |
| EllapsedTime: 5.1 seconds |
| RetCode: 0 |
| Status: OK |
##############################################################################
##############################################################################
###
### Running command:
###
### /Library/Frameworks/R.framework/Resources/bin/R CMD INSTALL BufferedMatrixMethods
###
##############################################################################
##############################################################################
* installing to library ‘/Library/Frameworks/R.framework/Versions/4.2-arm64/Resources/library’
* installing *source* package ‘BufferedMatrixMethods’ ...
** using staged installation
** libs
clang -arch arm64 -I"/Library/Frameworks/R.framework/Resources/include" -DNDEBUG -I'/Library/Frameworks/R.framework/Versions/4.2-arm64/Resources/library/BufferedMatrix/include' -I/opt/R/arm64/include -fPIC -falign-functions=64 -Wall -g -O2 -c init_package.c -o init_package.o
clang -arch arm64 -I"/Library/Frameworks/R.framework/Resources/include" -DNDEBUG -I'/Library/Frameworks/R.framework/Versions/4.2-arm64/Resources/library/BufferedMatrix/include' -I/opt/R/arm64/include -fPIC -falign-functions=64 -Wall -g -O2 -c preprocess_bm.c -o preprocess_bm.o
preprocess_bm.c:344:7: warning: unused variable 'i' [-Wunused-variable]
int i,j;
^
preprocess_bm.c:378:7: warning: unused variable 'current_mode' [-Wunused-variable]
int current_mode;
^
preprocess_bm.c:593:7: warning: unused variable 'current_mode' [-Wunused-variable]
int current_mode;
^
preprocess_bm.c:924:7: warning: variable 'first_ind' set but not used [-Wunused-but-set-variable]
int first_ind;
^
preprocess_bm.c:1151:7: warning: unused variable 'current_mode' [-Wunused-variable]
int current_mode;
^
preprocess_bm.c:453:12: warning: unused function 'min' [-Wunused-function]
static int min(int x1,int x2){
^
6 warnings generated.
clang -arch arm64 -dynamiclib -Wl,-headerpad_max_install_names -undefined dynamic_lookup -single_module -multiply_defined suppress -L/Library/Frameworks/R.framework/Resources/lib -L/opt/R/arm64/lib -o BufferedMatrixMethods.so init_package.o preprocess_bm.o -F/Library/Frameworks/R.framework/.. -framework R -Wl,-framework -Wl,CoreFoundation
installing to /Library/Frameworks/R.framework/Versions/4.2-arm64/Resources/library/00LOCK-BufferedMatrixMethods/00new/BufferedMatrixMethods/libs
** R
** byte-compile and prepare package for lazy loading
** help
*** installing help indices
** building package indices
** testing if installed package can be loaded from temporary location
** checking absolute paths in shared objects and dynamic libraries
** testing if installed package can be loaded from final location
** testing if installed package keeps a record of temporary installation path
* DONE (BufferedMatrixMethods)