| Back to Multiple platform build/check report for BioC 3.16 |
|
This page was generated on 2022-07-11 11:06:41 -0400 (Mon, 11 Jul 2022).
| Hostname | OS | Arch (*) | R version | Installed pkgs |
|---|---|---|---|---|
| nebbiolo2 | Linux (Ubuntu 20.04.4 LTS) | x86_64 | 4.2.1 (2022-06-23) -- "Funny-Looking Kid" | 4148 |
| lconway | macOS 12.2.1 Monterey | x86_64 | 4.2.0 Patched (2022-05-29 r82424) -- "Vigorous Calisthenics" | 4168 |
| kjohnson | macOS 12.4 Monterey | arm64 | 4.2.1 (2022-06-23) -- "Funny-Looking Kid" | 3545 |
| Click on any hostname to see more info about the system (e.g. compilers) (*) as reported by 'uname -p', except on Windows and Mac OS X | ||||
|
To the developers/maintainers of the BitSeq package: - Please allow up to 24 hours (and sometimes 48 hours) for your latest push to git@git.bioconductor.org:packages/BitSeq.git to reflect on this report. See How and When does the builder pull? When will my changes propagate? for more information. - Make sure to use the following settings in order to reproduce any error or warning you see on this page. |
| Package 205/2130 | Hostname | OS / Arch | INSTALL | BUILD | CHECK | BUILD BIN | ||||||||
| BitSeq 1.41.0 (landing page) Antti Honkela
| nebbiolo2 | Linux (Ubuntu 20.04.4 LTS) / x86_64 | ERROR | ERROR | skipped | |||||||||
| lconway | macOS 12.2.1 Monterey / x86_64 | ERROR | ERROR | skipped | skipped | |||||||||
| kjohnson | macOS 12.4 Monterey / arm64 | ERROR | ERROR | skipped | skipped | |||||||||
| Package: BitSeq |
| Version: 1.41.0 |
| Command: /Library/Frameworks/R.framework/Resources/bin/R CMD build --keep-empty-dirs --no-resave-data BitSeq |
| StartedAt: 2022-07-11 00:40:57 -0400 (Mon, 11 Jul 2022) |
| EndedAt: 2022-07-11 00:42:01 -0400 (Mon, 11 Jul 2022) |
| EllapsedTime: 63.6 seconds |
| RetCode: 1 |
| Status: ERROR |
| PackageFile: None |
| PackageFileSize: NA |
##############################################################################
##############################################################################
###
### Running command:
###
### /Library/Frameworks/R.framework/Resources/bin/R CMD build --keep-empty-dirs --no-resave-data BitSeq
###
##############################################################################
##############################################################################
* checking for file ‘BitSeq/DESCRIPTION’ ... OK
* preparing ‘BitSeq’:
* checking DESCRIPTION meta-information ... OK
* cleaning src
* running ‘cleanup’
* installing the package to build vignettes
-----------------------------------
* installing *source* package ‘BitSeq’ ...
** using staged installation
configure: Version def: -DBS_VERSION=\"1.41.0\"
checking whether the C++ compiler works... yes
checking for C++ compiler default output file name... a.out
checking for suffix of executables...
checking whether we are cross compiling... no
checking for suffix of object files... o
checking whether we are using the GNU C++ compiler... yes
checking whether clang++ -arch arm64 -std=gnu++14 accepts -g... yes
checking for clang++ -arch arm64 -std=gnu++14 option to support OpenMP... unsupported
configure: No Open MP support.
configure: creating ./config.status
config.status: creating src/Makevars
config.status: creating src/Makevars.win
** libs
clang++ -arch arm64 -std=gnu++14 -I"/Library/Frameworks/R.framework/Resources/include" -DNDEBUG -D_FILE_OFFSET_BITS=64 -DPACKAGE_NAME=\"BitSeq\" -DPACKAGE_TARNAME=\"bitseq\" -DPACKAGE_VERSION=\"1.10.x\" -DPACKAGE_STRING=\"BitSeq\ 1.10.x\" -DPACKAGE_BUGREPORT=\"\" -DPACKAGE_URL=\"\" -DBS_VERSION=\"1.41.0\" -DBIOC_BUILD=1 -I'/Library/Frameworks/R.framework/Versions/4.2-arm64/Resources/library/Rhtslib/include' -I/opt/R/arm64/include -I. -fPIC -falign-functions=64 -Wall -g -O2 -c ArgumentParser.cpp -o ArgumentParser.o
clang++ -arch arm64 -std=gnu++14 -I"/Library/Frameworks/R.framework/Resources/include" -DNDEBUG -D_FILE_OFFSET_BITS=64 -DPACKAGE_NAME=\"BitSeq\" -DPACKAGE_TARNAME=\"bitseq\" -DPACKAGE_VERSION=\"1.10.x\" -DPACKAGE_STRING=\"BitSeq\ 1.10.x\" -DPACKAGE_BUGREPORT=\"\" -DPACKAGE_URL=\"\" -DBS_VERSION=\"1.41.0\" -DBIOC_BUILD=1 -I'/Library/Frameworks/R.framework/Versions/4.2-arm64/Resources/library/Rhtslib/include' -I/opt/R/arm64/include -I. -fPIC -falign-functions=64 -Wall -g -O2 -c CollapsedSampler.cpp -o CollapsedSampler.o
clang++ -arch arm64 -std=gnu++14 -I"/Library/Frameworks/R.framework/Resources/include" -DNDEBUG -D_FILE_OFFSET_BITS=64 -DPACKAGE_NAME=\"BitSeq\" -DPACKAGE_TARNAME=\"bitseq\" -DPACKAGE_VERSION=\"1.10.x\" -DPACKAGE_STRING=\"BitSeq\ 1.10.x\" -DPACKAGE_BUGREPORT=\"\" -DPACKAGE_URL=\"\" -DBS_VERSION=\"1.41.0\" -DBIOC_BUILD=1 -I'/Library/Frameworks/R.framework/Versions/4.2-arm64/Resources/library/Rhtslib/include' -I/opt/R/arm64/include -I. -fPIC -falign-functions=64 -Wall -g -O2 -c FileHeader.cpp -o FileHeader.o
clang++ -arch arm64 -std=gnu++14 -I"/Library/Frameworks/R.framework/Resources/include" -DNDEBUG -D_FILE_OFFSET_BITS=64 -DPACKAGE_NAME=\"BitSeq\" -DPACKAGE_TARNAME=\"bitseq\" -DPACKAGE_VERSION=\"1.10.x\" -DPACKAGE_STRING=\"BitSeq\ 1.10.x\" -DPACKAGE_BUGREPORT=\"\" -DPACKAGE_URL=\"\" -DBS_VERSION=\"1.41.0\" -DBIOC_BUILD=1 -I'/Library/Frameworks/R.framework/Versions/4.2-arm64/Resources/library/Rhtslib/include' -I/opt/R/arm64/include -I. -fPIC -falign-functions=64 -Wall -g -O2 -c GibbsParameters.cpp -o GibbsParameters.o
clang++ -arch arm64 -std=gnu++14 -I"/Library/Frameworks/R.framework/Resources/include" -DNDEBUG -D_FILE_OFFSET_BITS=64 -DPACKAGE_NAME=\"BitSeq\" -DPACKAGE_TARNAME=\"bitseq\" -DPACKAGE_VERSION=\"1.10.x\" -DPACKAGE_STRING=\"BitSeq\ 1.10.x\" -DPACKAGE_BUGREPORT=\"\" -DPACKAGE_URL=\"\" -DBS_VERSION=\"1.41.0\" -DBIOC_BUILD=1 -I'/Library/Frameworks/R.framework/Versions/4.2-arm64/Resources/library/Rhtslib/include' -I/opt/R/arm64/include -I. -fPIC -falign-functions=64 -Wall -g -O2 -c GibbsSampler.cpp -o GibbsSampler.o
clang++ -arch arm64 -std=gnu++14 -I"/Library/Frameworks/R.framework/Resources/include" -DNDEBUG -D_FILE_OFFSET_BITS=64 -DPACKAGE_NAME=\"BitSeq\" -DPACKAGE_TARNAME=\"bitseq\" -DPACKAGE_VERSION=\"1.10.x\" -DPACKAGE_STRING=\"BitSeq\ 1.10.x\" -DPACKAGE_BUGREPORT=\"\" -DPACKAGE_URL=\"\" -DBS_VERSION=\"1.41.0\" -DBIOC_BUILD=1 -I'/Library/Frameworks/R.framework/Versions/4.2-arm64/Resources/library/Rhtslib/include' -I/opt/R/arm64/include -I. -fPIC -falign-functions=64 -Wall -g -O2 -c MyTimer.cpp -o MyTimer.o
clang++ -arch arm64 -std=gnu++14 -I"/Library/Frameworks/R.framework/Resources/include" -DNDEBUG -D_FILE_OFFSET_BITS=64 -DPACKAGE_NAME=\"BitSeq\" -DPACKAGE_TARNAME=\"bitseq\" -DPACKAGE_VERSION=\"1.10.x\" -DPACKAGE_STRING=\"BitSeq\ 1.10.x\" -DPACKAGE_BUGREPORT=\"\" -DPACKAGE_URL=\"\" -DBS_VERSION=\"1.41.0\" -DBIOC_BUILD=1 -I'/Library/Frameworks/R.framework/Versions/4.2-arm64/Resources/library/Rhtslib/include' -I/opt/R/arm64/include -I. -fPIC -falign-functions=64 -Wall -g -O2 -c PosteriorSamples.cpp -o PosteriorSamples.o
clang++ -arch arm64 -std=gnu++14 -I"/Library/Frameworks/R.framework/Resources/include" -DNDEBUG -D_FILE_OFFSET_BITS=64 -DPACKAGE_NAME=\"BitSeq\" -DPACKAGE_TARNAME=\"bitseq\" -DPACKAGE_VERSION=\"1.10.x\" -DPACKAGE_STRING=\"BitSeq\ 1.10.x\" -DPACKAGE_BUGREPORT=\"\" -DPACKAGE_URL=\"\" -DBS_VERSION=\"1.41.0\" -DBIOC_BUILD=1 -I'/Library/Frameworks/R.framework/Versions/4.2-arm64/Resources/library/Rhtslib/include' -I/opt/R/arm64/include -I. -fPIC -falign-functions=64 -Wall -g -O2 -c R_init_BitSeq.cpp -o R_init_BitSeq.o
clang++ -arch arm64 -std=gnu++14 -I"/Library/Frameworks/R.framework/Resources/include" -DNDEBUG -D_FILE_OFFSET_BITS=64 -DPACKAGE_NAME=\"BitSeq\" -DPACKAGE_TARNAME=\"bitseq\" -DPACKAGE_VERSION=\"1.10.x\" -DPACKAGE_STRING=\"BitSeq\ 1.10.x\" -DPACKAGE_BUGREPORT=\"\" -DPACKAGE_URL=\"\" -DBS_VERSION=\"1.41.0\" -DBIOC_BUILD=1 -I'/Library/Frameworks/R.framework/Versions/4.2-arm64/Resources/library/Rhtslib/include' -I/opt/R/arm64/include -I. -fPIC -falign-functions=64 -Wall -g -O2 -c ReadDistribution.cpp -o ReadDistribution.o
In file included from ReadDistribution.cpp:7:
./ReadDistribution.h:13:10: fatal error: 'bam.h' file not found
#include "bam.h"
^~~~~~~
1 error generated.
make: *** [ReadDistribution.o] Error 1
ERROR: compilation failed for package ‘BitSeq’
* removing ‘/private/tmp/RtmpfiP7gV/Rinstf98f4fc94fc6/BitSeq’
-----------------------------------
ERROR: package installation failed