| Back to Build/check report for BioC 3.15 experimental data |
|
This page was generated on 2022-10-18 14:50:14 -0400 (Tue, 18 Oct 2022).
| Hostname | OS | Arch (*) | R version | Installed pkgs |
|---|---|---|---|---|
| nebbiolo1 | Linux (Ubuntu 20.04.5 LTS) | x86_64 | 4.2.1 (2022-06-23) -- "Funny-Looking Kid" | 4386 |
| Click on any hostname to see more info about the system (e.g. compilers) (*) as reported by 'uname -p', except on Windows and Mac OS X | ||||
|
To the developers/maintainers of the scanMiRData package: Make sure to use the following settings in order to reproduce any error or warning you see on this page. |
| Package 336/410 | Hostname | OS / Arch | INSTALL | BUILD | CHECK | ||||||||
| scanMiRData 1.2.0 (landing page) Fridolin Gross
| nebbiolo1 | Linux (Ubuntu 20.04.5 LTS) / x86_64 | OK | OK | OK | ||||||||
| Package: scanMiRData |
| Version: 1.2.0 |
| Command: /home/biocbuild/bbs-3.15-bioc/R/bin/R CMD check --install=check:scanMiRData.install-out.txt --library=/home/biocbuild/bbs-3.15-bioc/R/library --no-vignettes --timings scanMiRData_1.2.0.tar.gz |
| StartedAt: 2022-10-18 11:42:43 -0400 (Tue, 18 Oct 2022) |
| EndedAt: 2022-10-18 11:44:02 -0400 (Tue, 18 Oct 2022) |
| EllapsedTime: 79.0 seconds |
| RetCode: 0 |
| Status: OK |
| CheckDir: scanMiRData.Rcheck |
| Warnings: 0 |
##############################################################################
##############################################################################
###
### Running command:
###
### /home/biocbuild/bbs-3.15-bioc/R/bin/R CMD check --install=check:scanMiRData.install-out.txt --library=/home/biocbuild/bbs-3.15-bioc/R/library --no-vignettes --timings scanMiRData_1.2.0.tar.gz
###
##############################################################################
##############################################################################
* using log directory ‘/home/biocbuild/bbs-3.15-data-experiment/meat/scanMiRData.Rcheck’
* using R version 4.2.1 (2022-06-23)
* using platform: x86_64-pc-linux-gnu (64-bit)
* using session charset: UTF-8
* using option ‘--no-vignettes’
* checking for file ‘scanMiRData/DESCRIPTION’ ... OK
* checking extension type ... Package
* this is package ‘scanMiRData’ version ‘1.2.0’
* checking package namespace information ... OK
* checking package dependencies ... OK
* checking if this is a source package ... OK
* checking if there is a namespace ... OK
* checking for hidden files and directories ... OK
* checking for portable file names ... OK
* checking for sufficient/correct file permissions ... OK
* checking whether package ‘scanMiRData’ can be installed ... OK
* checking installed package size ... NOTE
installed size is 16.1Mb
sub-directories of 1Mb or more:
data 16.0Mb
* checking package directory ... OK
* checking ‘build’ directory ... OK
* checking DESCRIPTION meta-information ... OK
* checking top-level files ... OK
* checking for left-over files ... OK
* checking index information ... OK
* checking package subdirectories ... OK
* checking R files for non-ASCII characters ... OK
* checking R files for syntax errors ... OK
* checking whether the package can be loaded ... OK
* checking whether the package can be loaded with stated dependencies ... OK
* checking whether the package can be unloaded cleanly ... OK
* checking whether the namespace can be loaded with stated dependencies ... OK
* checking whether the namespace can be unloaded cleanly ... OK
* checking dependencies in R code ... OK
* checking S3 generic/method consistency ... OK
* checking replacement functions ... OK
* checking foreign function calls ... OK
* checking R code for possible problems ... OK
* checking Rd files ... OK
* checking Rd metadata ... OK
* checking Rd cross-references ... OK
* checking for missing documentation entries ... OK
* checking for code/documentation mismatches ... OK
* checking Rd \usage sections ... OK
* checking Rd contents ... OK
* checking for unstated dependencies in examples ... OK
* checking contents of ‘data’ directory ... OK
* checking data for non-ASCII characters ... OK
* checking data for ASCII and uncompressed saves ... OK
* checking files in ‘vignettes’ ... OK
* checking examples ... OK
* checking for unstated dependencies in vignettes ... OK
* checking package vignettes in ‘inst/doc’ ... OK
* checking running R code from vignettes ... SKIPPED
* checking re-building of vignette outputs ... SKIPPED
* checking PDF version of manual ... OK
* DONE
Status: 1 NOTE
See
‘/home/biocbuild/bbs-3.15-data-experiment/meat/scanMiRData.Rcheck/00check.log’
for details.
scanMiRData.Rcheck/00install.out
############################################################################## ############################################################################## ### ### Running command: ### ### /home/biocbuild/bbs-3.15-bioc/R/bin/R CMD INSTALL scanMiRData ### ############################################################################## ############################################################################## * installing to library ‘/home/biocbuild/bbs-3.15-bioc/R/library’ * installing *source* package ‘scanMiRData’ ... ** using staged installation ** R ** data ** byte-compile and prepare package for lazy loading ** help *** installing help indices ** building package indices ** installing vignettes ** testing if installed package can be loaded from temporary location ** testing if installed package can be loaded from final location ** testing if installed package keeps a record of temporary installation path * DONE (scanMiRData)
scanMiRData.Rcheck/scanMiRData-Ex.timings
| name | user | system | elapsed | |
| getKdModels | 0.242 | 0.013 | 0.254 | |