| Back to Build/check report for BioC 3.15 experimental data |
|
This page was generated on 2022-10-18 14:50:13 -0400 (Tue, 18 Oct 2022).
| Hostname | OS | Arch (*) | R version | Installed pkgs |
|---|---|---|---|---|
| nebbiolo1 | Linux (Ubuntu 20.04.5 LTS) | x86_64 | 4.2.1 (2022-06-23) -- "Funny-Looking Kid" | 4386 |
| Click on any hostname to see more info about the system (e.g. compilers) (*) as reported by 'uname -p', except on Windows and Mac OS X | ||||
|
To the developers/maintainers of the pRolocdata package: Make sure to use the following settings in order to reproduce any error or warning you see on this page. |
| Package 284/410 | Hostname | OS / Arch | INSTALL | BUILD | CHECK | ||||||||
| pRolocdata 1.34.0 (landing page) Laurent Gatto
| nebbiolo1 | Linux (Ubuntu 20.04.5 LTS) / x86_64 | OK | OK | OK | ||||||||
| Package: pRolocdata |
| Version: 1.34.0 |
| Command: /home/biocbuild/bbs-3.15-bioc/R/bin/R CMD check --install=check:pRolocdata.install-out.txt --library=/home/biocbuild/bbs-3.15-bioc/R/library --no-vignettes --timings pRolocdata_1.34.0.tar.gz |
| StartedAt: 2022-10-18 11:36:50 -0400 (Tue, 18 Oct 2022) |
| EndedAt: 2022-10-18 11:41:45 -0400 (Tue, 18 Oct 2022) |
| EllapsedTime: 295.5 seconds |
| RetCode: 0 |
| Status: OK |
| CheckDir: pRolocdata.Rcheck |
| Warnings: 0 |
##############################################################################
##############################################################################
###
### Running command:
###
### /home/biocbuild/bbs-3.15-bioc/R/bin/R CMD check --install=check:pRolocdata.install-out.txt --library=/home/biocbuild/bbs-3.15-bioc/R/library --no-vignettes --timings pRolocdata_1.34.0.tar.gz
###
##############################################################################
##############################################################################
* using log directory ‘/home/biocbuild/bbs-3.15-data-experiment/meat/pRolocdata.Rcheck’
* using R version 4.2.1 (2022-06-23)
* using platform: x86_64-pc-linux-gnu (64-bit)
* using session charset: UTF-8
* using option ‘--no-vignettes’
* checking for file ‘pRolocdata/DESCRIPTION’ ... OK
* checking extension type ... Package
* this is package ‘pRolocdata’ version ‘1.34.0’
* package encoding: UTF-8
* checking package namespace information ... OK
* checking package dependencies ... OK
* checking if this is a source package ... OK
* checking if there is a namespace ... OK
* checking for hidden files and directories ... OK
* checking for portable file names ... OK
* checking for sufficient/correct file permissions ... OK
* checking whether package ‘pRolocdata’ can be installed ... OK
* checking installed package size ... NOTE
installed size is 534.2Mb
sub-directories of 1Mb or more:
data 181.9Mb
extdata 351.9Mb
* checking package directory ... OK
* checking DESCRIPTION meta-information ... OK
* checking top-level files ... OK
* checking for left-over files ... OK
* checking index information ... OK
* checking package subdirectories ... OK
* checking R files for non-ASCII characters ... OK
* checking R files for syntax errors ... OK
* checking whether the package can be loaded ... OK
* checking whether the package can be loaded with stated dependencies ... OK
* checking whether the package can be unloaded cleanly ... OK
* checking whether the namespace can be loaded with stated dependencies ... OK
* checking whether the namespace can be unloaded cleanly ... OK
* checking dependencies in R code ... OK
* checking S3 generic/method consistency ... OK
* checking replacement functions ... OK
* checking foreign function calls ... OK
* checking R code for possible problems ... OK
* checking Rd files ... OK
* checking Rd metadata ... OK
* checking Rd cross-references ... OK
* checking for missing documentation entries ... OK
* checking for code/documentation mismatches ... OK
* checking Rd \usage sections ... OK
* checking Rd contents ... OK
* checking for unstated dependencies in examples ... OK
* checking contents of ‘data’ directory ... OK
* checking data for non-ASCII characters ... NOTE
Note: found 22 marked UTF-8 strings
* checking data for ASCII and uncompressed saves ... OK
* checking examples ... OK
Examples with CPU (user + system) or elapsed time > 5s
user system elapsed
thpLOPIT2021 10.369 0.185 10.557
krahmer2018pcp 8.968 0.404 9.372
Shin2020 4.979 0.310 5.381
* checking for unstated dependencies in ‘tests’ ... OK
* checking tests ...
Running ‘testthat.R’
OK
* checking PDF version of manual ... OK
* DONE
Status: 2 NOTEs
See
‘/home/biocbuild/bbs-3.15-data-experiment/meat/pRolocdata.Rcheck/00check.log’
for details.
pRolocdata.Rcheck/00install.out
############################################################################## ############################################################################## ### ### Running command: ### ### /home/biocbuild/bbs-3.15-bioc/R/bin/R CMD INSTALL pRolocdata ### ############################################################################## ############################################################################## * installing to library ‘/home/biocbuild/bbs-3.15-bioc/R/library’ * installing *source* package ‘pRolocdata’ ... ** using staged installation ** R ** data ** inst ** byte-compile and prepare package for lazy loading ** help *** installing help indices ** building package indices ** testing if installed package can be loaded from temporary location ** testing if installed package can be loaded from final location ** testing if installed package keeps a record of temporary installation path * DONE (pRolocdata)
pRolocdata.Rcheck/tests/testthat.Rout
R version 4.2.1 (2022-06-23) -- "Funny-Looking Kid"
Copyright (C) 2022 The R Foundation for Statistical Computing
Platform: x86_64-pc-linux-gnu (64-bit)
R is free software and comes with ABSOLUTELY NO WARRANTY.
You are welcome to redistribute it under certain conditions.
Type 'license()' or 'licence()' for distribution details.
R is a collaborative project with many contributors.
Type 'contributors()' for more information and
'citation()' on how to cite R or R packages in publications.
Type 'demo()' for some demos, 'help()' for on-line help, or
'help.start()' for an HTML browser interface to help.
Type 'q()' to quit R.
> # setting R_TESTS to empty string because of
> # https://github.com/hadley/testthat/issues/144
> # revert this when that issue in R is fixed.
> Sys.setenv("R_TESTS" = "")
> library(testthat)
> library(MSnbase)
Loading required package: BiocGenerics
Attaching package: 'BiocGenerics'
The following objects are masked from 'package:stats':
IQR, mad, sd, var, xtabs
The following objects are masked from 'package:base':
Filter, Find, Map, Position, Reduce, anyDuplicated, append,
as.data.frame, basename, cbind, colnames, dirname, do.call,
duplicated, eval, evalq, get, grep, grepl, intersect, is.unsorted,
lapply, mapply, match, mget, order, paste, pmax, pmax.int, pmin,
pmin.int, rank, rbind, rownames, sapply, setdiff, sort, table,
tapply, union, unique, unsplit, which.max, which.min
Loading required package: Biobase
Welcome to Bioconductor
Vignettes contain introductory material; view with
'browseVignettes()'. To cite Bioconductor, see
'citation("Biobase")', and for packages 'citation("pkgname")'.
Loading required package: mzR
Loading required package: Rcpp
Loading required package: S4Vectors
Loading required package: stats4
Attaching package: 'S4Vectors'
The following objects are masked from 'package:base':
I, expand.grid, unname
Loading required package: ProtGenerics
Attaching package: 'ProtGenerics'
The following object is masked from 'package:stats':
smooth
This is MSnbase version 2.22.0
Visit https://lgatto.github.io/MSnbase/ to get started.
Attaching package: 'MSnbase'
The following object is masked from 'package:base':
trimws
> library(pRolocdata)
This is pRolocdata version 1.34.0.
Use 'pRolocdata()' to list available data sets.
>
> test_check("pRolocdata")
[ FAIL 0 | WARN 0 | SKIP 0 | PASS 140 ]
>
> proc.time()
user system elapsed
32.844 1.309 34.142
pRolocdata.Rcheck/pRolocdata-Ex.timings
| name | user | system | elapsed | |
| E14TG2a | 0.039 | 0.000 | 0.039 | |
| Shin2020 | 4.979 | 0.310 | 5.381 | |
| ToxoLopit | 0.462 | 0.036 | 0.498 | |
| andreyev2010 | 0.523 | 0.028 | 0.551 | |
| andy2011 | 0.065 | 0.005 | 0.070 | |
| at_chloro | 0.063 | 0.018 | 0.081 | |
| baers2018 | 0.872 | 0.052 | 0.924 | |
| beltran2016 | 0.472 | 0.020 | 0.492 | |
| courtland2020 | 0.495 | 0.016 | 0.510 | |
| davies2018 | 0.280 | 0.004 | 0.284 | |
| dunkley2006 | 0.010 | 0.000 | 0.011 | |
| fabre2015 | 0.228 | 0.008 | 0.235 | |
| foster2006 | 0.024 | 0.002 | 0.025 | |
| groen2014 | 0.774 | 0.084 | 0.857 | |
| hall2009 | 0.137 | 0.004 | 0.141 | |
| havugimana2012 | 0.111 | 0.024 | 0.135 | |
| hirst2018 | 0.954 | 0.072 | 1.026 | |
| hyperLOPIT2015 | 3.871 | 0.180 | 4.052 | |
| hyperLOPITU2OS2017 | 1.893 | 0.121 | 2.014 | |
| itzhak2016 | 0.476 | 0.025 | 0.502 | |
| itzhak2017 | 1.405 | 0.048 | 1.453 | |
| itzhak2017dynamic | 1.054 | 0.028 | 1.082 | |
| kirkwood2013 | 0.032 | 0.004 | 0.036 | |
| kozik2020 | 0.191 | 0.004 | 0.195 | |
| krahmer2018pcp | 8.968 | 0.404 | 9.372 | |
| kristensen2012 | 0.021 | 0.000 | 0.021 | |
| lopimsSyn2 | 0.547 | 0.016 | 0.562 | |
| mulvey2015 | 1.883 | 0.048 | 1.930 | |
| nikolovski2012 | 0.260 | 0.016 | 0.276 | |
| nikolovski2014 | 0.321 | 0.008 | 0.329 | |
| orre2019 | 0.364 | 0.012 | 0.376 | |
| pRolocdata | 0.003 | 0.016 | 0.018 | |
| pRolocmetadata | 0.015 | 0.000 | 0.015 | |
| rodriguez2012r1 | 0.568 | 0.044 | 0.612 | |
| stekhoven2014 | 0.178 | 0.008 | 0.185 | |
| tan2009 | 0.012 | 0.002 | 0.014 | |
| thpLOPIT2021 | 10.369 | 0.185 | 10.557 | |
| thpTimecourse2021 | 0.123 | 0.001 | 0.124 | |
| trotter2010 | 0.361 | 0.018 | 0.379 | |
| yeast | 0.323 | 0.020 | 0.347 | |