| Back to Build/check report for BioC 3.15 experimental data |
|
This page was generated on 2022-10-18 14:50:12 -0400 (Tue, 18 Oct 2022).
| Hostname | OS | Arch (*) | R version | Installed pkgs |
|---|---|---|---|---|
| nebbiolo1 | Linux (Ubuntu 20.04.5 LTS) | x86_64 | 4.2.1 (2022-06-23) -- "Funny-Looking Kid" | 4386 |
| Click on any hostname to see more info about the system (e.g. compilers) (*) as reported by 'uname -p', except on Windows and Mac OS X | ||||
|
To the developers/maintainers of the imcdatasets package: Make sure to use the following settings in order to reproduce any error or warning you see on this page. |
| Package 189/410 | Hostname | OS / Arch | INSTALL | BUILD | CHECK | ||||||||
| imcdatasets 1.4.1 (landing page) Nicolas Damond
| nebbiolo1 | Linux (Ubuntu 20.04.5 LTS) / x86_64 | ERROR | ERROR | skipped | ||||||||
| Package: imcdatasets |
| Version: 1.4.1 |
| Command: /home/biocbuild/bbs-3.15-bioc/R/bin/R CMD INSTALL imcdatasets |
| StartedAt: 2022-10-18 10:07:35 -0400 (Tue, 18 Oct 2022) |
| EndedAt: 2022-10-18 10:08:02 -0400 (Tue, 18 Oct 2022) |
| EllapsedTime: 26.9 seconds |
| RetCode: 1 |
| Status: ERROR |
##############################################################################
##############################################################################
###
### Running command:
###
### /home/biocbuild/bbs-3.15-bioc/R/bin/R CMD INSTALL imcdatasets
###
##############################################################################
##############################################################################
* installing to library ‘/home/biocbuild/bbs-3.15-bioc/R/library’
* installing *source* package ‘imcdatasets’ ...
** using staged installation
** R
** inst
** byte-compile and prepare package for lazy loading
** help
*** installing help indices
** building package indices
** installing vignettes
** testing if installed package can be loaded from temporary location
Warning: The .onLoad functions will be deprecated, please use the wrapper
functions instead (e.g. 'JacksonFischer2020Data(data_type = 'sce')'
rather than 'JacksonFischer2020_sce()'
snapshotDate(): 2022-04-26
Error: package or namespace load failed for ‘imcdatasets’:
.onLoad failed in loadNamespace() for 'imcdatasets', details:
call: FUN(X[[i]], ...)
error: ‘DamondPancreas2019_sce’ not found in ExperimentHub
Error: loading failed
Execution halted
ERROR: loading failed
* removing ‘/home/biocbuild/bbs-3.15-bioc/R/library/imcdatasets’
* restoring previous ‘/home/biocbuild/bbs-3.15-bioc/R/library/imcdatasets’