| Back to Build/check report for BioC 3.15 experimental data |
|
This page was generated on 2022-10-18 14:50:12 -0400 (Tue, 18 Oct 2022).
| Hostname | OS | Arch (*) | R version | Installed pkgs |
|---|---|---|---|---|
| nebbiolo1 | Linux (Ubuntu 20.04.5 LTS) | x86_64 | 4.2.1 (2022-06-23) -- "Funny-Looking Kid" | 4386 |
| Click on any hostname to see more info about the system (e.g. compilers) (*) as reported by 'uname -p', except on Windows and Mac OS X | ||||
|
To the developers/maintainers of the ewceData package: Make sure to use the following settings in order to reproduce any error or warning you see on this page. |
| Package 115/410 | Hostname | OS / Arch | INSTALL | BUILD | CHECK | ||||||||
| ewceData 1.4.0 (landing page) Alan Murphy
| nebbiolo1 | Linux (Ubuntu 20.04.5 LTS) / x86_64 | OK | OK | OK | ||||||||
| Package: ewceData |
| Version: 1.4.0 |
| Command: /home/biocbuild/bbs-3.15-bioc/R/bin/R CMD check --install=check:ewceData.install-out.txt --library=/home/biocbuild/bbs-3.15-bioc/R/library --no-vignettes --timings ewceData_1.4.0.tar.gz |
| StartedAt: 2022-10-18 11:20:33 -0400 (Tue, 18 Oct 2022) |
| EndedAt: 2022-10-18 11:22:14 -0400 (Tue, 18 Oct 2022) |
| EllapsedTime: 100.9 seconds |
| RetCode: 0 |
| Status: OK |
| CheckDir: ewceData.Rcheck |
| Warnings: 0 |
############################################################################## ############################################################################## ### ### Running command: ### ### /home/biocbuild/bbs-3.15-bioc/R/bin/R CMD check --install=check:ewceData.install-out.txt --library=/home/biocbuild/bbs-3.15-bioc/R/library --no-vignettes --timings ewceData_1.4.0.tar.gz ### ############################################################################## ############################################################################## * using log directory ‘/home/biocbuild/bbs-3.15-data-experiment/meat/ewceData.Rcheck’ * using R version 4.2.1 (2022-06-23) * using platform: x86_64-pc-linux-gnu (64-bit) * using session charset: UTF-8 * using option ‘--no-vignettes’ * checking for file ‘ewceData/DESCRIPTION’ ... OK * this is package ‘ewceData’ version ‘1.4.0’ * package encoding: UTF-8 * checking package namespace information ... OK * checking package dependencies ... OK * checking if this is a source package ... OK * checking if there is a namespace ... OK * checking for hidden files and directories ... OK * checking for portable file names ... OK * checking for sufficient/correct file permissions ... OK * checking whether package ‘ewceData’ can be installed ... OK * checking installed package size ... OK * checking package directory ... OK * checking ‘build’ directory ... OK * checking DESCRIPTION meta-information ... OK * checking top-level files ... OK * checking for left-over files ... OK * checking index information ... OK * checking package subdirectories ... OK * checking R files for non-ASCII characters ... OK * checking R files for syntax errors ... OK * checking whether the package can be loaded ... OK * checking whether the package can be loaded with stated dependencies ... OK * checking whether the package can be unloaded cleanly ... OK * checking whether the namespace can be loaded with stated dependencies ... OK * checking whether the namespace can be unloaded cleanly ... OK * checking dependencies in R code ... OK * checking S3 generic/method consistency ... OK * checking replacement functions ... OK * checking foreign function calls ... OK * checking R code for possible problems ... OK * checking Rd files ... OK * checking Rd metadata ... OK * checking Rd cross-references ... OK * checking for missing documentation entries ... OK * checking for code/documentation mismatches ... OK * checking Rd \usage sections ... OK * checking Rd contents ... OK * checking for unstated dependencies in examples ... OK * checking files in ‘vignettes’ ... OK * checking examples ... OK * checking for unstated dependencies in vignettes ... OK * checking package vignettes in ‘inst/doc’ ... OK * checking running R code from vignettes ... SKIPPED * checking re-building of vignette outputs ... SKIPPED * checking PDF version of manual ... OK * DONE Status: OK
ewceData.Rcheck/00install.out
############################################################################## ############################################################################## ### ### Running command: ### ### /home/biocbuild/bbs-3.15-bioc/R/bin/R CMD INSTALL ewceData ### ############################################################################## ############################################################################## * installing to library ‘/home/biocbuild/bbs-3.15-bioc/R/library’ * installing *source* package ‘ewceData’ ... ** using staged installation ** R ** inst ** byte-compile and prepare package for lazy loading ** help *** installing help indices ** building package indices ** installing vignettes ** testing if installed package can be loaded from temporary location ** testing if installed package can be loaded from final location ** testing if installed package keeps a record of temporary installation path * DONE (ewceData)
ewceData.Rcheck/ewceData-Ex.timings
| name | user | system | elapsed | |
| all_hgnc | 2.056 | 0.257 | 3.339 | |
| all_hgnc_wtEnsembl | 0.641 | 0.100 | 0.926 | |
| all_mgi | 0.718 | 0.068 | 0.976 | |
| all_mgi_wtEnsembl | 0.760 | 0.196 | 1.144 | |
| alzh_gwas_top100 | 0.000 | 0.001 | 0.001 | |
| cortex_mrna | 2.336 | 0.546 | 3.076 | |
| ctd | 2.654 | 0.138 | 2.974 | |
| ensembl_transcript_lengths_GCcontent | 0.909 | 0.048 | 1.158 | |
| ewceData-Package | 0.582 | 0.043 | 0.721 | |
| example_genelist | 0.652 | 0.036 | 0.876 | |
| hpsd_genes | 0.965 | 0.080 | 1.233 | |
| hypothalamus_mrna | 0.817 | 0.076 | 1.103 | |
| id_genes | 0.634 | 0.036 | 0.887 | |
| mgi_synonym_data | 0.910 | 0.048 | 1.155 | |
| mouse_to_human_homologs | 0.613 | 0.060 | 0.970 | |
| rbfox_genes | 0.638 | 0.056 | 0.840 | |
| schiz_genes | 0.618 | 0.028 | 0.852 | |
| tt_alzh | 0.931 | 0.772 | 1.930 | |
| tt_alzh_BA36 | 0.730 | 0.072 | 0.997 | |
| tt_alzh_BA44 | 0.656 | 0.056 | 0.899 | |