| Back to Build/check report for BioC 3.15 experimental data |
|
This page was generated on 2022-10-18 14:50:11 -0400 (Tue, 18 Oct 2022).
| Hostname | OS | Arch (*) | R version | Installed pkgs |
|---|---|---|---|---|
| nebbiolo1 | Linux (Ubuntu 20.04.5 LTS) | x86_64 | 4.2.1 (2022-06-23) -- "Funny-Looking Kid" | 4386 |
| Click on any hostname to see more info about the system (e.g. compilers) (*) as reported by 'uname -p', except on Windows and Mac OS X | ||||
|
To the developers/maintainers of the brgedata package: Make sure to use the following settings in order to reproduce any error or warning you see on this page. |
| Package 41/410 | Hostname | OS / Arch | INSTALL | BUILD | CHECK | ||||||||
| brgedata 1.18.0 (landing page) Dolors Pelegri-Siso
| nebbiolo1 | Linux (Ubuntu 20.04.5 LTS) / x86_64 | OK | OK | WARNINGS | ||||||||
| Package: brgedata |
| Version: 1.18.0 |
| Command: /home/biocbuild/bbs-3.15-bioc/R/bin/R CMD build --keep-empty-dirs --no-resave-data brgedata |
| StartedAt: 2022-10-18 10:12:41 -0400 (Tue, 18 Oct 2022) |
| EndedAt: 2022-10-18 10:16:03 -0400 (Tue, 18 Oct 2022) |
| EllapsedTime: 202.0 seconds |
| RetCode: 0 |
| Status: OK |
| PackageFile: brgedata_1.18.0.tar.gz |
| PackageFileSize: 297 MiB |
##############################################################################
##############################################################################
###
### Running command:
###
### /home/biocbuild/bbs-3.15-bioc/R/bin/R CMD build --keep-empty-dirs --no-resave-data brgedata
###
##############################################################################
##############################################################################
* checking for file ‘brgedata/DESCRIPTION’ ... OK
* preparing ‘brgedata’:
* checking DESCRIPTION meta-information ... OK
* installing the package to build vignettes
* creating vignettes ... OK
* checking for LF line-endings in source and make files and shell scripts
* checking for empty or unneeded directories
NB: this package now depends on R (>= 3.5.0)
WARNING: Added dependency on R >= 3.5.0 because serialized objects in
serialize/load version 3 cannot be read in older versions of R.
File(s) containing such objects:
‘brgedata/data/brge_expo.rda’ ‘brgedata/data/brge_gexp.rda’
* building ‘brgedata_1.18.0.tar.gz’