| Back to Build/check report for BioC 3.15 experimental data |
|
This page was generated on 2022-10-18 14:50:14 -0400 (Tue, 18 Oct 2022).
| Hostname | OS | Arch (*) | R version | Installed pkgs |
|---|---|---|---|---|
| nebbiolo1 | Linux (Ubuntu 20.04.5 LTS) | x86_64 | 4.2.1 (2022-06-23) -- "Funny-Looking Kid" | 4386 |
| Click on any hostname to see more info about the system (e.g. compilers) (*) as reported by 'uname -p', except on Windows and Mac OS X | ||||
|
To the developers/maintainers of the WES.1KG.WUGSC package: Make sure to use the following settings in order to reproduce any error or warning you see on this page. |
| Package 401/410 | Hostname | OS / Arch | INSTALL | BUILD | CHECK | ||||||||
| WES.1KG.WUGSC 1.28.0 (landing page) Yuchao Jiang
| nebbiolo1 | Linux (Ubuntu 20.04.5 LTS) / x86_64 | OK | OK | OK | ||||||||
| Package: WES.1KG.WUGSC |
| Version: 1.28.0 |
| Command: /home/biocbuild/bbs-3.15-bioc/R/bin/R CMD build --keep-empty-dirs --no-resave-data WES.1KG.WUGSC |
| StartedAt: 2022-10-18 10:44:46 -0400 (Tue, 18 Oct 2022) |
| EndedAt: 2022-10-18 10:45:09 -0400 (Tue, 18 Oct 2022) |
| EllapsedTime: 23.6 seconds |
| RetCode: 0 |
| Status: OK |
| PackageFile: WES.1KG.WUGSC_1.28.0.tar.gz |
| PackageFileSize: 373.2 MiB |
############################################################################## ############################################################################## ### ### Running command: ### ### /home/biocbuild/bbs-3.15-bioc/R/bin/R CMD build --keep-empty-dirs --no-resave-data WES.1KG.WUGSC ### ############################################################################## ############################################################################## * checking for file ‘WES.1KG.WUGSC/DESCRIPTION’ ... OK * preparing ‘WES.1KG.WUGSC’: * checking DESCRIPTION meta-information ... OK * installing the package to build vignettes * creating vignettes ... OK * checking for LF line-endings in source and make files and shell scripts * checking for empty or unneeded directories * building ‘WES.1KG.WUGSC_1.28.0.tar.gz’