| Back to Build/check report for BioC 3.15 experimental data | 
 | 
This page was generated on 2022-10-18 14:50:14 -0400 (Tue, 18 Oct 2022).
| Hostname | OS | Arch (*) | R version | Installed pkgs | 
|---|---|---|---|---|
| nebbiolo1 | Linux (Ubuntu 20.04.5 LTS) | x86_64 | 4.2.1 (2022-06-23) -- "Funny-Looking Kid" | 4386 | 
| Click on any hostname to see more info about the system (e.g. compilers) (*) as reported by 'uname -p', except on Windows and Mac OS X | ||||
| To the developers/maintainers of the VariantToolsData package: Make sure to use the following settings in order to reproduce any error or warning you see on this page. | 
| Package 398/410 | Hostname | OS / Arch | INSTALL | BUILD | CHECK | ||||||||
| VariantToolsData 1.20.0  (landing page) Michael Lawrence 
 | nebbiolo1 | Linux (Ubuntu 20.04.5 LTS) / x86_64 | OK | OK | OK |  | |||||||
| Package: VariantToolsData | 
| Version: 1.20.0 | 
| Command: /home/biocbuild/bbs-3.15-bioc/R/bin/R CMD build --keep-empty-dirs --no-resave-data VariantToolsData | 
| StartedAt: 2022-10-18 10:44:32 -0400 (Tue, 18 Oct 2022) | 
| EndedAt: 2022-10-18 10:45:17 -0400 (Tue, 18 Oct 2022) | 
| EllapsedTime: 45.1 seconds | 
| RetCode: 0 | 
| Status: OK | 
| PackageFile: VariantToolsData_1.20.0.tar.gz | 
| PackageFileSize: 200.7 MiB | 
##############################################################################
##############################################################################
###
### Running command:
###
###   /home/biocbuild/bbs-3.15-bioc/R/bin/R CMD build --keep-empty-dirs --no-resave-data VariantToolsData
###
##############################################################################
##############################################################################
* checking for file ‘VariantToolsData/DESCRIPTION’ ... OK
* preparing ‘VariantToolsData’:
* checking DESCRIPTION meta-information ... OK
* installing the package to build vignettes
* creating vignettes ... OK
* checking for LF line-endings in source and make files and shell scripts
* checking for empty or unneeded directories
* looking to see if a ‘data/datalist’ file should be added
  NB: this package now depends on R (>= 3.5.0)
  WARNING: Added dependency on R >= 3.5.0 because serialized objects in
  serialize/load version 3 cannot be read in older versions of R.
  File(s) containing such objects:
    ‘VariantToolsData/data/geno.rda’ ‘VariantToolsData/data/repeats.rda’
    ‘VariantToolsData/data/tallies.rda’
* building ‘VariantToolsData_1.20.0.tar.gz’