| Back to Build/check report for BioC 3.15 experimental data | 
 | 
This page was generated on 2022-10-18 14:50:14 -0400 (Tue, 18 Oct 2022).
| Hostname | OS | Arch (*) | R version | Installed pkgs | 
|---|---|---|---|---|
| nebbiolo1 | Linux (Ubuntu 20.04.5 LTS) | x86_64 | 4.2.1 (2022-06-23) -- "Funny-Looking Kid" | 4386 | 
| Click on any hostname to see more info about the system (e.g. compilers) (*) as reported by 'uname -p', except on Windows and Mac OS X | ||||
| To the developers/maintainers of the SimBenchData package: Make sure to use the following settings in order to reproduce any error or warning you see on this page. | 
| Package 351/410 | Hostname | OS / Arch | INSTALL | BUILD | CHECK | ||||||||
| SimBenchData 1.4.0  (landing page) Yue Cao 
 | nebbiolo1 | Linux (Ubuntu 20.04.5 LTS) / x86_64 | OK | OK | OK |  | |||||||
| Package: SimBenchData | 
| Version: 1.4.0 | 
| Command: /home/biocbuild/bbs-3.15-bioc/R/bin/R CMD build --keep-empty-dirs --no-resave-data SimBenchData | 
| StartedAt: 2022-10-18 10:40:26 -0400 (Tue, 18 Oct 2022) | 
| EndedAt: 2022-10-18 10:40:44 -0400 (Tue, 18 Oct 2022) | 
| EllapsedTime: 17.8 seconds | 
| RetCode: 0 | 
| Status: OK | 
| PackageFile: SimBenchData_1.4.0.tar.gz | 
| PackageFileSize: 236.1 KiB | 
############################################################################## ############################################################################## ### ### Running command: ### ### /home/biocbuild/bbs-3.15-bioc/R/bin/R CMD build --keep-empty-dirs --no-resave-data SimBenchData ### ############################################################################## ############################################################################## * checking for file ‘SimBenchData/DESCRIPTION’ ... OK * preparing ‘SimBenchData’: * checking DESCRIPTION meta-information ... OK * installing the package to build vignettes * creating vignettes ... OK * checking for LF line-endings in source and make files and shell scripts * checking for empty or unneeded directories Omitted ‘LazyData’ from DESCRIPTION * building ‘SimBenchData_1.4.0.tar.gz’