| Back to Build/check report for BioC 3.15 experimental data | 
 | 
This page was generated on 2022-10-18 14:50:14 -0400 (Tue, 18 Oct 2022).
| Hostname | OS | Arch (*) | R version | Installed pkgs | 
|---|---|---|---|---|
| nebbiolo1 | Linux (Ubuntu 20.04.5 LTS) | x86_64 | 4.2.1 (2022-06-23) -- "Funny-Looking Kid" | 4386 | 
| Click on any hostname to see more info about the system (e.g. compilers) (*) as reported by 'uname -p', except on Windows and Mac OS X | ||||
| To the developers/maintainers of the RTCGA.miRNASeq package: Make sure to use the following settings in order to reproduce any error or warning you see on this page. | 
| Package 327/410 | Hostname | OS / Arch | INSTALL | BUILD | CHECK | ||||||||
| RTCGA.miRNASeq 1.24.0  (landing page) Marcin Kosinski 
 | nebbiolo1 | Linux (Ubuntu 20.04.5 LTS) / x86_64 | OK | OK | WARNINGS |  | |||||||
| Package: RTCGA.miRNASeq | 
| Version: 1.24.0 | 
| Command: /home/biocbuild/bbs-3.15-bioc/R/bin/R CMD build --keep-empty-dirs --no-resave-data RTCGA.miRNASeq | 
| StartedAt: 2022-10-18 10:37:36 -0400 (Tue, 18 Oct 2022) | 
| EndedAt: 2022-10-18 10:39:23 -0400 (Tue, 18 Oct 2022) | 
| EllapsedTime: 107.6 seconds | 
| RetCode: 0 | 
| Status: OK | 
| PackageFile: RTCGA.miRNASeq_1.24.0.tar.gz | 
| PackageFileSize: 45.24 MiB | 
############################################################################## ############################################################################## ### ### Running command: ### ### /home/biocbuild/bbs-3.15-bioc/R/bin/R CMD build --keep-empty-dirs --no-resave-data RTCGA.miRNASeq ### ############################################################################## ############################################################################## * checking for file ‘RTCGA.miRNASeq/DESCRIPTION’ ... OK * preparing ‘RTCGA.miRNASeq’: * checking DESCRIPTION meta-information ... OK * installing the package to build vignettes * creating vignettes ... OK * checking for LF line-endings in source and make files and shell scripts * checking for empty or unneeded directories * building ‘RTCGA.miRNASeq_1.24.0.tar.gz’