| Back to Build/check report for BioC 3.15 experimental data | 
 | 
This page was generated on 2022-10-18 14:50:13 -0400 (Tue, 18 Oct 2022).
| Hostname | OS | Arch (*) | R version | Installed pkgs | 
|---|---|---|---|---|
| nebbiolo1 | Linux (Ubuntu 20.04.5 LTS) | x86_64 | 4.2.1 (2022-06-23) -- "Funny-Looking Kid" | 4386 | 
| Click on any hostname to see more info about the system (e.g. compilers) (*) as reported by 'uname -p', except on Windows and Mac OS X | ||||
| To the developers/maintainers of the NestLink package: Make sure to use the following settings in order to reproduce any error or warning you see on this page. | 
| Package 256/410 | Hostname | OS / Arch | INSTALL | BUILD | CHECK | ||||||||
| NestLink 1.12.0  (landing page) Lennart Opitz 
 | nebbiolo1 | Linux (Ubuntu 20.04.5 LTS) / x86_64 | OK | OK | OK |  | |||||||
| Package: NestLink | 
| Version: 1.12.0 | 
| Command: /home/biocbuild/bbs-3.15-bioc/R/bin/R CMD INSTALL NestLink | 
| StartedAt: 2022-10-18 10:09:40 -0400 (Tue, 18 Oct 2022) | 
| EndedAt: 2022-10-18 10:10:05 -0400 (Tue, 18 Oct 2022) | 
| EllapsedTime: 25.5 seconds | 
| RetCode: 0 | 
| Status: OK | 
############################################################################## ############################################################################## ### ### Running command: ### ### /home/biocbuild/bbs-3.15-bioc/R/bin/R CMD INSTALL NestLink ### ############################################################################## ############################################################################## * installing to library ‘/home/biocbuild/bbs-3.15-bioc/R/library’ * installing *source* package ‘NestLink’ ... ** using staged installation ** R ** exec ** inst ** byte-compile and prepare package for lazy loading ** help *** installing help indices ** building package indices ** installing vignettes ** testing if installed package can be loaded from temporary location ** testing if installed package can be loaded from final location ** testing if installed package keeps a record of temporary installation path * DONE (NestLink)