| Back to Build/check report for BioC 3.15 experimental data | 
 | 
This page was generated on 2022-10-18 14:50:13 -0400 (Tue, 18 Oct 2022).
| Hostname | OS | Arch (*) | R version | Installed pkgs | 
|---|---|---|---|---|
| nebbiolo1 | Linux (Ubuntu 20.04.5 LTS) | x86_64 | 4.2.1 (2022-06-23) -- "Funny-Looking Kid" | 4386 | 
| Click on any hostname to see more info about the system (e.g. compilers) (*) as reported by 'uname -p', except on Windows and Mac OS X | ||||
| To the developers/maintainers of the MUGAExampleData package: Make sure to use the following settings in order to reproduce any error or warning you see on this page. | 
| Package 250/410 | Hostname | OS / Arch | INSTALL | BUILD | CHECK | ||||||||
| MUGAExampleData 1.16.0  (landing page) Daniel Gatti 
 | nebbiolo1 | Linux (Ubuntu 20.04.5 LTS) / x86_64 | OK | OK | OK |  | |||||||
| Package: MUGAExampleData | 
| Version: 1.16.0 | 
| Command: /home/biocbuild/bbs-3.15-bioc/R/bin/R CMD build --keep-empty-dirs --no-resave-data MUGAExampleData | 
| StartedAt: 2022-10-18 10:32:54 -0400 (Tue, 18 Oct 2022) | 
| EndedAt: 2022-10-18 10:33:04 -0400 (Tue, 18 Oct 2022) | 
| EllapsedTime: 9.6 seconds | 
| RetCode: 0 | 
| Status: OK | 
| PackageFile: MUGAExampleData_1.16.0.tar.gz | 
| PackageFileSize: 88.54 MiB | 
############################################################################## ############################################################################## ### ### Running command: ### ### /home/biocbuild/bbs-3.15-bioc/R/bin/R CMD build --keep-empty-dirs --no-resave-data MUGAExampleData ### ############################################################################## ############################################################################## * checking for file ‘MUGAExampleData/DESCRIPTION’ ... OK * preparing ‘MUGAExampleData’: * checking DESCRIPTION meta-information ... OK * installing the package to build vignettes * creating vignettes ... OK * checking for LF line-endings in source and make files and shell scripts * checking for empty or unneeded directories * looking to see if a ‘data/datalist’ file should be added * building ‘MUGAExampleData_1.16.0.tar.gz’