| Back to Build/check report for BioC 3.15 experimental data |
|
This page was generated on 2022-10-18 14:50:12 -0400 (Tue, 18 Oct 2022).
| Hostname | OS | Arch (*) | R version | Installed pkgs |
|---|---|---|---|---|
| nebbiolo1 | Linux (Ubuntu 20.04.5 LTS) | x86_64 | 4.2.1 (2022-06-23) -- "Funny-Looking Kid" | 4386 |
| Click on any hostname to see more info about the system (e.g. compilers) (*) as reported by 'uname -p', except on Windows and Mac OS X | ||||
|
To the developers/maintainers of the KEGGdzPathwaysGEO package: Make sure to use the following settings in order to reproduce any error or warning you see on this page. |
| Package 195/410 | Hostname | OS / Arch | INSTALL | BUILD | CHECK | ||||||||
| KEGGdzPathwaysGEO 1.34.0 (landing page) Gaurav Bhatti
| nebbiolo1 | Linux (Ubuntu 20.04.5 LTS) / x86_64 | OK | OK | OK | ||||||||
| Package: KEGGdzPathwaysGEO |
| Version: 1.34.0 |
| Command: /home/biocbuild/bbs-3.15-bioc/R/bin/R CMD check --install=check:KEGGdzPathwaysGEO.install-out.txt --library=/home/biocbuild/bbs-3.15-bioc/R/library --no-vignettes --timings KEGGdzPathwaysGEO_1.34.0.tar.gz |
| StartedAt: 2022-10-18 11:27:37 -0400 (Tue, 18 Oct 2022) |
| EndedAt: 2022-10-18 11:31:42 -0400 (Tue, 18 Oct 2022) |
| EllapsedTime: 245.6 seconds |
| RetCode: 0 |
| Status: OK |
| CheckDir: KEGGdzPathwaysGEO.Rcheck |
| Warnings: 0 |
##############################################################################
##############################################################################
###
### Running command:
###
### /home/biocbuild/bbs-3.15-bioc/R/bin/R CMD check --install=check:KEGGdzPathwaysGEO.install-out.txt --library=/home/biocbuild/bbs-3.15-bioc/R/library --no-vignettes --timings KEGGdzPathwaysGEO_1.34.0.tar.gz
###
##############################################################################
##############################################################################
* using log directory ‘/home/biocbuild/bbs-3.15-data-experiment/meat/KEGGdzPathwaysGEO.Rcheck’
* using R version 4.2.1 (2022-06-23)
* using platform: x86_64-pc-linux-gnu (64-bit)
* using session charset: UTF-8
* using option ‘--no-vignettes’
* checking for file ‘KEGGdzPathwaysGEO/DESCRIPTION’ ... OK
* checking extension type ... Package
* this is package ‘KEGGdzPathwaysGEO’ version ‘1.34.0’
* checking package namespace information ... OK
* checking package dependencies ... OK
* checking if this is a source package ... OK
* checking if there is a namespace ... OK
* checking for hidden files and directories ... OK
* checking for portable file names ... OK
* checking for sufficient/correct file permissions ... OK
* checking whether package ‘KEGGdzPathwaysGEO’ can be installed ... OK
* checking installed package size ... NOTE
installed size is 301.0Mb
sub-directories of 1Mb or more:
data 300.8Mb
* checking package directory ... OK
* checking DESCRIPTION meta-information ... OK
* checking top-level files ... OK
* checking for left-over files ... OK
* checking index information ... OK
* checking package subdirectories ... OK
* checking R files for non-ASCII characters ... OK
* checking R files for syntax errors ... OK
* checking whether the package can be loaded ... OK
* checking whether the package can be loaded with stated dependencies ... OK
* checking whether the package can be unloaded cleanly ... OK
* checking whether the namespace can be loaded with stated dependencies ... OK
* checking whether the namespace can be unloaded cleanly ... OK
* checking dependencies in R code ... NOTE
Namespaces in Imports field not imported from:
‘Biobase’ ‘BiocGenerics’
All declared Imports should be used.
* checking S3 generic/method consistency ... OK
* checking replacement functions ... OK
* checking foreign function calls ... OK
* checking R code for possible problems ... OK
* checking Rd files ... OK
* checking Rd metadata ... OK
* checking Rd cross-references ... OK
* checking for missing documentation entries ... OK
* checking for code/documentation mismatches ... OK
* checking Rd \usage sections ... OK
* checking Rd contents ... OK
* checking for unstated dependencies in examples ... OK
* checking contents of ‘data’ directory ... OK
* checking data for non-ASCII characters ... OK
* checking data for ASCII and uncompressed saves ... OK
* checking examples ... OK
* checking PDF version of manual ... OK
* DONE
Status: 2 NOTEs
See
‘/home/biocbuild/bbs-3.15-data-experiment/meat/KEGGdzPathwaysGEO.Rcheck/00check.log’
for details.
KEGGdzPathwaysGEO.Rcheck/00install.out
############################################################################## ############################################################################## ### ### Running command: ### ### /home/biocbuild/bbs-3.15-bioc/R/bin/R CMD INSTALL KEGGdzPathwaysGEO ### ############################################################################## ############################################################################## * installing to library ‘/home/biocbuild/bbs-3.15-bioc/R/library’ * installing *source* package ‘KEGGdzPathwaysGEO’ ... ** using staged installation ** R ** data ** byte-compile and prepare package for lazy loading ** help *** installing help indices ** building package indices ** testing if installed package can be loaded from temporary location ** testing if installed package can be loaded from final location ** testing if installed package keeps a record of temporary installation path * DONE (KEGGdzPathwaysGEO)
KEGGdzPathwaysGEO.Rcheck/KEGGdzPathwaysGEO-Ex.timings
| name | user | system | elapsed | |
| GSE1297 | 0.041 | 0.004 | 0.045 | |
| GSE14762 | 0.074 | 0.024 | 0.098 | |
| GSE15471 | 0.215 | 0.020 | 0.235 | |
| GSE16515 | 0.115 | 0.008 | 0.122 | |
| GSE18842 | 0.258 | 0.039 | 0.297 | |
| GSE19188 | 0.497 | 0.049 | 0.546 | |
| GSE19728 | 0.092 | 0.008 | 0.101 | |
| GSE20153 | 0.069 | 0.011 | 0.082 | |
| GSE20291 | 0.051 | 0.003 | 0.055 | |
| GSE21354 | 0.080 | 0.008 | 0.088 | |
| GSE3467 | 0.087 | 0.000 | 0.087 | |
| GSE3585 | 0.029 | 0.004 | 0.033 | |
| GSE3678 | 0.070 | 0.007 | 0.077 | |
| GSE4107 | 0.102 | 0.005 | 0.105 | |
| GSE5281_EC | 0.088 | 0.012 | 0.099 | |
| GSE5281_HIP | 0.099 | 0.008 | 0.106 | |
| GSE5281_VCX | 0.115 | 0.003 | 0.118 | |
| GSE6956AA | 0.019 | 0.009 | 0.027 | |
| GSE6956C | 0.069 | 0.007 | 0.076 | |
| GSE781 | 0.034 | 0.001 | 0.034 | |
| GSE8671 | 0.194 | 0.016 | 0.211 | |
| GSE8762 | 0.084 | 0.016 | 0.100 | |
| GSE9348 | 0.271 | 0.008 | 0.278 | |
| GSE9476 | 0.092 | 0.004 | 0.096 | |
| KEGGdzPathwaysGEO-package | 0.240 | 0.024 | 0.264 | |