| Back to Build/check report for BioC 3.15 experimental data |
|
This page was generated on 2022-10-18 14:50:12 -0400 (Tue, 18 Oct 2022).
| Hostname | OS | Arch (*) | R version | Installed pkgs |
|---|---|---|---|---|
| nebbiolo1 | Linux (Ubuntu 20.04.5 LTS) | x86_64 | 4.2.1 (2022-06-23) -- "Funny-Looking Kid" | 4386 |
| Click on any hostname to see more info about the system (e.g. compilers) (*) as reported by 'uname -p', except on Windows and Mac OS X | ||||
|
To the developers/maintainers of the GSBenchMark package: Make sure to use the following settings in order to reproduce any error or warning you see on this page. |
| Package 148/410 | Hostname | OS / Arch | INSTALL | BUILD | CHECK | ||||||||
| GSBenchMark 1.16.0 (landing page) Bahman Afsari
| nebbiolo1 | Linux (Ubuntu 20.04.5 LTS) / x86_64 | OK | OK | OK | ||||||||
| Package: GSBenchMark |
| Version: 1.16.0 |
| Command: /home/biocbuild/bbs-3.15-bioc/R/bin/R CMD check --install=check:GSBenchMark.install-out.txt --library=/home/biocbuild/bbs-3.15-bioc/R/library --no-vignettes --timings GSBenchMark_1.16.0.tar.gz |
| StartedAt: 2022-10-18 11:24:08 -0400 (Tue, 18 Oct 2022) |
| EndedAt: 2022-10-18 11:24:31 -0400 (Tue, 18 Oct 2022) |
| EllapsedTime: 23.0 seconds |
| RetCode: 0 |
| Status: OK |
| CheckDir: GSBenchMark.Rcheck |
| Warnings: 0 |
##############################################################################
##############################################################################
###
### Running command:
###
### /home/biocbuild/bbs-3.15-bioc/R/bin/R CMD check --install=check:GSBenchMark.install-out.txt --library=/home/biocbuild/bbs-3.15-bioc/R/library --no-vignettes --timings GSBenchMark_1.16.0.tar.gz
###
##############################################################################
##############################################################################
* using log directory ‘/home/biocbuild/bbs-3.15-data-experiment/meat/GSBenchMark.Rcheck’
* using R version 4.2.1 (2022-06-23)
* using platform: x86_64-pc-linux-gnu (64-bit)
* using session charset: UTF-8
* using option ‘--no-vignettes’
* checking for file ‘GSBenchMark/DESCRIPTION’ ... OK
* this is package ‘GSBenchMark’ version ‘1.16.0’
* checking package namespace information ... OK
* checking package dependencies ... OK
* checking if this is a source package ... OK
* checking if there is a namespace ... OK
* checking for hidden files and directories ... OK
* checking for portable file names ... OK
* checking for sufficient/correct file permissions ... OK
* checking whether package ‘GSBenchMark’ can be installed ... OK
* checking installed package size ... NOTE
installed size is 42.0Mb
sub-directories of 1Mb or more:
data 41.9Mb
* checking package directory ... OK
* checking ‘build’ directory ... OK
* checking DESCRIPTION meta-information ... OK
* checking top-level files ... OK
* checking for left-over files ... OK
* checking index information ... OK
* checking package subdirectories ... OK
* checking whether the package can be loaded ... OK
* checking whether the package can be loaded with stated dependencies ... OK
* checking whether the package can be unloaded cleanly ... OK
* checking whether the namespace can be loaded with stated dependencies ... OK
* checking whether the namespace can be unloaded cleanly ... OK
* checking Rd files ... OK
* checking Rd metadata ... OK
* checking Rd cross-references ... OK
* checking for missing documentation entries ... OK
* checking for code/documentation mismatches ... OK
* checking Rd \usage sections ... OK
* checking Rd contents ... OK
* checking for unstated dependencies in examples ... OK
* checking contents of ‘data’ directory ... OK
* checking data for non-ASCII characters ... OK
* checking data for ASCII and uncompressed saves ... OK
* checking files in ‘vignettes’ ... OK
* checking examples ... OK
* checking for unstated dependencies in vignettes ... OK
* checking package vignettes in ‘inst/doc’ ... OK
* checking running R code from vignettes ... SKIPPED
* checking re-building of vignette outputs ... SKIPPED
* checking PDF version of manual ... OK
* DONE
Status: 1 NOTE
See
‘/home/biocbuild/bbs-3.15-data-experiment/meat/GSBenchMark.Rcheck/00check.log’
for details.
GSBenchMark.Rcheck/00install.out
############################################################################## ############################################################################## ### ### Running command: ### ### /home/biocbuild/bbs-3.15-bioc/R/bin/R CMD INSTALL GSBenchMark ### ############################################################################## ############################################################################## * installing to library ‘/home/biocbuild/bbs-3.15-bioc/R/library’ * installing *source* package ‘GSBenchMark’ ... ** using staged installation ** data ** help *** installing help indices ** building package indices ** installing vignettes ** testing if installed package can be loaded from temporary location ** testing if installed package can be loaded from final location ** testing if installed package keeps a record of temporary installation path * DONE (GSBenchMark)
GSBenchMark.Rcheck/GSBenchMark-Ex.timings
| name | user | system | elapsed | |
| GSBenchMarkDatasets | 0.171 | 0.004 | 0.175 | |
| bipolar_GDS2190 | 0.160 | 0.008 | 0.168 | |
| breast_GDS807 | 0.142 | 0.024 | 0.166 | |
| diracpathways | 0.006 | 0.000 | 0.006 | |
| exprsdata | 0.256 | 0.012 | 0.268 | |
| leukemia_GSEA | 0.156 | 0.003 | 0.159 | |
| logexprsdata | 0.247 | 0.020 | 0.267 | |
| marfan_GDS2960 | 0.080 | 0.008 | 0.088 | |
| melanoma_GDS2735 | 0.211 | 0.016 | 0.227 | |
| parkinsons_GDS2519 | 0.365 | 0.024 | 0.389 | |
| phenotypes | 0.240 | 0.016 | 0.256 | |
| prostate_GDS2545_m_nf | 0.140 | 0.016 | 0.157 | |
| prostate_GDS2545_m_p | 0.291 | 0.023 | 0.313 | |
| prostate_GDS2545_p_nf | 0.242 | 0.021 | 0.262 | |
| sarcoma_data | 0.466 | 0.039 | 0.506 | |
| squamous_GDS2520 | 0.175 | 0.004 | 0.178 | |