| Back to Build/check report for BioC 3.14 experimental data | 
  | 
This page was generated on 2022-04-13 14:50:21 -0400 (Wed, 13 Apr 2022).
| Hostname | OS | Arch (*) | R version | Installed pkgs | 
|---|---|---|---|---|
| nebbiolo2 | Linux (Ubuntu 20.04.4 LTS) | x86_64 | 4.1.3 (2022-03-10) -- "One Push-Up" | 4324 | 
| Click on any hostname to see more info about the system (e.g. compilers) (*) as reported by 'uname -p', except on Windows and Mac OS X | ||||
| 
To the developers/maintainers of the AshkenazimSonChr21 package: Make sure to use the following settings in order to reproduce any error or warning you see on this page.  | 
| Package 19/408 | Hostname | OS / Arch | INSTALL | BUILD | CHECK | ||||||||
| AshkenazimSonChr21 1.24.0  (landing page) Who to complain to 
  | nebbiolo2 | Linux (Ubuntu 20.04.4 LTS) / x86_64 | OK | OK | OK | ||||||||
| Package: AshkenazimSonChr21 | 
| Version: 1.24.0 | 
| Command: /home/biocbuild/bbs-3.14-bioc/R/bin/R CMD build --keep-empty-dirs --no-resave-data AshkenazimSonChr21 | 
| StartedAt: 2022-04-13 10:12:11 -0400 (Wed, 13 Apr 2022) | 
| EndedAt: 2022-04-13 10:12:31 -0400 (Wed, 13 Apr 2022) | 
| EllapsedTime: 20.4 seconds | 
| RetCode: 0 | 
| Status: OK | 
| PackageFile: AshkenazimSonChr21_1.24.0.tar.gz | 
| PackageFileSize: 9.752 MiB | 
############################################################################## ############################################################################## ### ### Running command: ### ### /home/biocbuild/bbs-3.14-bioc/R/bin/R CMD build --keep-empty-dirs --no-resave-data AshkenazimSonChr21 ### ############################################################################## ############################################################################## * checking for file ‘AshkenazimSonChr21/DESCRIPTION’ ... OK * preparing ‘AshkenazimSonChr21’: * checking DESCRIPTION meta-information ... OK * installing the package to build vignettes * creating vignettes ... OK * checking for LF line-endings in source and make files and shell scripts * checking for empty or unneeded directories * building ‘AshkenazimSonChr21_1.24.0.tar.gz’