| Back to Build/check report for BioC 3.14 annotations | 
 | 
This page was generated on 2022-04-13 06:00:07 -0400 (Wed, 13 Apr 2022).
| Hostname | OS | Arch (*) | R version | Installed pkgs | 
|---|---|---|---|---|
| nebbiolo2 | Linux (Ubuntu 20.04.4 LTS) | x86_64 | 4.1.3 (2022-03-10) -- "One Push-Up" | 4324 | 
| Click on any hostname to see more info about the system (e.g. compilers) (*) as reported by 'uname -p', except on Windows and Mac OS X | ||||
| To the developers/maintainers of the hpAnnot package: Make sure to use the following settings in order to reproduce any error or warning you see on this page. | 
| Package 22/33 | Hostname | OS / Arch | INSTALL | BUILD | CHECK | ||||||||
| hpAnnot 1.1.0  (landing page) Marta R. Hidalgo 
 | nebbiolo2 | Linux (Ubuntu 20.04.4 LTS) / x86_64 | OK | OK | OK |  | |||||||
| Package: hpAnnot | 
| Version: 1.1.0 | 
| Command: /home/biocbuild/bbs-3.14-bioc/R/bin/R CMD build --keep-empty-dirs --no-resave-data hpAnnot | 
| StartedAt: 2022-04-13 03:01:26 -0400 (Wed, 13 Apr 2022) | 
| EndedAt: 2022-04-13 03:01:52 -0400 (Wed, 13 Apr 2022) | 
| EllapsedTime: 26.5 seconds | 
| RetCode: 0 | 
| Status: OK | 
| PackageFile: hpAnnot_1.1.0.tar.gz | 
| PackageFileSize: 228.8 MiB | 
##############################################################################
##############################################################################
###
### Running command:
###
###   /home/biocbuild/bbs-3.14-bioc/R/bin/R CMD build --keep-empty-dirs --no-resave-data hpAnnot
###
##############################################################################
##############################################################################
* checking for file ‘hpAnnot/DESCRIPTION’ ... OK
* preparing ‘hpAnnot’:
* checking DESCRIPTION meta-information ... OK
* installing the package to build vignettes
* creating vignettes ... OK
Warning: ‘inst/doc’ files
    ‘hpAnnot-vignette.Rmd’, ‘hpAnnot-vignette.pdf’,  ‘hpAnnot-vignette.R’
  ignored as vignettes have been rebuilt.
  Run R CMD build with --no-build-vignettes to prevent rebuilding.
* checking for LF line-endings in source and make files and shell scripts
* checking for empty or unneeded directories
Omitted ‘LazyData’ from DESCRIPTION
* building ‘hpAnnot_1.1.0.tar.gz’