| Back to Build/check report for BioC 3.14 annotations | 
 | 
This page was generated on 2022-04-13 06:00:07 -0400 (Wed, 13 Apr 2022).
| Hostname | OS | Arch (*) | R version | Installed pkgs | 
|---|---|---|---|---|
| nebbiolo2 | Linux (Ubuntu 20.04.4 LTS) | x86_64 | 4.1.3 (2022-03-10) -- "One Push-Up" | 4324 | 
| Click on any hostname to see more info about the system (e.g. compilers) (*) as reported by 'uname -p', except on Windows and Mac OS X | ||||
| To the developers/maintainers of the PANTHER.db package: Make sure to use the following settings in order to reproduce any error or warning you see on this page. | 
| Package 27/33 | Hostname | OS / Arch | INSTALL | BUILD | CHECK | ||||||||
| PANTHER.db 1.0.10  (landing page) Julius Muller 
 | nebbiolo2 | Linux (Ubuntu 20.04.4 LTS) / x86_64 | OK | OK | OK |  | |||||||
| Package: PANTHER.db | 
| Version: 1.0.10 | 
| Command: /home/biocbuild/bbs-3.14-bioc/R/bin/R CMD build --keep-empty-dirs --no-resave-data PANTHER.db | 
| StartedAt: 2022-04-13 03:01:42 -0400 (Wed, 13 Apr 2022) | 
| EndedAt: 2022-04-13 03:02:13 -0400 (Wed, 13 Apr 2022) | 
| EllapsedTime: 30.6 seconds | 
| RetCode: 0 | 
| Status: OK | 
| PackageFile: PANTHER.db_1.0.10.tar.gz | 
| PackageFileSize: 316.7 KiB | 
##############################################################################
##############################################################################
###
### Running command:
###
###   /home/biocbuild/bbs-3.14-bioc/R/bin/R CMD build --keep-empty-dirs --no-resave-data PANTHER.db
###
##############################################################################
##############################################################################
* checking for file ‘PANTHER.db/DESCRIPTION’ ... OK
* preparing ‘PANTHER.db’:
* checking DESCRIPTION meta-information ... OK
* installing the package to build vignettes
* creating vignettes ... OK
Warning: ‘inst/doc’ files
    ‘PANTHER.db.Rmd’, ‘PANTHER.db.html’
  ignored as vignettes have been rebuilt.
  Run R CMD build with --no-build-vignettes to prevent rebuilding.
* excluding invalid files
Subdirectory 'man' contains invalid file names:
  ‘PANTHERDB-class.R’
* checking for LF line-endings in source and make files and shell scripts
* checking for empty or unneeded directories
* building ‘PANTHER.db_1.0.10.tar.gz’