| Back to Multiple platform build/check report for BioC 3.14 |
|
This page was generated on 2022-04-13 12:07:33 -0400 (Wed, 13 Apr 2022).
| Hostname | OS | Arch (*) | R version | Installed pkgs |
|---|---|---|---|---|
| nebbiolo2 | Linux (Ubuntu 20.04.4 LTS) | x86_64 | 4.1.3 (2022-03-10) -- "One Push-Up" | 4324 |
| tokay2 | Windows Server 2012 R2 Standard | x64 | 4.1.3 (2022-03-10) -- "One Push-Up" | 4077 |
| machv2 | macOS 10.14.6 Mojave | x86_64 | 4.1.3 (2022-03-10) -- "One Push-Up" | 4137 |
| Click on any hostname to see more info about the system (e.g. compilers) (*) as reported by 'uname -p', except on Windows and Mac OS X | ||||
|
To the developers/maintainers of the viper package: - Please allow up to 24 hours (and sometimes 48 hours) for your latest push to git@git.bioconductor.org:packages/viper.git to reflect on this report. See How and When does the builder pull? When will my changes propagate? for more information. - Make sure to use the following settings in order to reproduce any error or warning you see on this page. |
| Package 2051/2083 | Hostname | OS / Arch | INSTALL | BUILD | CHECK | BUILD BIN | ||||||||
| viper 1.28.0 (landing page) Mariano J Alvarez
| nebbiolo2 | Linux (Ubuntu 20.04.4 LTS) / x86_64 | OK | OK | WARNINGS | |||||||||
| tokay2 | Windows Server 2012 R2 Standard / x64 | OK | OK | WARNINGS | OK | |||||||||
| machv2 | macOS 10.14.6 Mojave / x86_64 | OK | OK | WARNINGS | OK | |||||||||
| Package: viper |
| Version: 1.28.0 |
| Command: rm -rf viper.buildbin-libdir && mkdir viper.buildbin-libdir && C:\Users\biocbuild\bbs-3.14-bioc\R\bin\R.exe CMD INSTALL --merge-multiarch --build --library=viper.buildbin-libdir viper_1.28.0.tar.gz |
| StartedAt: 2022-04-13 07:19:30 -0400 (Wed, 13 Apr 2022) |
| EndedAt: 2022-04-13 07:19:51 -0400 (Wed, 13 Apr 2022) |
| EllapsedTime: 21.0 seconds |
| RetCode: 0 |
| Status: OK |
| PackageFile: viper_1.28.0.zip |
| PackageFileSize: 705.9 KiB |
##############################################################################
##############################################################################
###
### Running command:
###
### rm -rf viper.buildbin-libdir && mkdir viper.buildbin-libdir && C:\Users\biocbuild\bbs-3.14-bioc\R\bin\R.exe CMD INSTALL --merge-multiarch --build --library=viper.buildbin-libdir viper_1.28.0.tar.gz
###
##############################################################################
##############################################################################
install for i386
* installing *source* package 'viper' ...
** using staged installation
** R
** inst
** byte-compile and prepare package for lazy loading
** help
*** installing help indices
converting help for package 'viper'
finding HTML links ... done
aREA html
aecdf html
approxk2d html
aracne2regulon html
aracne2regulon4cnv html
as.dist.signatureDistance html
bootstrapTtest-methods html
bootstrapViper html
bootstrapmsviper html
comNames html
distMode html
fcvarna html
filterCV-methods html
filterColMatrix html
filterRowMatrix html
frcv html
frvarna html
groupPwea3 html
integrateSignatures html
ledge html
loadExpset html
msviper-class html
msviper html
msviperAnnot html
msviperClass html
msviperCombinatorial html
msviperSynergy html
plot.msviper html
pruneRegulon html
pwea3NULLf html
pwea3NULLgroups html
regulon-class html
rowTtest-methods html
scale.signatureDistance html
scaleGroups html
shadow html
shadowRegulon html
sigT html
signatureDistance-class html
signatureDistance html
summary.msviper html
ttestNull-methods html
viper html
viperRPT html
viperSignature-class html
viperSignature-methods html
viperSimilarity html
** building package indices
** installing vignettes
** testing if installed package can be loaded from temporary location
** testing if installed package can be loaded from final location
** testing if installed package keeps a record of temporary installation path
install for x64
* installing *source* package 'viper' ...
** testing if installed package can be loaded
* MD5 sums
packaged installation of 'viper' as viper_1.28.0.zip
* DONE (viper)