| Back to Multiple platform build/check report for BioC 3.14 |
|
This page was generated on 2022-04-13 12:07:31 -0400 (Wed, 13 Apr 2022).
| Hostname | OS | Arch (*) | R version | Installed pkgs |
|---|---|---|---|---|
| nebbiolo2 | Linux (Ubuntu 20.04.4 LTS) | x86_64 | 4.1.3 (2022-03-10) -- "One Push-Up" | 4324 |
| tokay2 | Windows Server 2012 R2 Standard | x64 | 4.1.3 (2022-03-10) -- "One Push-Up" | 4077 |
| machv2 | macOS 10.14.6 Mojave | x86_64 | 4.1.3 (2022-03-10) -- "One Push-Up" | 4137 |
| Click on any hostname to see more info about the system (e.g. compilers) (*) as reported by 'uname -p', except on Windows and Mac OS X | ||||
|
To the developers/maintainers of the trigger package: - Please allow up to 24 hours (and sometimes 48 hours) for your latest push to git@git.bioconductor.org:packages/trigger.git to reflect on this report. See How and When does the builder pull? When will my changes propagate? for more information. - Make sure to use the following settings in order to reproduce any error or warning you see on this page. |
| Package 2002/2083 | Hostname | OS / Arch | INSTALL | BUILD | CHECK | BUILD BIN | ||||||||
| trigger 1.40.0 (landing page) John D. Storey
| nebbiolo2 | Linux (Ubuntu 20.04.4 LTS) / x86_64 | OK | OK | OK | |||||||||
| tokay2 | Windows Server 2012 R2 Standard / x64 | OK | OK | OK | OK | |||||||||
| machv2 | macOS 10.14.6 Mojave / x86_64 | OK | OK | OK | OK | |||||||||
| Package: trigger |
| Version: 1.40.0 |
| Command: C:\Users\biocbuild\bbs-3.14-bioc\R\bin\R.exe CMD check --force-multiarch --install=check:trigger.install-out.txt --library=C:\Users\biocbuild\bbs-3.14-bioc\R\library --no-vignettes --timings trigger_1.40.0.tar.gz |
| StartedAt: 2022-04-13 04:25:00 -0400 (Wed, 13 Apr 2022) |
| EndedAt: 2022-04-13 04:29:13 -0400 (Wed, 13 Apr 2022) |
| EllapsedTime: 253.4 seconds |
| RetCode: 0 |
| Status: OK |
| CheckDir: trigger.Rcheck |
| Warnings: 0 |
##############################################################################
##############################################################################
###
### Running command:
###
### C:\Users\biocbuild\bbs-3.14-bioc\R\bin\R.exe CMD check --force-multiarch --install=check:trigger.install-out.txt --library=C:\Users\biocbuild\bbs-3.14-bioc\R\library --no-vignettes --timings trigger_1.40.0.tar.gz
###
##############################################################################
##############################################################################
* using log directory 'C:/Users/biocbuild/bbs-3.14-bioc/meat/trigger.Rcheck'
* using R version 4.1.3 (2022-03-10)
* using platform: x86_64-w64-mingw32 (64-bit)
* using session charset: ISO8859-1
* using option '--no-vignettes'
* checking for file 'trigger/DESCRIPTION' ... OK
* checking extension type ... Package
* this is package 'trigger' version '1.40.0'
* checking package namespace information ... OK
* checking package dependencies ... OK
* checking if this is a source package ... OK
* checking if there is a namespace ... OK
* checking for hidden files and directories ... OK
* checking for portable file names ... OK
* checking whether package 'trigger' can be installed ... OK
* checking installed package size ... OK
* checking package directory ... OK
* checking 'build' directory ... OK
* checking DESCRIPTION meta-information ... OK
* checking top-level files ... OK
* checking for left-over files ... OK
* checking index information ... OK
* checking package subdirectories ... OK
* checking R files for non-ASCII characters ... OK
* checking R files for syntax errors ... OK
* loading checks for arch 'i386'
** checking whether the package can be loaded ... OK
** checking whether the package can be loaded with stated dependencies ... OK
** checking whether the package can be unloaded cleanly ... OK
** checking whether the namespace can be loaded with stated dependencies ... OK
** checking whether the namespace can be unloaded cleanly ... OK
* loading checks for arch 'x64'
** checking whether the package can be loaded ... OK
** checking whether the package can be loaded with stated dependencies ... OK
** checking whether the package can be unloaded cleanly ... OK
** checking whether the namespace can be loaded with stated dependencies ... OK
** checking whether the namespace can be unloaded cleanly ... OK
* checking dependencies in R code ... OK
* checking S3 generic/method consistency ... OK
* checking replacement functions ... OK
* checking foreign function calls ... OK
* checking R code for possible problems ... NOTE
initialize,trigger: no visible global function definition for
'callNextMethod'
Undefined global functions or variables:
callNextMethod
Consider adding
importFrom("methods", "callNextMethod")
to your NAMESPACE file (and ensure that your DESCRIPTION Imports field
contains 'methods').
* checking Rd files ... OK
* checking Rd metadata ... OK
* checking Rd cross-references ... OK
* checking for missing documentation entries ... OK
* checking for code/documentation mismatches ... OK
* checking Rd \usage sections ... OK
* checking Rd contents ... OK
* checking for unstated dependencies in examples ... OK
* checking contents of 'data' directory ... OK
* checking data for non-ASCII characters ... OK
* checking data for ASCII and uncompressed saves ... OK
* checking line endings in C/C++/Fortran sources/headers ... OK
* checking compiled code ... NOTE
Note: information on .o files for i386 is not available
Note: information on .o files for x64 is not available
File 'C:/Users/biocbuild/bbs-3.14-bioc/R/library/trigger/libs/i386/trigger.dll':
Found 'abort', possibly from 'abort' (C), 'runtime' (Fortran)
File 'C:/Users/biocbuild/bbs-3.14-bioc/R/library/trigger/libs/x64/trigger.dll':
Found 'abort', possibly from 'abort' (C), 'runtime' (Fortran)
Compiled code should not call entry points which might terminate R nor
write to stdout/stderr instead of to the console, nor use Fortran I/O
nor system RNGs. The detected symbols are linked into the code but
might come from libraries and not actually be called.
See 'Writing portable packages' in the 'Writing R Extensions' manual.
* checking files in 'vignettes' ... OK
* checking examples ...
** running examples for arch 'i386' ... OK
Examples with CPU (user + system) or elapsed time > 5s
user system elapsed
trigger-export2cross 27.48 1.82 29.3
** running examples for arch 'x64' ... OK
Examples with CPU (user + system) or elapsed time > 5s
user system elapsed
trigger-export2cross 29.04 1.45 30.58
* checking for unstated dependencies in vignettes ... OK
* checking package vignettes in 'inst/doc' ... OK
* checking running R code from vignettes ... SKIPPED
* checking re-building of vignette outputs ... SKIPPED
* checking PDF version of manual ... OK
* DONE
Status: 2 NOTEs
See
'C:/Users/biocbuild/bbs-3.14-bioc/meat/trigger.Rcheck/00check.log'
for details.
trigger.Rcheck/00install.out
##############################################################################
##############################################################################
###
### Running command:
###
### C:\cygwin\bin\curl.exe -O http://155.52.207.166/BBS/3.14/bioc/src/contrib/trigger_1.40.0.tar.gz && rm -rf trigger.buildbin-libdir && mkdir trigger.buildbin-libdir && C:\Users\biocbuild\bbs-3.14-bioc\R\bin\R.exe CMD INSTALL --merge-multiarch --build --library=trigger.buildbin-libdir trigger_1.40.0.tar.gz && C:\Users\biocbuild\bbs-3.14-bioc\R\bin\R.exe CMD INSTALL trigger_1.40.0.zip && rm trigger_1.40.0.tar.gz trigger_1.40.0.zip
###
##############################################################################
##############################################################################
% Total % Received % Xferd Average Speed Time Time Time Current
Dload Upload Total Spent Left Speed
0 0 0 0 0 0 0 0 --:--:-- --:--:-- --:--:-- 0
39 1514k 39 597k 0 0 660k 0 0:00:02 --:--:-- 0:00:02 660k
100 1514k 100 1514k 0 0 965k 0 0:00:01 0:00:01 --:--:-- 965k
install for i386
* installing *source* package 'trigger' ...
** using staged installation
** libs
"C:/rtools40/mingw32/bin/"gcc -I"C:/Users/BIOCBU~1/BBS-3~1.14-/R/include" -DNDEBUG -I"C:/extsoft/include" -O2 -Wall -std=gnu99 -mfpmath=sse -msse2 -mstackrealign -c trigger.c -o trigger.o
trigger.c: In function 'mergeorder':
trigger.c:25:20: warning: variable 'n3' set but not used [-Wunused-but-set-variable]
int i1,i2,i3,n1,n2,n3;
^~
trigger.c: In function 'sec_link_stat':
trigger.c:81:10: warning: variable 'nct' set but not used [-Wunused-but-set-variable]
int ntr, nct, i, j;
^~~
trigger.c: In function 'sec_link_stat_x':
trigger.c:153:10: warning: variable 'nct' set but not used [-Wunused-but-set-variable]
int ntr, nct, i, j, k, nk;
^~~
trigger.c: In function 'condi_indep_stat':
trigger.c:233:10: warning: variable 'nct' set but not used [-Wunused-but-set-variable]
int ntr, nct, i, j;
^~~
trigger.c: In function 'condi_indep_stat_x':
trigger.c:310:10: warning: variable 'nct' set but not used [-Wunused-but-set-variable]
int ntr, nct, i, j, k, nk;
^~~
trigger.c: In function 'condi_indep_stat_rx':
trigger.c:393:10: warning: variable 'nct' set but not used [-Wunused-but-set-variable]
int ntr, nct, i, j, k, nk;
^~~
C:/rtools40/mingw32/bin/gcc -shared -s -static-libgcc -o trigger.dll tmp.def trigger.o -LC:/extsoft/lib/i386 -LC:/extsoft/lib -LC:/Users/BIOCBU~1/BBS-3~1.14-/R/bin/i386 -lR
installing to C:/Users/biocbuild/bbs-3.14-bioc/meat/trigger.buildbin-libdir/00LOCK-trigger/00new/trigger/libs/i386
** R
** data
** inst
** byte-compile and prepare package for lazy loading
** help
*** installing help indices
converting help for package 'trigger'
finding HTML links ... done
plot html
trigger-build html
trigger-class html
trigger-eigenR2 html
trigger-export2cross html
trigger-link html
trigger-loclink html
trigger-mlink html
trigger-net html
trigger-netPlot2ps html
trigger-trait html
yeast html
** building package indices
** installing vignettes
** testing if installed package can be loaded from temporary location
** testing if installed package can be loaded from final location
** testing if installed package keeps a record of temporary installation path
install for x64
* installing *source* package 'trigger' ...
** libs
"C:/rtools40/mingw64/bin/"gcc -I"C:/Users/BIOCBU~1/BBS-3~1.14-/R/include" -DNDEBUG -I"C:/extsoft/include" -O2 -Wall -std=gnu99 -mfpmath=sse -msse2 -mstackrealign -c trigger.c -o trigger.o
trigger.c: In function 'mergeorder':
trigger.c:25:20: warning: variable 'n3' set but not used [-Wunused-but-set-variable]
int i1,i2,i3,n1,n2,n3;
^~
trigger.c: In function 'sec_link_stat':
trigger.c:81:10: warning: variable 'nct' set but not used [-Wunused-but-set-variable]
int ntr, nct, i, j;
^~~
trigger.c: In function 'sec_link_stat_x':
trigger.c:153:10: warning: variable 'nct' set but not used [-Wunused-but-set-variable]
int ntr, nct, i, j, k, nk;
^~~
trigger.c: In function 'condi_indep_stat':
trigger.c:233:10: warning: variable 'nct' set but not used [-Wunused-but-set-variable]
int ntr, nct, i, j;
^~~
trigger.c: In function 'condi_indep_stat_x':
trigger.c:310:10: warning: variable 'nct' set but not used [-Wunused-but-set-variable]
int ntr, nct, i, j, k, nk;
^~~
trigger.c: In function 'condi_indep_stat_rx':
trigger.c:393:10: warning: variable 'nct' set but not used [-Wunused-but-set-variable]
int ntr, nct, i, j, k, nk;
^~~
C:/rtools40/mingw64/bin/gcc -shared -s -static-libgcc -o trigger.dll tmp.def trigger.o -LC:/extsoft/lib/x64 -LC:/extsoft/lib -LC:/Users/BIOCBU~1/BBS-3~1.14-/R/bin/x64 -lR
installing to C:/Users/biocbuild/bbs-3.14-bioc/meat/trigger.buildbin-libdir/trigger/libs/x64
** testing if installed package can be loaded
* MD5 sums
packaged installation of 'trigger' as trigger_1.40.0.zip
* DONE (trigger)
* installing to library 'C:/Users/biocbuild/bbs-3.14-bioc/R/library'
package 'trigger' successfully unpacked and MD5 sums checked
|
trigger.Rcheck/examples_i386/trigger-Ex.timings
|
trigger.Rcheck/examples_x64/trigger-Ex.timings
|