| Back to Multiple platform build/check report for BioC 3.14 |
|
This page was generated on 2022-04-13 12:07:30 -0400 (Wed, 13 Apr 2022).
| Hostname | OS | Arch (*) | R version | Installed pkgs |
|---|---|---|---|---|
| nebbiolo2 | Linux (Ubuntu 20.04.4 LTS) | x86_64 | 4.1.3 (2022-03-10) -- "One Push-Up" | 4324 |
| tokay2 | Windows Server 2012 R2 Standard | x64 | 4.1.3 (2022-03-10) -- "One Push-Up" | 4077 |
| machv2 | macOS 10.14.6 Mojave | x86_64 | 4.1.3 (2022-03-10) -- "One Push-Up" | 4137 |
| Click on any hostname to see more info about the system (e.g. compilers) (*) as reported by 'uname -p', except on Windows and Mac OS X | ||||
|
To the developers/maintainers of the transcriptR package: - Please allow up to 24 hours (and sometimes 48 hours) for your latest push to git@git.bioconductor.org:packages/transcriptR.git to reflect on this report. See How and When does the builder pull? When will my changes propagate? for more information. - Make sure to use the following settings in order to reproduce any error or warning you see on this page. |
| Package 1984/2083 | Hostname | OS / Arch | INSTALL | BUILD | CHECK | BUILD BIN | ||||||||
| transcriptR 1.22.0 (landing page) Armen R. Karapetyan
| nebbiolo2 | Linux (Ubuntu 20.04.4 LTS) / x86_64 | OK | OK | OK | |||||||||
| tokay2 | Windows Server 2012 R2 Standard / x64 | OK | OK | OK | OK | |||||||||
| machv2 | macOS 10.14.6 Mojave / x86_64 | OK | OK | OK | OK | |||||||||
| Package: transcriptR |
| Version: 1.22.0 |
| Command: rm -rf transcriptR.buildbin-libdir && mkdir transcriptR.buildbin-libdir && C:\Users\biocbuild\bbs-3.14-bioc\R\bin\R.exe CMD INSTALL --merge-multiarch --build --library=transcriptR.buildbin-libdir transcriptR_1.22.0.tar.gz |
| StartedAt: 2022-04-13 07:16:56 -0400 (Wed, 13 Apr 2022) |
| EndedAt: 2022-04-13 07:18:13 -0400 (Wed, 13 Apr 2022) |
| EllapsedTime: 76.7 seconds |
| RetCode: 0 |
| Status: OK |
| PackageFile: transcriptR_1.22.0.zip |
| PackageFileSize: 3.222 MiB |
##############################################################################
##############################################################################
###
### Running command:
###
### rm -rf transcriptR.buildbin-libdir && mkdir transcriptR.buildbin-libdir && C:\Users\biocbuild\bbs-3.14-bioc\R\bin\R.exe CMD INSTALL --merge-multiarch --build --library=transcriptR.buildbin-libdir transcriptR_1.22.0.tar.gz
###
##############################################################################
##############################################################################
install for i386
* installing *source* package 'transcriptR' ...
** using staged installation
** R
** data
** inst
** byte-compile and prepare package for lazy loading
** help
*** installing help indices
converting help for package 'transcriptR'
finding HTML links ... done
ChipDataSet-class html
TranscriptionDataSet-class html
addFeature-methods html
annot html
finding level-2 HTML links ... done
annotateTranscripts-methods html
breakTranscriptsByPeaks-methods html
cds html
constructCDS html
constructTDS html
detectTranscripts-methods html
estimateBackground-methods html
estimateGapDistance-methods html
exportCoverage-methods html
getConfusionMatrix-methods html
getGenomicAnnot-methods html
getPeaks-methods html
getPredictorSignificance-methods html
getProbTreshold-methods html
getQuadProb-methods html
getTestedGapDistances-methods html
getTranscripts-methods html
peaksToBed-methods html
plotErrorRate-methods html
plotFeatures-methods html
plotGenomicAnnot-methods html
plotROC-methods html
predictStrand-methods html
predictTssOverlap-methods html
show html
tds html
transcriptsToBed-methods html
** building package indices
** installing vignettes
** testing if installed package can be loaded from temporary location
** testing if installed package can be loaded from final location
** testing if installed package keeps a record of temporary installation path
install for x64
* installing *source* package 'transcriptR' ...
** testing if installed package can be loaded
* MD5 sums
packaged installation of 'transcriptR' as transcriptR_1.22.0.zip
* DONE (transcriptR)