| Back to Multiple platform build/check report for BioC 3.14 |
|
This page was generated on 2022-04-13 12:07:30 -0400 (Wed, 13 Apr 2022).
| Hostname | OS | Arch (*) | R version | Installed pkgs |
|---|---|---|---|---|
| nebbiolo2 | Linux (Ubuntu 20.04.4 LTS) | x86_64 | 4.1.3 (2022-03-10) -- "One Push-Up" | 4324 |
| tokay2 | Windows Server 2012 R2 Standard | x64 | 4.1.3 (2022-03-10) -- "One Push-Up" | 4077 |
| machv2 | macOS 10.14.6 Mojave | x86_64 | 4.1.3 (2022-03-10) -- "One Push-Up" | 4137 |
| Click on any hostname to see more info about the system (e.g. compilers) (*) as reported by 'uname -p', except on Windows and Mac OS X | ||||
|
To the developers/maintainers of the tradeSeq package: - Please allow up to 24 hours (and sometimes 48 hours) for your latest push to git@git.bioconductor.org:packages/tradeSeq.git to reflect on this report. See How and When does the builder pull? When will my changes propagate? for more information. - Make sure to use the following settings in order to reproduce any error or warning you see on this page. |
| Package 1980/2083 | Hostname | OS / Arch | INSTALL | BUILD | CHECK | BUILD BIN | ||||||||
| tradeSeq 1.8.0 (landing page) Hector Roux de Bezieux
| nebbiolo2 | Linux (Ubuntu 20.04.4 LTS) / x86_64 | OK | OK | OK | |||||||||
| tokay2 | Windows Server 2012 R2 Standard / x64 | OK | OK | OK | OK | |||||||||
| machv2 | macOS 10.14.6 Mojave / x86_64 | OK | OK | OK | OK | |||||||||
| Package: tradeSeq |
| Version: 1.8.0 |
| Command: rm -rf tradeSeq.buildbin-libdir && mkdir tradeSeq.buildbin-libdir && C:\Users\biocbuild\bbs-3.14-bioc\R\bin\R.exe CMD INSTALL --merge-multiarch --build --library=tradeSeq.buildbin-libdir tradeSeq_1.8.0.tar.gz |
| StartedAt: 2022-04-13 07:16:40 -0400 (Wed, 13 Apr 2022) |
| EndedAt: 2022-04-13 07:17:32 -0400 (Wed, 13 Apr 2022) |
| EllapsedTime: 52.1 seconds |
| RetCode: 0 |
| Status: OK |
| PackageFile: tradeSeq_1.8.0.zip |
| PackageFileSize: 2.418 MiB |
##############################################################################
##############################################################################
###
### Running command:
###
### rm -rf tradeSeq.buildbin-libdir && mkdir tradeSeq.buildbin-libdir && C:\Users\biocbuild\bbs-3.14-bioc\R\bin\R.exe CMD INSTALL --merge-multiarch --build --library=tradeSeq.buildbin-libdir tradeSeq_1.8.0.tar.gz
###
##############################################################################
##############################################################################
install for i386
* installing *source* package 'tradeSeq' ...
** using staged installation
** R
** data
** inst
** byte-compile and prepare package for lazy loading
** help
*** installing help indices
converting help for package 'tradeSeq'
finding HTML links ... done
associationTest html
celltype html
clusterExpressionPatterns html
conditionTest html
countMatrix html
crv html
diffEndTest html
earlyDETest html
evaluateK html
fitGAM html
gamList html
getSmootherPvalues html
getSmootherTestStats html
nknots html
patternTest html
plotGeneCount html
finding level-2 HTML links ... done
plotSmoothers html
plot_evalutateK_results html
predictCells html
predictSmooth html
sds html
startVsEndTest html
** building package indices
** installing vignettes
** testing if installed package can be loaded from temporary location
** testing if installed package can be loaded from final location
** testing if installed package keeps a record of temporary installation path
install for x64
* installing *source* package 'tradeSeq' ...
** testing if installed package can be loaded
* MD5 sums
packaged installation of 'tradeSeq' as tradeSeq_1.8.0.zip
* DONE (tradeSeq)