| Back to Multiple platform build/check report for BioC 3.14 |
|
This page was generated on 2022-04-13 12:07:29 -0400 (Wed, 13 Apr 2022).
| Hostname | OS | Arch (*) | R version | Installed pkgs |
|---|---|---|---|---|
| nebbiolo2 | Linux (Ubuntu 20.04.4 LTS) | x86_64 | 4.1.3 (2022-03-10) -- "One Push-Up" | 4324 |
| tokay2 | Windows Server 2012 R2 Standard | x64 | 4.1.3 (2022-03-10) -- "One Push-Up" | 4077 |
| machv2 | macOS 10.14.6 Mojave | x86_64 | 4.1.3 (2022-03-10) -- "One Push-Up" | 4137 |
| Click on any hostname to see more info about the system (e.g. compilers) (*) as reported by 'uname -p', except on Windows and Mac OS X | ||||
|
To the developers/maintainers of the tkWidgets package: - Please allow up to 24 hours (and sometimes 48 hours) for your latest push to git@git.bioconductor.org:packages/tkWidgets.git to reflect on this report. See How and When does the builder pull? When will my changes propagate? for more information. - Make sure to use the following settings in order to reproduce any error or warning you see on this page. |
| Package 1964/2083 | Hostname | OS / Arch | INSTALL | BUILD | CHECK | BUILD BIN | ||||||||
| tkWidgets 1.72.0 (landing page) J. Zhang
| nebbiolo2 | Linux (Ubuntu 20.04.4 LTS) / x86_64 | OK | OK | OK | |||||||||
| tokay2 | Windows Server 2012 R2 Standard / x64 | OK | OK | OK | OK | |||||||||
| machv2 | macOS 10.14.6 Mojave / x86_64 | OK | OK | OK | OK | |||||||||
| Package: tkWidgets |
| Version: 1.72.0 |
| Command: rm -rf tkWidgets.buildbin-libdir && mkdir tkWidgets.buildbin-libdir && C:\Users\biocbuild\bbs-3.14-bioc\R\bin\R.exe CMD INSTALL --merge-multiarch --build --library=tkWidgets.buildbin-libdir tkWidgets_1.72.0.tar.gz |
| StartedAt: 2022-04-13 07:15:58 -0400 (Wed, 13 Apr 2022) |
| EndedAt: 2022-04-13 07:16:18 -0400 (Wed, 13 Apr 2022) |
| EllapsedTime: 19.5 seconds |
| RetCode: 0 |
| Status: OK |
| PackageFile: tkWidgets_1.72.0.zip |
| PackageFileSize: 638.2 KiB |
##############################################################################
##############################################################################
###
### Running command:
###
### rm -rf tkWidgets.buildbin-libdir && mkdir tkWidgets.buildbin-libdir && C:\Users\biocbuild\bbs-3.14-bioc\R\bin\R.exe CMD INSTALL --merge-multiarch --build --library=tkWidgets.buildbin-libdir tkWidgets_1.72.0.tar.gz
###
##############################################################################
##############################################################################
install for i386
* installing *source* package 'tkWidgets' ...
** using staged installation
** R
** inst
** byte-compile and prepare package for lazy loading
** help
*** installing help indices
converting help for package 'tkWidgets'
finding HTML links ... done
DPExplorer html
WName html
appendSepDir html
args2XML html
argsWidget html
colInfo-class html
dataViewer html
dbArgsWidget html
eExplorer html
fileBrowser html
fileWizard html
getLightTW html
getWvalues html
guess.sep html
hasChar html
importPhenoData html
importWizard html
listSelect html
objNameToList html
objViewer html
objectBrowser html
pExplorer html
pickFiles html
pickItems html
pickObjs html
setArgsList html
stdType html
tkMIAME html
tkSampleNames html
tkphenoData html
vExplorer html
values.Widget html
widgetRender html
** building package indices
** installing vignettes
** testing if installed package can be loaded from temporary location
** testing if installed package can be loaded from final location
** testing if installed package keeps a record of temporary installation path
install for x64
* installing *source* package 'tkWidgets' ...
** testing if installed package can be loaded
* MD5 sums
packaged installation of 'tkWidgets' as tkWidgets_1.72.0.zip
* DONE (tkWidgets)