| Back to Multiple platform build/check report for BioC 3.14 | 
 | 
This page was generated on 2022-04-13 12:07:30 -0400 (Wed, 13 Apr 2022).
| Hostname | OS | Arch (*) | R version | Installed pkgs | 
|---|---|---|---|---|
| nebbiolo2 | Linux (Ubuntu 20.04.4 LTS) | x86_64 | 4.1.3 (2022-03-10) -- "One Push-Up" | 4324 | 
| tokay2 | Windows Server 2012 R2 Standard | x64 | 4.1.3 (2022-03-10) -- "One Push-Up" | 4077 | 
| machv2 | macOS 10.14.6 Mojave | x86_64 | 4.1.3 (2022-03-10) -- "One Push-Up" | 4137 | 
| Click on any hostname to see more info about the system (e.g. compilers) (*) as reported by 'uname -p', except on Windows and Mac OS X | ||||
| To the developers/maintainers of the tRanslatome package: - Please allow up to 24 hours (and sometimes 48 hours) for your latest push to git@git.bioconductor.org:packages/tRanslatome.git to reflect on this report. See How and When does the builder pull? When will my changes propagate? for more information. - Make sure to use the following settings in order to reproduce any error or warning you see on this page. | 
| Package 1987/2083 | Hostname | OS / Arch | INSTALL | BUILD | CHECK | BUILD BIN | ||||||||
| tRanslatome 1.32.0  (landing page) Toma Tebaldi 
 | nebbiolo2 | Linux (Ubuntu 20.04.4 LTS) / x86_64 | OK | OK | WARNINGS |  | ||||||||
| tokay2 | Windows Server 2012 R2 Standard / x64 | OK | OK | WARNINGS | OK |  | ||||||||
| machv2 | macOS 10.14.6 Mojave / x86_64 | OK | OK | WARNINGS | OK |  | ||||||||
| Package: tRanslatome | 
| Version: 1.32.0 | 
| Command: rm -rf tRanslatome.buildbin-libdir && mkdir tRanslatome.buildbin-libdir && C:\Users\biocbuild\bbs-3.14-bioc\R\bin\R.exe CMD INSTALL --merge-multiarch --build --library=tRanslatome.buildbin-libdir tRanslatome_1.32.0.tar.gz | 
| StartedAt: 2022-04-13 07:17:00 -0400 (Wed, 13 Apr 2022) | 
| EndedAt: 2022-04-13 07:18:08 -0400 (Wed, 13 Apr 2022) | 
| EllapsedTime: 68.1 seconds | 
| RetCode: 0 | 
| Status: OK | 
| PackageFile: tRanslatome_1.32.0.zip | 
| PackageFileSize: 1.276 MiB | 
##############################################################################
##############################################################################
###
### Running command:
###
###   rm -rf tRanslatome.buildbin-libdir && mkdir tRanslatome.buildbin-libdir && C:\Users\biocbuild\bbs-3.14-bioc\R\bin\R.exe CMD INSTALL --merge-multiarch --build --library=tRanslatome.buildbin-libdir tRanslatome_1.32.0.tar.gz
###
##############################################################################
##############################################################################
install for i386
* installing *source* package 'tRanslatome' ...
** using staged installation
** R
** data
** inst
** byte-compile and prepare package for lazy loading
groupGOTerms: 	GOBPTerm, GOMFTerm, GOCCTerm environments built.
** help
*** installing help indices
  converting help for package 'tRanslatome'
    finding HTML links ... done
    CVplot                                  html  
    DEGs                                    html  
    DEGs.table                              html  
    EnrichedSets                            html  
    FC.threshold                            html  
    GOComparison                            html  
    GOEnrichment                            html  
    GOsets                                  html  
    GOsims                                  html  
    Heatmap                                 html  
    Histogram                               html  
    IdentityPlot                            html  
    MAplot                                  html  
    Radar                                   html  
    RegulatoryEnrichment                    html  
    SDplot                                  html  
    Scatterplot                             html  
    SimilarityPlot                          html  
    TranslatomeDataset                      html  
    average.similarity.scores               html  
    computeDEGs                             html  
    enriched.table                          html  
    getConditionA                           html  
    getConditionB                           html  
    getConditionC                           html  
    getConditionD                           html  
    getConditionLabels                      html  
    getDEGs                                 html  
    getDEGsMethod                           html  
    getDataType                             html  
    getExprMatrix                           html  
    getLevelLabels                          html  
    identity.matrix                         html  
    label.condition                         html  
    label.level.DEGs                        html  
    label.level.enriched                    html  
    newTranslatomeDataset                   html  
    significance.threshold                  html  
    similarity.matrix                       html  
    tRanslatome-package                     html  
    tRanslatomeSampleData                   html  
** building package indices
** installing vignettes
** testing if installed package can be loaded from temporary location
groupGOTerms: 	GOBPTerm, GOMFTerm, GOCCTerm environments built.
** testing if installed package can be loaded from final location
groupGOTerms: 	GOBPTerm, GOMFTerm, GOCCTerm environments built.
** testing if installed package keeps a record of temporary installation path
install for x64
* installing *source* package 'tRanslatome' ...
** testing if installed package can be loaded
groupGOTerms: 	GOBPTerm, GOMFTerm, GOCCTerm environments built.
* MD5 sums
packaged installation of 'tRanslatome' as tRanslatome_1.32.0.zip
* DONE (tRanslatome)