| Back to Multiple platform build/check report for BioC 3.14 |
|
This page was generated on 2022-04-13 12:07:27 -0400 (Wed, 13 Apr 2022).
| Hostname | OS | Arch (*) | R version | Installed pkgs |
|---|---|---|---|---|
| nebbiolo2 | Linux (Ubuntu 20.04.4 LTS) | x86_64 | 4.1.3 (2022-03-10) -- "One Push-Up" | 4324 |
| tokay2 | Windows Server 2012 R2 Standard | x64 | 4.1.3 (2022-03-10) -- "One Push-Up" | 4077 |
| machv2 | macOS 10.14.6 Mojave | x86_64 | 4.1.3 (2022-03-10) -- "One Push-Up" | 4137 |
| Click on any hostname to see more info about the system (e.g. compilers) (*) as reported by 'uname -p', except on Windows and Mac OS X | ||||
|
To the developers/maintainers of the systemPipeR package: - Please allow up to 24 hours (and sometimes 48 hours) for your latest push to git@git.bioconductor.org:packages/systemPipeR.git to reflect on this report. See How and When does the builder pull? When will my changes propagate? for more information. - Make sure to use the following settings in order to reproduce any error or warning you see on this page. |
| Package 1924/2083 | Hostname | OS / Arch | INSTALL | BUILD | CHECK | BUILD BIN | ||||||||
| systemPipeR 2.0.8 (landing page) Thomas Girke
| nebbiolo2 | Linux (Ubuntu 20.04.4 LTS) / x86_64 | OK | OK | OK | |||||||||
| tokay2 | Windows Server 2012 R2 Standard / x64 | OK | OK | OK | OK | |||||||||
| machv2 | macOS 10.14.6 Mojave / x86_64 | OK | OK | OK | OK | |||||||||
| Package: systemPipeR |
| Version: 2.0.8 |
| Command: rm -rf systemPipeR.buildbin-libdir && mkdir systemPipeR.buildbin-libdir && C:\Users\biocbuild\bbs-3.14-bioc\R\bin\R.exe CMD INSTALL --merge-multiarch --build --library=systemPipeR.buildbin-libdir systemPipeR_2.0.8.tar.gz |
| StartedAt: 2022-04-13 07:14:02 -0400 (Wed, 13 Apr 2022) |
| EndedAt: 2022-04-13 07:15:46 -0400 (Wed, 13 Apr 2022) |
| EllapsedTime: 104.5 seconds |
| RetCode: 0 |
| Status: OK |
| PackageFile: systemPipeR_2.0.8.zip |
| PackageFileSize: 5.671 MiB |
##############################################################################
##############################################################################
###
### Running command:
###
### rm -rf systemPipeR.buildbin-libdir && mkdir systemPipeR.buildbin-libdir && C:\Users\biocbuild\bbs-3.14-bioc\R\bin\R.exe CMD INSTALL --merge-multiarch --build --library=systemPipeR.buildbin-libdir systemPipeR_2.0.8.tar.gz
###
##############################################################################
##############################################################################
install for i386
* installing *source* package 'systemPipeR' ...
** using staged installation
** R
** inst
** byte-compile and prepare package for lazy loading
** help
*** installing help indices
converting help for package 'systemPipeR'
finding HTML links ... done
EnvModules-class html
GOHyperGAll html
INTERSECTset-class html
LineWise-class html
REDIRECT:topic Previous alias or file overwritten by alias: C:/Users/biocbuild/bbs-3.14-bioc/meat/systemPipeR.buildbin-libdir/00LOCK-systemPipeR/00new/systemPipeR/help/linewise.html
ParamFiles html
SPRproject html
SYSargs-class html
SYSargs2-class html
SYSargsList-class html
SYSargsList html
REDIRECT:topic Previous alias or file overwritten by alias: C:/Users/biocbuild/bbs-3.14-bioc/meat/systemPipeR.buildbin-libdir/00LOCK-systemPipeR/00new/systemPipeR/help/SYSargsList.html
VENNset-class html
add-methods html
alignStats html
catDB-class html
catmap html
check.output html
clusterRun html
config.param html
configWF html
countRangeset html
createParamFiles html
cwlFilesUpdate html
evalCode html
featureCoverage html
featuretypeCounts html
filterDEGs html
filterVars html
genFeatures html
importWF html
loadWorkflow html
mergeBamByFactor html
moduleload html
olBarplot html
olRanges html
output_update html
overLapper html
plotWF html
plotfeatureCoverage html
plotfeaturetypeCounts html
predORF html
preprocessReads html
readComp html
renderLogs html
renderReport html
returnRPKM html
runCommandline html
runDiff html
runWF html
run_DESeq2 html
run_edgeR html
sal2bash html
sal2rmd html
scaleRanges html
seeFastq html
showDF html
subsetWF html
symLink2bam html
sysargs html
systemArgs html
systemPipeR-package html
targets.as.df html
tryCMD html
tryPath html
variantReport html
vennPlot html
writeTargets html
writeTargetsRef html
writeTargetsout html
write_SYSargsList html
** building package indices
** installing vignettes
** testing if installed package can be loaded from temporary location
** testing if installed package can be loaded from final location
** testing if installed package keeps a record of temporary installation path
install for x64
* installing *source* package 'systemPipeR' ...
** testing if installed package can be loaded
* MD5 sums
packaged installation of 'systemPipeR' as systemPipeR_2.0.8.zip
* DONE (systemPipeR)