| Back to Multiple platform build/check report for BioC 3.14 |
|
This page was generated on 2022-04-13 12:08:53 -0400 (Wed, 13 Apr 2022).
| Hostname | OS | Arch (*) | R version | Installed pkgs |
|---|---|---|---|---|
| nebbiolo2 | Linux (Ubuntu 20.04.4 LTS) | x86_64 | 4.1.3 (2022-03-10) -- "One Push-Up" | 4324 |
| tokay2 | Windows Server 2012 R2 Standard | x64 | 4.1.3 (2022-03-10) -- "One Push-Up" | 4077 |
| machv2 | macOS 10.14.6 Mojave | x86_64 | 4.1.3 (2022-03-10) -- "One Push-Up" | 4137 |
| Click on any hostname to see more info about the system (e.g. compilers) (*) as reported by 'uname -p', except on Windows and Mac OS X | ||||
|
To the developers/maintainers of the sva package: - Please allow up to 24 hours (and sometimes 48 hours) for your latest push to git@git.bioconductor.org:packages/sva.git to reflect on this report. See How and When does the builder pull? When will my changes propagate? for more information. - Make sure to use the following settings in order to reproduce any error or warning you see on this page. |
| Package 1909/2083 | Hostname | OS / Arch | INSTALL | BUILD | CHECK | BUILD BIN | ||||||||
| sva 3.42.0 (landing page) Jeffrey T. Leek
| nebbiolo2 | Linux (Ubuntu 20.04.4 LTS) / x86_64 | OK | OK | OK | |||||||||
| tokay2 | Windows Server 2012 R2 Standard / x64 | OK | OK | OK | OK | |||||||||
| machv2 | macOS 10.14.6 Mojave / x86_64 | OK | OK | OK | OK | |||||||||
| Package: sva |
| Version: 3.42.0 |
| Command: /Library/Frameworks/R.framework/Resources/bin/R CMD check --install=check:sva.install-out.txt --library=/Library/Frameworks/R.framework/Resources/library --no-vignettes --timings sva_3.42.0.tar.gz |
| StartedAt: 2022-04-12 19:11:31 -0400 (Tue, 12 Apr 2022) |
| EndedAt: 2022-04-12 19:17:20 -0400 (Tue, 12 Apr 2022) |
| EllapsedTime: 348.9 seconds |
| RetCode: 0 |
| Status: OK |
| CheckDir: sva.Rcheck |
| Warnings: 0 |
##############################################################################
##############################################################################
###
### Running command:
###
### /Library/Frameworks/R.framework/Resources/bin/R CMD check --install=check:sva.install-out.txt --library=/Library/Frameworks/R.framework/Resources/library --no-vignettes --timings sva_3.42.0.tar.gz
###
##############################################################################
##############################################################################
* using log directory ‘/Users/biocbuild/bbs-3.14-bioc/meat/sva.Rcheck’
* using R version 4.1.3 (2022-03-10)
* using platform: x86_64-apple-darwin17.0 (64-bit)
* using session charset: UTF-8
* using option ‘--no-vignettes’
* checking for file ‘sva/DESCRIPTION’ ... OK
* this is package ‘sva’ version ‘3.42.0’
* checking package namespace information ... OK
* checking package dependencies ... OK
* checking if this is a source package ... OK
* checking if there is a namespace ... OK
* checking for hidden files and directories ... OK
* checking for portable file names ... OK
* checking for sufficient/correct file permissions ... OK
* checking whether package ‘sva’ can be installed ... OK
* checking installed package size ... OK
* checking package directory ... OK
* checking ‘build’ directory ... OK
* checking DESCRIPTION meta-information ... OK
* checking top-level files ... OK
* checking for left-over files ... OK
* checking index information ... OK
* checking package subdirectories ... OK
* checking R files for non-ASCII characters ... OK
* checking R files for syntax errors ... OK
* checking whether the package can be loaded ... OK
* checking whether the package can be loaded with stated dependencies ... OK
* checking whether the package can be unloaded cleanly ... OK
* checking whether the namespace can be loaded with stated dependencies ... OK
* checking whether the namespace can be unloaded cleanly ... OK
* checking dependencies in R code ... OK
* checking S3 generic/method consistency ... OK
* checking replacement functions ... OK
* checking foreign function calls ... OK
* checking R code for possible problems ... OK
* checking Rd files ... OK
* checking Rd metadata ... OK
* checking Rd cross-references ... OK
* checking for missing documentation entries ... OK
* checking for code/documentation mismatches ... OK
* checking Rd \usage sections ... OK
* checking Rd contents ... OK
* checking for unstated dependencies in examples ... OK
* checking line endings in C/C++/Fortran sources/headers ... OK
* checking compiled code ... OK
* checking sizes of PDF files under ‘inst/doc’ ... OK
* checking files in ‘vignettes’ ... OK
* checking examples ... OK
Examples with CPU (user + system) or elapsed time > 5s
user system elapsed
sva_network 15.870 0.452 16.332
sva.check 8.914 0.609 9.528
* checking for unstated dependencies in ‘tests’ ... OK
* checking tests ...
Running ‘testthat.R’
OK
* checking for unstated dependencies in vignettes ... OK
* checking package vignettes in ‘inst/doc’ ... OK
* checking running R code from vignettes ... SKIPPED
* checking re-building of vignette outputs ... SKIPPED
* checking PDF version of manual ... OK
* DONE
Status: OK
sva.Rcheck/00install.out
##############################################################################
##############################################################################
###
### Running command:
###
### /Library/Frameworks/R.framework/Resources/bin/R CMD INSTALL sva
###
##############################################################################
##############################################################################
* installing to library ‘/Library/Frameworks/R.framework/Versions/4.1/Resources/library’
* installing *source* package ‘sva’ ...
** using staged installation
** libs
clang -mmacosx-version-min=10.13 -I"/Library/Frameworks/R.framework/Resources/include" -DNDEBUG -I/usr/local/include -fPIC -Wall -g -O2 -c sva.c -o sva.o
sva.c:29:3: warning: suggest braces around initialization of subobject [-Wmissing-braces]
NULL
^~~~
{ }
/Library/Developer/CommandLineTools/usr/lib/clang/10.0.1/include/stddef.h:105:16: note: expanded from macro 'NULL'
# define NULL ((void*)0)
^~~~~~~~~~
1 warning generated.
clang -mmacosx-version-min=10.13 -dynamiclib -Wl,-headerpad_max_install_names -undefined dynamic_lookup -single_module -multiply_defined suppress -L/Library/Frameworks/R.framework/Resources/lib -L/usr/local/lib -o sva.so sva.o -F/Library/Frameworks/R.framework/.. -framework R -Wl,-framework -Wl,CoreFoundation
installing to /Library/Frameworks/R.framework/Versions/4.1/Resources/library/00LOCK-sva/00new/sva/libs
** R
** inst
** byte-compile and prepare package for lazy loading
** help
*** installing help indices
** building package indices
** installing vignettes
** testing if installed package can be loaded from temporary location
** checking absolute paths in shared objects and dynamic libraries
** testing if installed package can be loaded from final location
** testing if installed package keeps a record of temporary installation path
* DONE (sva)
sva.Rcheck/tests/testthat.Rout
R version 4.1.3 (2022-03-10) -- "One Push-Up"
Copyright (C) 2022 The R Foundation for Statistical Computing
Platform: x86_64-apple-darwin17.0 (64-bit)
R is free software and comes with ABSOLUTELY NO WARRANTY.
You are welcome to redistribute it under certain conditions.
Type 'license()' or 'licence()' for distribution details.
R is a collaborative project with many contributors.
Type 'contributors()' for more information and
'citation()' on how to cite R or R packages in publications.
Type 'demo()' for some demos, 'help()' for on-line help, or
'help.start()' for an HTML browser interface to help.
Type 'q()' to quit R.
> library(testthat)
> library(sva)
Loading required package: mgcv
Loading required package: nlme
This is mgcv 1.8-40. For overview type 'help("mgcv-package")'.
Loading required package: genefilter
Loading required package: BiocParallel
>
> test_check("sva")
Found 2 batches
Using full model in ComBat-seq.
Adjusting for 1 covariate(s) or covariate level(s)
[ FAIL 0 | WARN 0 | SKIP 0 | PASS 33 ]
>
> proc.time()
user system elapsed
99.021 6.745 103.025
sva.Rcheck/sva-Ex.timings
| name | user | system | elapsed | |
| ComBat | 2.140 | 0.046 | 2.191 | |
| ComBat_seq | 0.279 | 0.006 | 0.285 | |
| empirical.controls | 1.997 | 0.121 | 2.119 | |
| f.pvalue | 0.385 | 0.026 | 0.411 | |
| fstats | 0.353 | 0.015 | 0.367 | |
| fsva | 0.621 | 0.037 | 0.659 | |
| irwsva.build | 1.574 | 0.069 | 1.643 | |
| num.sv | 0.837 | 0.036 | 0.872 | |
| psva | 0.949 | 0.030 | 0.979 | |
| qsva | 0.847 | 0.535 | 1.129 | |
| read.degradation.matrix | 1.631 | 1.074 | 1.179 | |
| ssva | 0.812 | 0.052 | 0.864 | |
| sva | 1.764 | 0.129 | 1.895 | |
| sva.check | 8.914 | 0.609 | 9.528 | |
| sva_network | 15.870 | 0.452 | 16.332 | |
| svaseq | 0.764 | 0.029 | 0.794 | |
| twostepsva.build | 4.576 | 0.151 | 4.729 | |