| Back to Multiple platform build/check report for BioC 3.14 |
|
This page was generated on 2022-04-13 12:08:53 -0400 (Wed, 13 Apr 2022).
| Hostname | OS | Arch (*) | R version | Installed pkgs |
|---|---|---|---|---|
| nebbiolo2 | Linux (Ubuntu 20.04.4 LTS) | x86_64 | 4.1.3 (2022-03-10) -- "One Push-Up" | 4324 |
| tokay2 | Windows Server 2012 R2 Standard | x64 | 4.1.3 (2022-03-10) -- "One Push-Up" | 4077 |
| machv2 | macOS 10.14.6 Mojave | x86_64 | 4.1.3 (2022-03-10) -- "One Push-Up" | 4137 |
| Click on any hostname to see more info about the system (e.g. compilers) (*) as reported by 'uname -p', except on Windows and Mac OS X | ||||
|
To the developers/maintainers of the supraHex package: - Please allow up to 24 hours (and sometimes 48 hours) for your latest push to git@git.bioconductor.org:packages/supraHex.git to reflect on this report. See How and When does the builder pull? When will my changes propagate? for more information. - Make sure to use the following settings in order to reproduce any error or warning you see on this page. |
| Package 1904/2083 | Hostname | OS / Arch | INSTALL | BUILD | CHECK | BUILD BIN | ||||||||
| supraHex 1.32.0 (landing page) Hai Fang
| nebbiolo2 | Linux (Ubuntu 20.04.4 LTS) / x86_64 | OK | OK | OK | |||||||||
| tokay2 | Windows Server 2012 R2 Standard / x64 | OK | OK | OK | OK | |||||||||
| machv2 | macOS 10.14.6 Mojave / x86_64 | OK | OK | OK | OK | |||||||||
| Package: supraHex |
| Version: 1.32.0 |
| Command: /Library/Frameworks/R.framework/Resources/bin/R CMD check --install=check:supraHex.install-out.txt --library=/Library/Frameworks/R.framework/Resources/library --no-vignettes --timings supraHex_1.32.0.tar.gz |
| StartedAt: 2022-04-12 19:09:28 -0400 (Tue, 12 Apr 2022) |
| EndedAt: 2022-04-12 19:11:31 -0400 (Tue, 12 Apr 2022) |
| EllapsedTime: 122.7 seconds |
| RetCode: 0 |
| Status: OK |
| CheckDir: supraHex.Rcheck |
| Warnings: 0 |
##############################################################################
##############################################################################
###
### Running command:
###
### /Library/Frameworks/R.framework/Resources/bin/R CMD check --install=check:supraHex.install-out.txt --library=/Library/Frameworks/R.framework/Resources/library --no-vignettes --timings supraHex_1.32.0.tar.gz
###
##############################################################################
##############################################################################
* using log directory ‘/Users/biocbuild/bbs-3.14-bioc/meat/supraHex.Rcheck’
* using R version 4.1.3 (2022-03-10)
* using platform: x86_64-apple-darwin17.0 (64-bit)
* using session charset: UTF-8
* using option ‘--no-vignettes’
* checking for file ‘supraHex/DESCRIPTION’ ... OK
* checking extension type ... Package
* this is package ‘supraHex’ version ‘1.32.0’
* checking package namespace information ... OK
* checking package dependencies ... OK
* checking if this is a source package ... OK
* checking if there is a namespace ... OK
* checking for hidden files and directories ... OK
* checking for portable file names ... OK
* checking for sufficient/correct file permissions ... OK
* checking whether package ‘supraHex’ can be installed ... OK
* checking installed package size ... OK
* checking package directory ... OK
* checking ‘build’ directory ... OK
* checking DESCRIPTION meta-information ... OK
* checking top-level files ... OK
* checking for left-over files ... OK
* checking index information ... OK
* checking package subdirectories ... OK
* checking R files for non-ASCII characters ... OK
* checking R files for syntax errors ... OK
* checking whether the package can be loaded ... OK
* checking whether the package can be loaded with stated dependencies ... OK
* checking whether the package can be unloaded cleanly ... OK
* checking whether the namespace can be loaded with stated dependencies ... OK
* checking whether the namespace can be unloaded cleanly ... OK
* checking dependencies in R code ... OK
* checking S3 generic/method consistency ... OK
* checking replacement functions ... OK
* checking foreign function calls ... OK
* checking R code for possible problems ... OK
* checking Rd files ... OK
* checking Rd metadata ... OK
* checking Rd cross-references ... OK
* checking for missing documentation entries ... OK
* checking for code/documentation mismatches ... OK
* checking Rd \usage sections ... OK
* checking Rd contents ... OK
* checking for unstated dependencies in examples ... OK
* checking contents of ‘data’ directory ... OK
* checking data for non-ASCII characters ... OK
* checking data for ASCII and uncompressed saves ... OK
* checking sizes of PDF files under ‘inst/doc’ ... OK
* checking files in ‘vignettes’ ... OK
* checking examples ... OK
Examples with CPU (user + system) or elapsed time > 5s
user system elapsed
visCompReorder 6.300 0.417 6.721
sCompReorder 5.032 0.227 5.295
* checking for unstated dependencies in vignettes ... OK
* checking package vignettes in ‘inst/doc’ ... OK
* checking running R code from vignettes ... SKIPPED
* checking re-building of vignette outputs ... SKIPPED
* checking PDF version of manual ... OK
* DONE
Status: OK
supraHex.Rcheck/00install.out
############################################################################## ############################################################################## ### ### Running command: ### ### /Library/Frameworks/R.framework/Resources/bin/R CMD INSTALL supraHex ### ############################################################################## ############################################################################## * installing to library ‘/Library/Frameworks/R.framework/Versions/4.1/Resources/library’ * installing *source* package ‘supraHex’ ... ** using staged installation ** R ** data ** inst ** byte-compile and prepare package for lazy loading ** help *** installing help indices ** building package indices ** installing vignettes ** testing if installed package can be loaded from temporary location ** testing if installed package can be loaded from final location ** testing if installed package keeps a record of temporary installation path * DONE (supraHex)
supraHex.Rcheck/supraHex-Ex.timings
| name | user | system | elapsed | |
| sBMH | 0.103 | 0.013 | 0.116 | |
| sCompReorder | 5.032 | 0.227 | 5.295 | |
| sDistance | 0.649 | 0.009 | 0.658 | |
| sDmat | 0.836 | 0.009 | 0.845 | |
| sDmatCluster | 0.924 | 0.009 | 0.935 | |
| sDmatMinima | 0.730 | 0.008 | 0.737 | |
| sHexDist | 0.013 | 0.001 | 0.013 | |
| sHexGrid | 0.003 | 0.000 | 0.003 | |
| sHexGridVariant | 0.003 | 0.002 | 0.005 | |
| sHexPolygon | 0.236 | 0.001 | 0.238 | |
| sInitial | 0.019 | 0.001 | 0.019 | |
| sMapOverlay | 0.841 | 0.020 | 0.862 | |
| sNeighAny | 0.016 | 0.001 | 0.017 | |
| sNeighDirect | 0.015 | 0.001 | 0.015 | |
| sPipeline | 0.000 | 0.000 | 0.001 | |
| sTopology | 0.173 | 0.014 | 0.187 | |
| sTrainBatch | 0.075 | 0.002 | 0.077 | |
| sTrainSeq | 0.664 | 0.028 | 0.693 | |
| sTrainology | 0.012 | 0.001 | 0.013 | |
| sWriteData | 0.987 | 0.046 | 1.030 | |
| visColoralpha | 0.005 | 0.001 | 0.005 | |
| visColorbar | 0.038 | 0.001 | 0.038 | |
| visColormap | 0.006 | 0.001 | 0.006 | |
| visCompReorder | 6.300 | 0.417 | 6.721 | |
| visDmatCluster | 0.001 | 0.001 | 0.001 | |
| visDmatHeatmap | 0.000 | 0.000 | 0.001 | |
| visHeatmap | 0.177 | 0.002 | 0.179 | |
| visHeatmapAdv | 0.730 | 0.009 | 0.741 | |
| visHexAnimate | 0.002 | 0.001 | 0.002 | |
| visHexBarplot | 1.849 | 0.060 | 1.910 | |
| visHexComp | 0.591 | 0.010 | 0.601 | |
| visHexGrid | 0.713 | 0.015 | 0.728 | |
| visHexMapping | 2.716 | 0.106 | 2.822 | |
| visHexMulComp | 2.197 | 0.066 | 2.264 | |
| visHexPattern | 3.106 | 0.190 | 3.299 | |
| visKernels | 0.015 | 0.009 | 0.024 | |
| visTreeBSclust | 0.000 | 0.001 | 0.001 | |
| visTreeBootstrap | 0.001 | 0.000 | 0.002 | |
| visVp | 0.026 | 0.010 | 0.036 | |