| Back to Multiple platform build/check report for BioC 3.14 |
|
This page was generated on 2022-04-13 12:08:52 -0400 (Wed, 13 Apr 2022).
| Hostname | OS | Arch (*) | R version | Installed pkgs |
|---|---|---|---|---|
| nebbiolo2 | Linux (Ubuntu 20.04.4 LTS) | x86_64 | 4.1.3 (2022-03-10) -- "One Push-Up" | 4324 |
| tokay2 | Windows Server 2012 R2 Standard | x64 | 4.1.3 (2022-03-10) -- "One Push-Up" | 4077 |
| machv2 | macOS 10.14.6 Mojave | x86_64 | 4.1.3 (2022-03-10) -- "One Push-Up" | 4137 |
| Click on any hostname to see more info about the system (e.g. compilers) (*) as reported by 'uname -p', except on Windows and Mac OS X | ||||
|
To the developers/maintainers of the structToolbox package: - Please allow up to 24 hours (and sometimes 48 hours) for your latest push to git@git.bioconductor.org:packages/structToolbox.git to reflect on this report. See How and When does the builder pull? When will my changes propagate? for more information. - Make sure to use the following settings in order to reproduce any error or warning you see on this page. |
| Package 1896/2083 | Hostname | OS / Arch | INSTALL | BUILD | CHECK | BUILD BIN | ||||||||
| structToolbox 1.6.1 (landing page) Gavin Rhys Lloyd
| nebbiolo2 | Linux (Ubuntu 20.04.4 LTS) / x86_64 | OK | OK | OK | |||||||||
| tokay2 | Windows Server 2012 R2 Standard / x64 | OK | OK | OK | OK | |||||||||
| machv2 | macOS 10.14.6 Mojave / x86_64 | OK | OK | OK | OK | |||||||||
| Package: structToolbox |
| Version: 1.6.1 |
| Command: /Library/Frameworks/R.framework/Resources/bin/R CMD check --install=check:structToolbox.install-out.txt --library=/Library/Frameworks/R.framework/Resources/library --no-vignettes --timings structToolbox_1.6.1.tar.gz |
| StartedAt: 2022-04-12 19:07:01 -0400 (Tue, 12 Apr 2022) |
| EndedAt: 2022-04-12 19:19:31 -0400 (Tue, 12 Apr 2022) |
| EllapsedTime: 750.0 seconds |
| RetCode: 0 |
| Status: OK |
| CheckDir: structToolbox.Rcheck |
| Warnings: 0 |
##############################################################################
##############################################################################
###
### Running command:
###
### /Library/Frameworks/R.framework/Resources/bin/R CMD check --install=check:structToolbox.install-out.txt --library=/Library/Frameworks/R.framework/Resources/library --no-vignettes --timings structToolbox_1.6.1.tar.gz
###
##############################################################################
##############################################################################
* using log directory ‘/Users/biocbuild/bbs-3.14-bioc/meat/structToolbox.Rcheck’
* using R version 4.1.3 (2022-03-10)
* using platform: x86_64-apple-darwin17.0 (64-bit)
* using session charset: UTF-8
* using option ‘--no-vignettes’
* checking for file ‘structToolbox/DESCRIPTION’ ... OK
* checking extension type ... Package
* this is package ‘structToolbox’ version ‘1.6.1’
* package encoding: UTF-8
* checking package namespace information ... OK
* checking package dependencies ... OK
* checking if this is a source package ... OK
* checking if there is a namespace ... OK
* checking for hidden files and directories ... OK
* checking for portable file names ... OK
* checking for sufficient/correct file permissions ... OK
* checking whether package ‘structToolbox’ can be installed ... OK
* checking installed package size ... OK
* checking package directory ... OK
* checking ‘build’ directory ... OK
* checking DESCRIPTION meta-information ... OK
* checking top-level files ... OK
* checking for left-over files ... OK
* checking index information ... OK
* checking package subdirectories ... OK
* checking R files for non-ASCII characters ... OK
* checking R files for syntax errors ... OK
* checking whether the package can be loaded ... OK
* checking whether the package can be loaded with stated dependencies ... OK
* checking whether the package can be unloaded cleanly ... OK
* checking whether the namespace can be loaded with stated dependencies ... OK
* checking whether the namespace can be unloaded cleanly ... OK
* checking dependencies in R code ... OK
* checking S3 generic/method consistency ... OK
* checking replacement functions ... OK
* checking foreign function calls ... OK
* checking R code for possible problems ... OK
* checking Rd files ... OK
* checking Rd metadata ... OK
* checking Rd cross-references ... OK
* checking for missing documentation entries ... OK
* checking for code/documentation mismatches ... OK
* checking Rd \usage sections ... OK
* checking Rd contents ... OK
* checking for unstated dependencies in examples ... OK
* checking R/sysdata.rda ... OK
* checking files in ‘vignettes’ ... OK
* checking examples ... OK
Examples with CPU (user + system) or elapsed time > 5s
user system elapsed
fold_change_int 31.316 0.056 31.397
fold_change 19.353 0.055 19.428
fisher_exact 13.584 0.056 13.675
fs_line 10.801 0.125 10.947
forward_selection_by_rank 10.116 0.089 10.214
kfoldxcv_grid 6.655 0.018 6.678
confounders_lsq_boxplot 6.577 0.028 6.619
confounders_lsq_barchart 6.417 0.025 6.455
compare_dist 5.852 0.254 6.114
kfold_xval 6.075 0.019 6.100
confounders_clsq 6.013 0.039 6.057
grid_search_1d 5.655 0.103 5.767
* checking for unstated dependencies in ‘tests’ ... OK
* checking tests ...
Running ‘testthat.R’
OK
* checking for unstated dependencies in vignettes ... OK
* checking package vignettes in ‘inst/doc’ ... OK
* checking running R code from vignettes ... SKIPPED
* checking re-building of vignette outputs ... SKIPPED
* checking PDF version of manual ... OK
* DONE
Status: OK
structToolbox.Rcheck/00install.out
############################################################################## ############################################################################## ### ### Running command: ### ### /Library/Frameworks/R.framework/Resources/bin/R CMD INSTALL structToolbox ### ############################################################################## ############################################################################## * installing to library ‘/Library/Frameworks/R.framework/Versions/4.1/Resources/library’ * installing *source* package ‘structToolbox’ ... ** using staged installation ** R ** byte-compile and prepare package for lazy loading ** help *** installing help indices ** building package indices ** installing vignettes ** testing if installed package can be loaded from temporary location ** testing if installed package can be loaded from final location ** testing if installed package keeps a record of temporary installation path * DONE (structToolbox)
structToolbox.Rcheck/tests/testthat.Rout
R version 4.1.3 (2022-03-10) -- "One Push-Up"
Copyright (C) 2022 The R Foundation for Statistical Computing
Platform: x86_64-apple-darwin17.0 (64-bit)
R is free software and comes with ABSOLUTELY NO WARRANTY.
You are welcome to redistribute it under certain conditions.
Type 'license()' or 'licence()' for distribution details.
R is a collaborative project with many contributors.
Type 'contributors()' for more information and
'citation()' on how to cite R or R packages in publications.
Type 'demo()' for some demos, 'help()' for on-line help, or
'help.start()' for an HTML browser interface to help.
Type 'q()' to quit R.
> library(testthat)
> library(ggplot2)
> library(structToolbox)
Loading required package: struct
>
> test_check("structToolbox")
[ FAIL 0 | WARN 2 | SKIP 0 | PASS 124 ]
[ FAIL 0 | WARN 2 | SKIP 0 | PASS 124 ]
>
> proc.time()
user system elapsed
325.915 1.788 328.001
structToolbox.Rcheck/structToolbox-Ex.timings
| name | user | system | elapsed | |
| ANOVA | 0.342 | 0.009 | 0.351 | |
| AUC | 3.896 | 0.046 | 3.944 | |
| DFA | 0.460 | 0.002 | 0.462 | |
| DatasetExperiment_boxplot | 1.019 | 0.041 | 1.063 | |
| DatasetExperiment_dist | 2.042 | 0.095 | 2.140 | |
| DatasetExperiment_factor_boxplot | 0.291 | 0.001 | 0.293 | |
| DatasetExperiment_heatmap | 0.466 | 0.021 | 0.487 | |
| HCA | 0.138 | 0.013 | 0.151 | |
| HSD | 0.665 | 0.072 | 0.739 | |
| HSDEM | 0.744 | 0.034 | 0.779 | |
| MTBLS79_DatasetExperiment | 0.005 | 0.000 | 0.006 | |
| PCA | 0.008 | 0.001 | 0.008 | |
| PLSDA | 0.023 | 0.001 | 0.024 | |
| PLSR | 0.012 | 0.001 | 0.013 | |
| SVM | 0.018 | 0.000 | 0.019 | |
| as_data_frame | 0.293 | 0.002 | 0.295 | |
| autoscale | 0.188 | 0.001 | 0.189 | |
| balanced_accuracy | 3.431 | 0.011 | 3.445 | |
| blank_filter | 0.677 | 0.011 | 0.689 | |
| blank_filter_hist | 0.001 | 0.000 | 0.001 | |
| bootstrap | 0.011 | 0.000 | 0.012 | |
| calculate | 0.010 | 0.001 | 0.011 | |
| chart_plot | 0.070 | 0.001 | 0.072 | |
| classical_lsq | 0.648 | 0.005 | 0.653 | |
| compare_dist | 5.852 | 0.254 | 6.114 | |
| confounders_clsq | 6.013 | 0.039 | 6.057 | |
| confounders_lsq_barchart | 6.417 | 0.025 | 6.455 | |
| confounders_lsq_boxplot | 6.577 | 0.028 | 6.619 | |
| constant_sum_norm | 0.009 | 0.000 | 0.009 | |
| corr_coef | 0.383 | 0.003 | 0.386 | |
| dfa_scores_plot | 1.105 | 0.005 | 1.111 | |
| dratio_filter | 1.198 | 0.036 | 1.234 | |
| feature_boxplot | 0.029 | 0.000 | 0.029 | |
| feature_profile | 0.712 | 0.011 | 0.723 | |
| feature_profile_array | 0.844 | 0.037 | 0.881 | |
| filter_by_name | 0.052 | 0.001 | 0.052 | |
| filter_na_count | 2.008 | 0.097 | 2.112 | |
| filter_smeta | 0.127 | 0.001 | 0.128 | |
| fisher_exact | 13.584 | 0.056 | 13.675 | |
| fold_change | 19.353 | 0.055 | 19.428 | |
| fold_change_int | 31.316 | 0.056 | 31.397 | |
| fold_change_plot | 0.009 | 0.001 | 0.009 | |
| forward_selection_by_rank | 10.116 | 0.089 | 10.214 | |
| fs_line | 10.801 | 0.125 | 10.947 | |
| glog_opt_plot | 1.098 | 0.004 | 1.103 | |
| glog_transform | 0.770 | 0.001 | 0.773 | |
| grid_search_1d | 5.655 | 0.103 | 5.767 | |
| gs_line | 0.001 | 0.000 | 0.001 | |
| hca_dendrogram | 0.001 | 0.000 | 0.001 | |
| kfold_xval | 6.075 | 0.019 | 6.100 | |
| kfoldxcv_grid | 6.655 | 0.018 | 6.678 | |
| kfoldxcv_metric | 0.001 | 0.000 | 0.001 | |
| knn_impute | 0.011 | 0.000 | 0.011 | |
| kw_p_hist | 0.000 | 0.000 | 0.001 | |
| kw_rank_sum | 0.161 | 0.001 | 0.162 | |
| linear_model | 0.069 | 0.000 | 0.070 | |
| log_transform | 0.008 | 0.000 | 0.009 | |
| mean_centre | 0.003 | 0.000 | 0.002 | |
| mean_of_medians | 0.264 | 0.001 | 0.264 | |
| mixed_effect | 0.308 | 0.001 | 0.310 | |
| model_apply | 0.056 | 0.001 | 0.057 | |
| model_predict | 0.139 | 0.002 | 0.140 | |
| model_reverse | 0.101 | 0.001 | 0.102 | |
| model_train | 0.127 | 0.001 | 0.128 | |
| mv_boxplot | 0.427 | 0.001 | 0.430 | |
| mv_feature_filter | 0.315 | 0.003 | 0.318 | |
| mv_feature_filter_hist | 0.001 | 0.000 | 0.001 | |
| mv_histogram | 0.429 | 0.003 | 0.432 | |
| mv_sample_filter | 0.009 | 0.001 | 0.010 | |
| mv_sample_filter_hist | 0.001 | 0.000 | 0.001 | |
| nroot_transform | 0.008 | 0.000 | 0.007 | |
| ontology_cache | 0.000 | 0.002 | 0.001 | |
| pairs_filter | 0.006 | 0.001 | 0.007 | |
| pareto_scale | 0.146 | 0.001 | 0.147 | |
| pca_biplot | 0.014 | 0.000 | 0.014 | |
| pca_correlation_plot | 0.007 | 0.000 | 0.007 | |
| pca_dstat_plot | 0.01 | 0.00 | 0.01 | |
| pca_loadings_plot | 0.011 | 0.001 | 0.011 | |
| pca_scores_plot | 0.783 | 0.003 | 0.787 | |
| pca_scree_plot | 0.001 | 0.000 | 0.001 | |
| permutation_test | 0.007 | 0.000 | 0.006 | |
| permutation_test_plot | 0.005 | 0.001 | 0.004 | |
| permute_sample_order | 0.008 | 0.001 | 0.008 | |
| plsda_predicted_plot | 0.596 | 0.004 | 0.600 | |
| plsda_regcoeff_plot | 0.490 | 0.003 | 0.495 | |
| plsda_roc_plot | 1.332 | 0.025 | 1.359 | |
| plsda_scores_plot | 0.777 | 0.011 | 0.788 | |
| plsda_vip_plot | 0.515 | 0.009 | 0.525 | |
| plsda_vip_summary_plot | 0.810 | 0.010 | 0.823 | |
| plsr_cook_dist | 0.001 | 0.000 | 0.001 | |
| plsr_prediction_plot | 0 | 0 | 0 | |
| plsr_qq_plot | 0.001 | 0.001 | 0.002 | |
| plsr_residual_hist | 0.001 | 0.000 | 0.001 | |
| pqn_norm | 0.879 | 0.004 | 0.885 | |
| pqn_norm_hist | 0.001 | 0.000 | 0.002 | |
| prop_na | 0.011 | 0.001 | 0.011 | |
| r_squared | 0.001 | 0.000 | 0.002 | |
| rsd_filter | 0.013 | 0.000 | 0.014 | |
| rsd_filter_hist | 0.001 | 0.000 | 0.001 | |
| run | 0.070 | 0.001 | 0.071 | |
| sb_corr | 0.028 | 0.000 | 0.029 | |
| split_data | 0.009 | 0.000 | 0.009 | |
| stratified_split | 0.287 | 0.001 | 0.289 | |
| svm_plot_2d | 1.277 | 0.011 | 1.291 | |
| tSNE | 0.021 | 0.001 | 0.020 | |
| tSNE_scatter | 0.010 | 0.001 | 0.009 | |
| tic_chart | 0.398 | 0.002 | 0.401 | |
| ttest | 0.018 | 0.000 | 0.018 | |
| vec_norm | 0.001 | 0.000 | 0.001 | |
| wilcox_p_hist | 0.000 | 0.000 | 0.001 | |
| wilcox_test | 0.018 | 0.000 | 0.018 | |