| Back to Multiple platform build/check report for BioC 3.14 |
|
This page was generated on 2022-04-13 12:07:26 -0400 (Wed, 13 Apr 2022).
| Hostname | OS | Arch (*) | R version | Installed pkgs |
|---|---|---|---|---|
| nebbiolo2 | Linux (Ubuntu 20.04.4 LTS) | x86_64 | 4.1.3 (2022-03-10) -- "One Push-Up" | 4324 |
| tokay2 | Windows Server 2012 R2 Standard | x64 | 4.1.3 (2022-03-10) -- "One Push-Up" | 4077 |
| machv2 | macOS 10.14.6 Mojave | x86_64 | 4.1.3 (2022-03-10) -- "One Push-Up" | 4137 |
| Click on any hostname to see more info about the system (e.g. compilers) (*) as reported by 'uname -p', except on Windows and Mac OS X | ||||
|
To the developers/maintainers of the struct package: - Please allow up to 24 hours (and sometimes 48 hours) for your latest push to git@git.bioconductor.org:packages/struct.git to reflect on this report. See How and When does the builder pull? When will my changes propagate? for more information. - Make sure to use the following settings in order to reproduce any error or warning you see on this page. |
| Package 1894/2083 | Hostname | OS / Arch | INSTALL | BUILD | CHECK | BUILD BIN | ||||||||
| struct 1.6.0 (landing page) Gavin Rhys Lloyd
| nebbiolo2 | Linux (Ubuntu 20.04.4 LTS) / x86_64 | OK | OK | OK | |||||||||
| tokay2 | Windows Server 2012 R2 Standard / x64 | OK | OK | OK | OK | |||||||||
| machv2 | macOS 10.14.6 Mojave / x86_64 | OK | OK | OK | OK | |||||||||
| Package: struct |
| Version: 1.6.0 |
| Command: rm -rf struct.buildbin-libdir && mkdir struct.buildbin-libdir && C:\Users\biocbuild\bbs-3.14-bioc\R\bin\R.exe CMD INSTALL --merge-multiarch --build --library=struct.buildbin-libdir struct_1.6.0.tar.gz |
| StartedAt: 2022-04-13 07:12:55 -0400 (Wed, 13 Apr 2022) |
| EndedAt: 2022-04-13 07:13:36 -0400 (Wed, 13 Apr 2022) |
| EllapsedTime: 41.3 seconds |
| RetCode: 0 |
| Status: OK |
| PackageFile: struct_1.6.0.zip |
| PackageFileSize: 1.626 MiB |
##############################################################################
##############################################################################
###
### Running command:
###
### rm -rf struct.buildbin-libdir && mkdir struct.buildbin-libdir && C:\Users\biocbuild\bbs-3.14-bioc\R\bin\R.exe CMD INSTALL --merge-multiarch --build --library=struct.buildbin-libdir struct_1.6.0.tar.gz
###
##############################################################################
##############################################################################
install for i386
* installing *source* package 'struct' ...
** using staged installation
** R
** inst
** byte-compile and prepare package for lazy loading
** help
*** installing help indices
converting help for package 'struct'
finding HTML links ... done
as.DatasetExperiment-SummarizedExperiment-method
html
as.DatasetExperiment html
as.SummarizedExperiment-DatasetExperiment-method
html
as.SummarizedExperiment html
as.code html
as_data_frame html
autocompletion html
c-ontology_list-method html
cash-ontology_list-method html
cash-ontology_term-method html
cash-set-struct_class-method html
cash-struct_class-method html
chart html
chart_example html
chart_names html
chart_plot html
citations html
entity html
entity_stato html
enum html
enum_stato html
example_iterator html
example_model html
export_data html
iris_DatasetExperiment html
is_output html
is_param html
iterator html
libraries html
metric html
model html
model_apply html
model_reverse html
model_seq html
models html
new_struct html
ontology html
optimiser html
output_ids html
output_list html
output_name html
output_obj html
output_value html
param_ids html
param_list html
param_name html
param_obj html
param_value html
predict html
predicted html
predicted_name html
preprocessing html
resampler html
result html
result_name html
seq_in html
set_obj_method html
set_obj_show html
set_struct_obj html
stato html
struct html
struct_DatasetExperiment html
struct_class-class html
struct_class html
struct_template html
test_metric html
train html
** building package indices
** installing vignettes
** testing if installed package can be loaded from temporary location
** testing if installed package can be loaded from final location
** testing if installed package keeps a record of temporary installation path
install for x64
* installing *source* package 'struct' ...
** testing if installed package can be loaded
* MD5 sums
packaged installation of 'struct' as struct_1.6.0.zip
* DONE (struct)