| Back to Multiple platform build/check report for BioC 3.14 |
|
This page was generated on 2022-04-13 12:07:24 -0400 (Wed, 13 Apr 2022).
| Hostname | OS | Arch (*) | R version | Installed pkgs |
|---|---|---|---|---|
| nebbiolo2 | Linux (Ubuntu 20.04.4 LTS) | x86_64 | 4.1.3 (2022-03-10) -- "One Push-Up" | 4324 |
| tokay2 | Windows Server 2012 R2 Standard | x64 | 4.1.3 (2022-03-10) -- "One Push-Up" | 4077 |
| machv2 | macOS 10.14.6 Mojave | x86_64 | 4.1.3 (2022-03-10) -- "One Push-Up" | 4137 |
| Click on any hostname to see more info about the system (e.g. compilers) (*) as reported by 'uname -p', except on Windows and Mac OS X | ||||
|
To the developers/maintainers of the spiky package: - Please allow up to 24 hours (and sometimes 48 hours) for your latest push to git@git.bioconductor.org:packages/spiky.git to reflect on this report. See How and When does the builder pull? When will my changes propagate? for more information. - Make sure to use the following settings in order to reproduce any error or warning you see on this page. |
| Package 1859/2083 | Hostname | OS / Arch | INSTALL | BUILD | CHECK | BUILD BIN | ||||||||
| spiky 1.0.0 (landing page) Tim Triche
| nebbiolo2 | Linux (Ubuntu 20.04.4 LTS) / x86_64 | OK | OK | OK | |||||||||
| tokay2 | Windows Server 2012 R2 Standard / x64 | OK | OK | OK | OK | |||||||||
| machv2 | macOS 10.14.6 Mojave / x86_64 | OK | OK | OK | OK | |||||||||
| Package: spiky |
| Version: 1.0.0 |
| Command: rm -rf spiky.buildbin-libdir && mkdir spiky.buildbin-libdir && C:\Users\biocbuild\bbs-3.14-bioc\R\bin\R.exe CMD INSTALL --merge-multiarch --build --library=spiky.buildbin-libdir spiky_1.0.0.tar.gz |
| StartedAt: 2022-04-13 07:11:53 -0400 (Wed, 13 Apr 2022) |
| EndedAt: 2022-04-13 07:12:47 -0400 (Wed, 13 Apr 2022) |
| EllapsedTime: 53.7 seconds |
| RetCode: 0 |
| Status: OK |
| PackageFile: spiky_1.0.0.zip |
| PackageFileSize: 4.713 MiB |
##############################################################################
##############################################################################
###
### Running command:
###
### rm -rf spiky.buildbin-libdir && mkdir spiky.buildbin-libdir && C:\Users\biocbuild\bbs-3.14-bioc\R\bin\R.exe CMD INSTALL --merge-multiarch --build --library=spiky.buildbin-libdir spiky_1.0.0.tar.gz
###
##############################################################################
##############################################################################
install for i386
* installing *source* package 'spiky' ...
** using staged installation
** R
** data
** inst
** byte-compile and prepare package for lazy loading
** help
*** installing help indices
converting help for package 'spiky'
finding HTML links ... done
add_frag_info html
bam_to_bins html
bin_pmol html
covg_to_df html
dedup html
find_spike_contigs html
genbank_mito html
generate_spike_fasta html
get_base_name html
get_binned_coverage html
get_merged_gr html
get_spike_depth html
get_spiked_coverage html
kmax html
kmers html
methylation_specificity html
model_bam_standards html
model_glm_pmol html
parse_spike_UMI html
phage html
predict_pmol html
process_spikes html
rename_spike_seqlevels html
rename_spikes html
scan_genomic_contigs html
scan_methylation_specificity html
scan_spike_contigs html
scan_spike_counts html
scan_spiked_bam html
seqinfo_from_header html
spike html
spike_bland_altman_plot html
spike_counts html
spike_cram_counts html
spike_read_counts html
spiky-methods html
ssb_res html
testGR html
tile_bins html
** building package indices
** installing vignettes
** testing if installed package can be loaded from temporary location
** testing if installed package can be loaded from final location
** testing if installed package keeps a record of temporary installation path
install for x64
* installing *source* package 'spiky' ...
** testing if installed package can be loaded
* MD5 sums
packaged installation of 'spiky' as spiky_1.0.0.zip
* DONE (spiky)