| Back to Multiple platform build/check report for BioC 3.14 |
|
This page was generated on 2022-04-13 12:05:58 -0400 (Wed, 13 Apr 2022).
| Hostname | OS | Arch (*) | R version | Installed pkgs |
|---|---|---|---|---|
| nebbiolo2 | Linux (Ubuntu 20.04.4 LTS) | x86_64 | 4.1.3 (2022-03-10) -- "One Push-Up" | 4324 |
| tokay2 | Windows Server 2012 R2 Standard | x64 | 4.1.3 (2022-03-10) -- "One Push-Up" | 4077 |
| machv2 | macOS 10.14.6 Mojave | x86_64 | 4.1.3 (2022-03-10) -- "One Push-Up" | 4137 |
| Click on any hostname to see more info about the system (e.g. compilers) (*) as reported by 'uname -p', except on Windows and Mac OS X | ||||
|
To the developers/maintainers of the singleCellTK package: - Please allow up to 24 hours (and sometimes 48 hours) for your latest push to git@git.bioconductor.org:packages/singleCellTK.git to reflect on this report. See How and When does the builder pull? When will my changes propagate? for more information. - Make sure to use the following settings in order to reproduce any error or warning you see on this page. |
| Package 1807/2083 | Hostname | OS / Arch | INSTALL | BUILD | CHECK | BUILD BIN | ||||||||
| singleCellTK 2.4.0 (landing page) Yichen Wang
| nebbiolo2 | Linux (Ubuntu 20.04.4 LTS) / x86_64 | OK | OK | OK | |||||||||
| tokay2 | Windows Server 2012 R2 Standard / x64 | OK | OK | ERROR | OK | |||||||||
| machv2 | macOS 10.14.6 Mojave / x86_64 | OK | OK | OK | OK | |||||||||
| Package: singleCellTK |
| Version: 2.4.0 |
| Command: /home/biocbuild/bbs-3.14-bioc/R/bin/R CMD check --install=check:singleCellTK.install-out.txt --library=/home/biocbuild/bbs-3.14-bioc/R/library --no-vignettes --timings singleCellTK_2.4.0.tar.gz |
| StartedAt: 2022-04-12 09:24:29 -0400 (Tue, 12 Apr 2022) |
| EndedAt: 2022-04-12 09:36:12 -0400 (Tue, 12 Apr 2022) |
| EllapsedTime: 703.6 seconds |
| RetCode: 0 |
| Status: OK |
| CheckDir: singleCellTK.Rcheck |
| Warnings: 0 |
##############################################################################
##############################################################################
###
### Running command:
###
### /home/biocbuild/bbs-3.14-bioc/R/bin/R CMD check --install=check:singleCellTK.install-out.txt --library=/home/biocbuild/bbs-3.14-bioc/R/library --no-vignettes --timings singleCellTK_2.4.0.tar.gz
###
##############################################################################
##############################################################################
* using log directory ‘/home/biocbuild/bbs-3.14-bioc/meat/singleCellTK.Rcheck’
* using R version 4.1.3 (2022-03-10)
* using platform: x86_64-pc-linux-gnu (64-bit)
* using session charset: UTF-8
* using option ‘--no-vignettes’
* checking for file ‘singleCellTK/DESCRIPTION’ ... OK
* checking extension type ... Package
* this is package ‘singleCellTK’ version ‘2.4.0’
* package encoding: UTF-8
* checking package namespace information ... OK
* checking package dependencies ... OK
* checking if this is a source package ... OK
* checking if there is a namespace ... OK
* checking for hidden files and directories ... OK
* checking for portable file names ... OK
* checking for sufficient/correct file permissions ... OK
* checking whether package ‘singleCellTK’ can be installed ... OK
* checking installed package size ... NOTE
installed size is 6.5Mb
sub-directories of 1Mb or more:
extdata 1.6Mb
shiny 2.8Mb
* checking package directory ... OK
* checking ‘build’ directory ... OK
* checking DESCRIPTION meta-information ... OK
* checking top-level files ... OK
* checking for left-over files ... OK
* checking index information ... OK
* checking package subdirectories ... OK
* checking R files for non-ASCII characters ... OK
* checking R files for syntax errors ... OK
* checking whether the package can be loaded ... OK
* checking whether the package can be loaded with stated dependencies ... OK
* checking whether the package can be unloaded cleanly ... OK
* checking whether the namespace can be loaded with stated dependencies ... OK
* checking whether the namespace can be unloaded cleanly ... OK
* checking dependencies in R code ... NOTE
Namespaces in Imports field not imported from:
'AnnotationDbi' 'RColorBrewer'
All declared Imports should be used.
* checking S3 generic/method consistency ... OK
* checking replacement functions ... OK
* checking foreign function calls ... OK
* checking R code for possible problems ... OK
* checking Rd files ... OK
* checking Rd metadata ... OK
* checking Rd cross-references ... OK
* checking for missing documentation entries ... OK
* checking for code/documentation mismatches ... OK
* checking Rd \usage sections ... OK
* checking Rd contents ... OK
* checking for unstated dependencies in examples ... OK
* checking contents of ‘data’ directory ... OK
* checking data for non-ASCII characters ... OK
* checking LazyData ... OK
* checking data for ASCII and uncompressed saves ... OK
* checking R/sysdata.rda ... OK
* checking files in ‘vignettes’ ... OK
* checking examples ... OK
Examples with CPU (user + system) or elapsed time > 5s
user system elapsed
plotDoubletFinderResults 24.602 0.135 24.729
plotScDblFinderResults 23.072 0.236 23.229
importExampleData 19.050 1.788 21.629
runDoubletFinder 16.205 0.024 16.229
plotBatchCorrCompare 11.359 0.248 11.589
runScDblFinder 11.043 0.164 11.170
plotScdsHybridResults 9.423 0.073 8.581
plotBcdsResults 9.021 0.253 8.350
plotDecontXResults 7.823 0.176 7.999
plotCxdsResults 7.140 0.036 7.167
runDecontX 6.811 0.084 6.895
plotEmptyDropsResults 6.830 0.036 6.865
plotEmptyDropsScatter 6.727 0.044 6.771
plotUMAP 6.593 0.056 6.640
runEmptyDrops 6.452 0.004 6.456
findMarkerDiffExp 5.888 0.128 6.016
plotMarkerDiffExp 5.698 0.036 5.734
detectCellOutlier 5.168 0.205 5.373
findMarkerTopTable 5.148 0.064 5.213
* checking for unstated dependencies in ‘tests’ ... OK
* checking tests ...
Running ‘spelling.R’
Running ‘testthat.R’
OK
* checking for unstated dependencies in vignettes ... OK
* checking package vignettes in ‘inst/doc’ ... OK
* checking running R code from vignettes ... SKIPPED
* checking re-building of vignette outputs ... SKIPPED
* checking PDF version of manual ... OK
* DONE
Status: 2 NOTEs
See
‘/home/biocbuild/bbs-3.14-bioc/meat/singleCellTK.Rcheck/00check.log’
for details.
singleCellTK.Rcheck/00install.out
############################################################################## ############################################################################## ### ### Running command: ### ### /home/biocbuild/bbs-3.14-bioc/R/bin/R CMD INSTALL singleCellTK ### ############################################################################## ############################################################################## * installing to library ‘/home/biocbuild/bbs-3.14-bioc/R/library’ * installing *source* package ‘singleCellTK’ ... ** using staged installation ** R ** data *** moving datasets to lazyload DB ** exec ** inst ** byte-compile and prepare package for lazy loading ** help *** installing help indices ** building package indices ** installing vignettes ** testing if installed package can be loaded from temporary location ** testing if installed package can be loaded from final location ** testing if installed package keeps a record of temporary installation path * DONE (singleCellTK)
singleCellTK.Rcheck/tests/spelling.Rout
R version 4.1.3 (2022-03-10) -- "One Push-Up"
Copyright (C) 2022 The R Foundation for Statistical Computing
Platform: x86_64-pc-linux-gnu (64-bit)
R is free software and comes with ABSOLUTELY NO WARRANTY.
You are welcome to redistribute it under certain conditions.
Type 'license()' or 'licence()' for distribution details.
R is a collaborative project with many contributors.
Type 'contributors()' for more information and
'citation()' on how to cite R or R packages in publications.
Type 'demo()' for some demos, 'help()' for on-line help, or
'help.start()' for an HTML browser interface to help.
Type 'q()' to quit R.
> if (requireNamespace('spelling', quietly = TRUE))
+ spelling::spell_check_test(vignettes = TRUE, error = FALSE, skip_on_cran = TRUE)
NULL
>
> proc.time()
user system elapsed
0.146 0.031 0.164
singleCellTK.Rcheck/tests/testthat.Rout
R version 4.1.3 (2022-03-10) -- "One Push-Up"
Copyright (C) 2022 The R Foundation for Statistical Computing
Platform: x86_64-pc-linux-gnu (64-bit)
R is free software and comes with ABSOLUTELY NO WARRANTY.
You are welcome to redistribute it under certain conditions.
Type 'license()' or 'licence()' for distribution details.
R is a collaborative project with many contributors.
Type 'contributors()' for more information and
'citation()' on how to cite R or R packages in publications.
Type 'demo()' for some demos, 'help()' for on-line help, or
'help.start()' for an HTML browser interface to help.
Type 'q()' to quit R.
> library(testthat)
> library(singleCellTK)
Loading required package: SummarizedExperiment
Loading required package: MatrixGenerics
Loading required package: matrixStats
Attaching package: 'MatrixGenerics'
The following objects are masked from 'package:matrixStats':
colAlls, colAnyNAs, colAnys, colAvgsPerRowSet, colCollapse,
colCounts, colCummaxs, colCummins, colCumprods, colCumsums,
colDiffs, colIQRDiffs, colIQRs, colLogSumExps, colMadDiffs,
colMads, colMaxs, colMeans2, colMedians, colMins, colOrderStats,
colProds, colQuantiles, colRanges, colRanks, colSdDiffs, colSds,
colSums2, colTabulates, colVarDiffs, colVars, colWeightedMads,
colWeightedMeans, colWeightedMedians, colWeightedSds,
colWeightedVars, rowAlls, rowAnyNAs, rowAnys, rowAvgsPerColSet,
rowCollapse, rowCounts, rowCummaxs, rowCummins, rowCumprods,
rowCumsums, rowDiffs, rowIQRDiffs, rowIQRs, rowLogSumExps,
rowMadDiffs, rowMads, rowMaxs, rowMeans2, rowMedians, rowMins,
rowOrderStats, rowProds, rowQuantiles, rowRanges, rowRanks,
rowSdDiffs, rowSds, rowSums2, rowTabulates, rowVarDiffs, rowVars,
rowWeightedMads, rowWeightedMeans, rowWeightedMedians,
rowWeightedSds, rowWeightedVars
Loading required package: GenomicRanges
Loading required package: stats4
Loading required package: BiocGenerics
Attaching package: 'BiocGenerics'
The following objects are masked from 'package:stats':
IQR, mad, sd, var, xtabs
The following objects are masked from 'package:base':
Filter, Find, Map, Position, Reduce, anyDuplicated, append,
as.data.frame, basename, cbind, colnames, dirname, do.call,
duplicated, eval, evalq, get, grep, grepl, intersect, is.unsorted,
lapply, mapply, match, mget, order, paste, pmax, pmax.int, pmin,
pmin.int, rank, rbind, rownames, sapply, setdiff, sort, table,
tapply, union, unique, unsplit, which.max, which.min
Loading required package: S4Vectors
Attaching package: 'S4Vectors'
The following objects are masked from 'package:base':
I, expand.grid, unname
Loading required package: IRanges
Loading required package: GenomeInfoDb
Loading required package: Biobase
Welcome to Bioconductor
Vignettes contain introductory material; view with
'browseVignettes()'. To cite Bioconductor, see
'citation("Biobase")', and for packages 'citation("pkgname")'.
Attaching package: 'Biobase'
The following object is masked from 'package:MatrixGenerics':
rowMedians
The following objects are masked from 'package:matrixStats':
anyMissing, rowMedians
Loading required package: SingleCellExperiment
Loading required package: DelayedArray
Loading required package: Matrix
Attaching package: 'Matrix'
The following object is masked from 'package:S4Vectors':
expand
Attaching package: 'DelayedArray'
The following objects are masked from 'package:base':
aperm, apply, rowsum, scale, sweep
Attaching package: 'singleCellTK'
The following object is masked from 'package:BiocGenerics':
plotPCA
>
> test_check("singleCellTK")
Found 2 batches
Using null model in ComBat-seq.
Adjusting for 0 covariate(s) or covariate level(s)
Estimating dispersions
Fitting the GLM model
Shrinkage off - using GLM estimates for parameters
Adjusting the data
Found 2 batches
Using null model in ComBat-seq.
Adjusting for 1 covariate(s) or covariate level(s)
Estimating dispersions
Fitting the GLM model
Shrinkage off - using GLM estimates for parameters
Adjusting the data
Performing log-normalization
0% 10 20 30 40 50 60 70 80 90 100%
[----|----|----|----|----|----|----|----|----|----|
**************************************************|
|
| | 0%
|
|======================================================================| 100%
Calculating gene variances
0% 10 20 30 40 50 60 70 80 90 100%
[----|----|----|----|----|----|----|----|----|----|
**************************************************|
Calculating feature variances of standardized and clipped values
0% 10 20 30 40 50 60 70 80 90 100%
[----|----|----|----|----|----|----|----|----|----|
**************************************************|
Estimating GSVA scores for 34 gene sets.
Estimating ECDFs with Gaussian kernels
|
| | 0%
|
|== | 3%
|
|==== | 6%
|
|====== | 9%
|
|======== | 12%
|
|========== | 15%
|
|============ | 18%
|
|============== | 21%
|
|================ | 24%
|
|=================== | 26%
|
|===================== | 29%
|
|======================= | 32%
|
|========================= | 35%
|
|=========================== | 38%
|
|============================= | 41%
|
|=============================== | 44%
|
|================================= | 47%
|
|=================================== | 50%
|
|===================================== | 53%
|
|======================================= | 56%
|
|========================================= | 59%
|
|=========================================== | 62%
|
|============================================= | 65%
|
|=============================================== | 68%
|
|================================================= | 71%
|
|=================================================== | 74%
|
|====================================================== | 76%
|
|======================================================== | 79%
|
|========================================================== | 82%
|
|============================================================ | 85%
|
|============================================================== | 88%
|
|================================================================ | 91%
|
|================================================================== | 94%
|
|==================================================================== | 97%
|
|======================================================================| 100%
Performing log-normalization
0% 10 20 30 40 50 60 70 80 90 100%
[----|----|----|----|----|----|----|----|----|----|
**************************************************|
Calculating gene variances
0% 10 20 30 40 50 60 70 80 90 100%
[----|----|----|----|----|----|----|----|----|----|
**************************************************|
Calculating feature variances of standardized and clipped values
0% 10 20 30 40 50 60 70 80 90 100%
[----|----|----|----|----|----|----|----|----|----|
**************************************************|
|
| | 0%
|
|======================================================================| 100%
[09:34:36] WARNING: amalgamation/../src/learner.cc:1115: Starting in XGBoost 1.3.0, the default evaluation metric used with the objective 'binary:logistic' was changed from 'error' to 'logloss'. Explicitly set eval_metric if you'd like to restore the old behavior.
[09:34:37] WARNING: amalgamation/../src/learner.cc:1115: Starting in XGBoost 1.3.0, the default evaluation metric used with the objective 'binary:logistic' was changed from 'error' to 'logloss'. Explicitly set eval_metric if you'd like to restore the old behavior.
[09:35:01] WARNING: amalgamation/../src/learner.cc:1115: Starting in XGBoost 1.3.0, the default evaluation metric used with the objective 'binary:logistic' was changed from 'error' to 'logloss'. Explicitly set eval_metric if you'd like to restore the old behavior.
Performing log-normalization
0% 10 20 30 40 50 60 70 80 90 100%
[----|----|----|----|----|----|----|----|----|----|
**************************************************|
Performing log-normalization
0% 10 20 30 40 50 60 70 80 90 100%
[----|----|----|----|----|----|----|----|----|----|
**************************************************|
|
| | 0%
|
|======================================================================| 100%
Calculating gene variances
0% 10 20 30 40 50 60 70 80 90 100%
[----|----|----|----|----|----|----|----|----|----|
**************************************************|
Calculating feature variances of standardized and clipped values
0% 10 20 30 40 50 60 70 80 90 100%
[----|----|----|----|----|----|----|----|----|----|
**************************************************|
Modularity Optimizer version 1.3.0 by Ludo Waltman and Nees Jan van Eck
Number of nodes: 390
Number of edges: 9849
Running Louvain algorithm...
0% 10 20 30 40 50 60 70 80 90 100%
[----|----|----|----|----|----|----|----|----|----|
**************************************************|
Maximum modularity in 10 random starts: 0.8351
Number of communities: 7
Elapsed time: 0 seconds
0% 10 20 30 40 50 60 70 80 90 100%
[----|----|----|----|----|----|----|----|----|----|
**************************************************|
|
| | 0%
|
|======================================================================| 100%
|
| | 0%
|
|======================================================================| 100%
|
| | 0%
|
|======================================================================| 100%
0% 10 20 30 40 50 60 70 80 90 100%
[----|----|----|----|----|----|----|----|----|----|
**************************************************|
0% 10 20 30 40 50 60 70 80 90 100%
[----|----|----|----|----|----|----|----|----|----|
**************************************************|
[ FAIL 0 | WARN 15 | SKIP 0 | PASS 126 ]
[ FAIL 0 | WARN 15 | SKIP 0 | PASS 126 ]
>
> proc.time()
user system elapsed
203.025 3.849 205.739
singleCellTK.Rcheck/singleCellTK-Ex.timings
| name | user | system | elapsed | |
| MitoGenes | 0.000 | 0.003 | 0.003 | |
| SEG | 0.002 | 0.000 | 0.003 | |
| calcEffectSizes | 0.143 | 0.008 | 0.150 | |
| combineSCE | 2.119 | 0.040 | 2.159 | |
| computeZScore | 0.311 | 0.052 | 0.362 | |
| convertSCEToSeurat | 3.039 | 0.168 | 3.208 | |
| convertSeuratToSCE | 0.474 | 0.083 | 0.557 | |
| dedupRowNames | 0.056 | 0.008 | 0.063 | |
| detectCellOutlier | 5.168 | 0.205 | 5.373 | |
| diffAbundanceFET | 0.047 | 0.000 | 0.048 | |
| discreteColorPalette | 0.006 | 0.000 | 0.006 | |
| distinctColors | 0.002 | 0.000 | 0.002 | |
| downSampleCells | 0.762 | 0.064 | 0.826 | |
| downSampleDepth | 0.68 | 0.00 | 0.68 | |
| enrichRSCE | 0.352 | 0.004 | 1.417 | |
| exportSCE | 0.001 | 0.000 | 0.001 | |
| exportSCEtoAnnData | 0.119 | 0.016 | 0.134 | |
| exportSCEtoFlatFile | 0.125 | 0.020 | 0.145 | |
| featureIndex | 0.027 | 0.004 | 0.031 | |
| findMarkerDiffExp | 5.888 | 0.128 | 6.016 | |
| findMarkerTopTable | 5.148 | 0.064 | 5.213 | |
| generateSimulatedData | 0.037 | 0.000 | 0.036 | |
| getBiomarker | 0.027 | 0.004 | 0.031 | |
| getDEGTopTable | 0.751 | 0.008 | 0.759 | |
| getMSigDBTable | 0.003 | 0.000 | 0.003 | |
| getTSNE | 0.394 | 0.020 | 0.413 | |
| getTopHVG | 0.280 | 0.024 | 0.303 | |
| getUMAP | 3.992 | 0.116 | 4.098 | |
| importAnnData | 0.001 | 0.000 | 0.001 | |
| importBUStools | 0.305 | 0.011 | 0.316 | |
| importCellRanger | 1.162 | 0.037 | 1.199 | |
| importCellRangerV2Sample | 0.304 | 0.000 | 0.304 | |
| importCellRangerV3Sample | 0.421 | 0.000 | 0.421 | |
| importDropEst | 0.407 | 0.004 | 0.410 | |
| importExampleData | 19.050 | 1.788 | 21.629 | |
| importGeneSetsFromCollection | 0.732 | 0.012 | 0.744 | |
| importGeneSetsFromGMT | 0.079 | 0.004 | 0.084 | |
| importGeneSetsFromList | 0.185 | 0.004 | 0.189 | |
| importGeneSetsFromMSigDB | 3.986 | 0.260 | 4.247 | |
| importMitoGeneSet | 0.048 | 0.000 | 0.049 | |
| importOptimus | 0.001 | 0.000 | 0.000 | |
| importSEQC | 0.299 | 0.000 | 0.299 | |
| importSTARsolo | 0.327 | 0.000 | 0.327 | |
| iterateSimulations | 0.490 | 0.008 | 0.498 | |
| mergeSCEColData | 0.484 | 0.004 | 0.488 | |
| mouseBrainSubsetSCE | 0.001 | 0.000 | 0.001 | |
| msigdb_table | 0.001 | 0.000 | 0.001 | |
| plotBarcodeRankDropsResults | 1.048 | 0.000 | 1.048 | |
| plotBarcodeRankScatter | 0.798 | 0.012 | 0.810 | |
| plotBatchCorrCompare | 11.359 | 0.248 | 11.589 | |
| plotBatchVariance | 0.250 | 0.036 | 0.286 | |
| plotBcdsResults | 9.021 | 0.253 | 8.350 | |
| plotClusterAbundance | 0.654 | 0.012 | 0.666 | |
| plotCxdsResults | 7.140 | 0.036 | 7.167 | |
| plotDEGHeatmap | 4.823 | 0.036 | 4.858 | |
| plotDEGRegression | 3.264 | 0.024 | 3.275 | |
| plotDEGViolin | 3.983 | 0.120 | 4.096 | |
| plotDecontXResults | 7.823 | 0.176 | 7.999 | |
| plotDimRed | 0.379 | 0.000 | 0.379 | |
| plotDoubletFinderResults | 24.602 | 0.135 | 24.729 | |
| plotEmptyDropsResults | 6.830 | 0.036 | 6.865 | |
| plotEmptyDropsScatter | 6.727 | 0.044 | 6.771 | |
| plotMASTThresholdGenes | 1.673 | 0.036 | 1.709 | |
| plotMarkerDiffExp | 5.698 | 0.036 | 5.734 | |
| plotPCA | 0.609 | 0.004 | 0.613 | |
| plotRunPerCellQCResults | 0.002 | 0.000 | 0.002 | |
| plotSCEBarAssayData | 0.156 | 0.000 | 0.156 | |
| plotSCEBarColData | 0.102 | 0.000 | 0.102 | |
| plotSCEBatchFeatureMean | 0.171 | 0.003 | 0.175 | |
| plotSCEDensity | 0.157 | 0.004 | 0.161 | |
| plotSCEDensityAssayData | 0.115 | 0.004 | 0.119 | |
| plotSCEDensityColData | 0.154 | 0.000 | 0.154 | |
| plotSCEDimReduceColData | 0.875 | 0.004 | 0.879 | |
| plotSCEDimReduceFeatures | 0.418 | 0.000 | 0.418 | |
| plotSCEHeatmap | 0.897 | 0.000 | 0.897 | |
| plotSCEScatter | 0.387 | 0.004 | 0.391 | |
| plotSCEViolin | 0.18 | 0.00 | 0.18 | |
| plotSCEViolinAssayData | 0.205 | 0.000 | 0.205 | |
| plotSCEViolinColData | 0.190 | 0.000 | 0.191 | |
| plotScDblFinderResults | 23.072 | 0.236 | 23.229 | |
| plotScdsHybridResults | 9.423 | 0.073 | 8.581 | |
| plotScrubletResults | 0.002 | 0.000 | 0.002 | |
| plotTSNE | 0.676 | 0.004 | 0.680 | |
| plotTopHVG | 0.491 | 0.012 | 0.502 | |
| plotUMAP | 6.593 | 0.056 | 6.640 | |
| readSingleCellMatrix | 0.004 | 0.000 | 0.004 | |
| reportCellQC | 0.21 | 0.00 | 0.21 | |
| reportDropletQC | 0.002 | 0.000 | 0.002 | |
| reportQCTool | 0.216 | 0.000 | 0.216 | |
| retrieveSCEIndex | 0.013 | 0.000 | 0.013 | |
| runANOVA | 1.222 | 0.000 | 1.222 | |
| runBBKNN | 0 | 0 | 0 | |
| runBarcodeRankDrops | 0.617 | 0.016 | 0.633 | |
| runBcds | 2.703 | 0.008 | 1.733 | |
| runCellQC | 0.221 | 0.012 | 0.233 | |
| runComBatSeq | 0.433 | 0.008 | 0.440 | |
| runCxds | 0.730 | 0.004 | 0.734 | |
| runCxdsBcdsHybrid | 2.535 | 0.000 | 1.678 | |
| runDEAnalysis | 1.048 | 0.000 | 1.048 | |
| runDESeq2 | 4.876 | 0.060 | 4.936 | |
| runDecontX | 6.811 | 0.084 | 6.895 | |
| runDimReduce | 1.133 | 0.008 | 1.142 | |
| runDoubletFinder | 16.205 | 0.024 | 16.229 | |
| runDropletQC | 0.001 | 0.000 | 0.001 | |
| runEmptyDrops | 6.452 | 0.004 | 6.456 | |
| runFastMNN | 1.573 | 0.012 | 1.586 | |
| runFeatureSelection | 0.224 | 0.000 | 0.225 | |
| runGSVA | 0.911 | 0.004 | 0.915 | |
| runKMeans | 0.592 | 0.000 | 0.593 | |
| runLimmaBC | 0.097 | 0.000 | 0.096 | |
| runLimmaDE | 0.954 | 0.004 | 0.958 | |
| runMAST | 3.550 | 0.000 | 3.522 | |
| runMNNCorrect | 0.660 | 0.008 | 0.668 | |
| runNormalization | 1.546 | 0.016 | 1.563 | |
| runPerCellQC | 0.427 | 0.000 | 0.428 | |
| runSCANORAMA | 0 | 0 | 0 | |
| runSCMerge | 0.001 | 0.000 | 0.001 | |
| runScDblFinder | 11.043 | 0.164 | 11.170 | |
| runScranSNN | 0.577 | 0.004 | 0.582 | |
| runScrublet | 0.001 | 0.000 | 0.001 | |
| runSingleR | 0.044 | 0.000 | 0.045 | |
| runVAM | 0.807 | 0.008 | 0.816 | |
| runWilcox | 1 | 0 | 1 | |
| runZINBWaVE | 0.001 | 0.000 | 0.001 | |
| sampleSummaryStats | 0.416 | 0.000 | 0.416 | |
| scaterCPM | 0.173 | 0.000 | 0.172 | |
| scaterPCA | 0.712 | 0.004 | 0.716 | |
| scaterlogNormCounts | 0.820 | 0.004 | 0.824 | |
| sce | 0.001 | 0.000 | 0.001 | |
| scranModelGeneVar | 0.254 | 0.004 | 0.258 | |
| sctkListGeneSetCollections | 0.254 | 0.008 | 0.262 | |
| sctkPythonInstallConda | 0.000 | 0.000 | 0.001 | |
| sctkPythonInstallVirtualEnv | 0 | 0 | 0 | |
| selectSCTKConda | 0.001 | 0.000 | 0.000 | |
| selectSCTKVirtualEnvironment | 0 | 0 | 0 | |
| setSCTKDisplayRow | 0.460 | 0.020 | 0.479 | |
| seuratComputeHeatmap | 0.001 | 0.000 | 0.001 | |
| seuratComputeJackStraw | 0.001 | 0.000 | 0.001 | |
| seuratElbowPlot | 0.002 | 0.000 | 0.001 | |
| seuratFindClusters | 0.001 | 0.000 | 0.001 | |
| seuratFindHVG | 0.001 | 0.000 | 0.001 | |
| seuratICA | 0.001 | 0.000 | 0.001 | |
| seuratJackStrawPlot | 0.001 | 0.000 | 0.001 | |
| seuratNormalizeData | 0.001 | 0.000 | 0.001 | |
| seuratPCA | 0.001 | 0.000 | 0.001 | |
| seuratPlotHVG | 0.001 | 0.000 | 0.001 | |
| seuratReductionPlot | 0.000 | 0.001 | 0.001 | |
| seuratRunUMAP | 0.000 | 0.001 | 0.001 | |
| seuratSCTransform | 3.096 | 0.073 | 3.171 | |
| seuratScaleData | 0.001 | 0.000 | 0.001 | |
| singleCellTK | 0 | 0 | 0 | |
| subDiffEx | 0.593 | 0.000 | 0.592 | |
| subsetSCECols | 0.223 | 0.000 | 0.222 | |
| subsetSCERows | 0.605 | 0.000 | 0.604 | |
| summarizeSCE | 0.058 | 0.000 | 0.057 | |
| trimCounts | 0.300 | 0.004 | 0.304 | |