| Back to Multiple platform build/check report for BioC 3.14 |
|
This page was generated on 2022-04-13 12:07:21 -0400 (Wed, 13 Apr 2022).
| Hostname | OS | Arch (*) | R version | Installed pkgs |
|---|---|---|---|---|
| nebbiolo2 | Linux (Ubuntu 20.04.4 LTS) | x86_64 | 4.1.3 (2022-03-10) -- "One Push-Up" | 4324 |
| tokay2 | Windows Server 2012 R2 Standard | x64 | 4.1.3 (2022-03-10) -- "One Push-Up" | 4077 |
| machv2 | macOS 10.14.6 Mojave | x86_64 | 4.1.3 (2022-03-10) -- "One Push-Up" | 4137 |
| Click on any hostname to see more info about the system (e.g. compilers) (*) as reported by 'uname -p', except on Windows and Mac OS X | ||||
|
To the developers/maintainers of the sevenC package: - Please allow up to 24 hours (and sometimes 48 hours) for your latest push to git@git.bioconductor.org:packages/sevenC.git to reflect on this report. See How and When does the builder pull? When will my changes propagate? for more information. - Make sure to use the following settings in order to reproduce any error or warning you see on this page. |
| Package 1778/2083 | Hostname | OS / Arch | INSTALL | BUILD | CHECK | BUILD BIN | ||||||||
| sevenC 1.14.0 (landing page) Jonas Ibn-Salem
| nebbiolo2 | Linux (Ubuntu 20.04.4 LTS) / x86_64 | OK | OK | OK | |||||||||
| tokay2 | Windows Server 2012 R2 Standard / x64 | OK | OK | OK | OK | |||||||||
| machv2 | macOS 10.14.6 Mojave / x86_64 | OK | OK | OK | OK | |||||||||
| Package: sevenC |
| Version: 1.14.0 |
| Command: C:\cygwin\bin\curl.exe -O http://155.52.207.166/BBS/3.14/bioc/src/contrib/sevenC_1.14.0.tar.gz && rm -rf sevenC.buildbin-libdir && mkdir sevenC.buildbin-libdir && C:\Users\biocbuild\bbs-3.14-bioc\R\bin\R.exe CMD INSTALL --merge-multiarch --build --library=sevenC.buildbin-libdir sevenC_1.14.0.tar.gz && C:\Users\biocbuild\bbs-3.14-bioc\R\bin\R.exe CMD INSTALL sevenC_1.14.0.zip && rm sevenC_1.14.0.tar.gz sevenC_1.14.0.zip |
| StartedAt: 2022-04-12 06:26:43 -0400 (Tue, 12 Apr 2022) |
| EndedAt: 2022-04-12 06:27:59 -0400 (Tue, 12 Apr 2022) |
| EllapsedTime: 75.6 seconds |
| RetCode: 0 |
| Status: OK |
##############################################################################
##############################################################################
###
### Running command:
###
### C:\cygwin\bin\curl.exe -O http://155.52.207.166/BBS/3.14/bioc/src/contrib/sevenC_1.14.0.tar.gz && rm -rf sevenC.buildbin-libdir && mkdir sevenC.buildbin-libdir && C:\Users\biocbuild\bbs-3.14-bioc\R\bin\R.exe CMD INSTALL --merge-multiarch --build --library=sevenC.buildbin-libdir sevenC_1.14.0.tar.gz && C:\Users\biocbuild\bbs-3.14-bioc\R\bin\R.exe CMD INSTALL sevenC_1.14.0.zip && rm sevenC_1.14.0.tar.gz sevenC_1.14.0.zip
###
##############################################################################
##############################################################################
% Total % Received % Xferd Average Speed Time Time Time Current
Dload Upload Total Spent Left Speed
0 0 0 0 0 0 0 0 --:--:-- --:--:-- --:--:-- 0
24 1740k 24 428k 0 0 1036k 0 0:00:01 --:--:-- 0:00:01 1036k
100 1740k 100 1740k 0 0 1586k 0 0:00:01 0:00:01 --:--:-- 1587k
install for i386
* installing *source* package 'sevenC' ...
** using staged installation
** R
** data
*** moving datasets to lazyload DB
** inst
** byte-compile and prepare package for lazy loading
** help
*** installing help indices
converting help for package 'sevenC'
finding HTML links ... done
TFspecificModels html
addCor html
addCovCor html
addCovToGR html
addInteractionSupport html
finding level-2 HTML links ... done
addMotifScore html
addStrandCombination html
cutoffBest10 html
cutoffByTF html
getCisPairs html
getOutOfBound html
modelBest10Avg html
motif.hg19.CTCF html
motif.hg19.CTCF.chr22 html
motif.hg19.CTCF.chr22.cov html
noZeroVar html
parseLoopsRao html
parseLoopsTang html
predLogit html
predLoops html
prepareCisPairs html
sevenC html
slideMean html
** building package indices
** installing vignettes
** testing if installed package can be loaded from temporary location
** testing if installed package can be loaded from final location
** testing if installed package keeps a record of temporary installation path
install for x64
* installing *source* package 'sevenC' ...
** testing if installed package can be loaded
* MD5 sums
packaged installation of 'sevenC' as sevenC_1.14.0.zip
* DONE (sevenC)
* installing to library 'C:/Users/biocbuild/bbs-3.14-bioc/R/library'
package 'sevenC' successfully unpacked and MD5 sums checked