| Back to Multiple platform build/check report for BioC 3.14 |
|
This page was generated on 2022-04-13 12:05:57 -0400 (Wed, 13 Apr 2022).
| Hostname | OS | Arch (*) | R version | Installed pkgs |
|---|---|---|---|---|
| nebbiolo2 | Linux (Ubuntu 20.04.4 LTS) | x86_64 | 4.1.3 (2022-03-10) -- "One Push-Up" | 4324 |
| tokay2 | Windows Server 2012 R2 Standard | x64 | 4.1.3 (2022-03-10) -- "One Push-Up" | 4077 |
| machv2 | macOS 10.14.6 Mojave | x86_64 | 4.1.3 (2022-03-10) -- "One Push-Up" | 4137 |
| Click on any hostname to see more info about the system (e.g. compilers) (*) as reported by 'uname -p', except on Windows and Mac OS X | ||||
|
To the developers/maintainers of the sesame package: - Please allow up to 24 hours (and sometimes 48 hours) for your latest push to git@git.bioconductor.org:packages/sesame.git to reflect on this report. See How and When does the builder pull? When will my changes propagate? for more information. - Make sure to use the following settings in order to reproduce any error or warning you see on this page. |
| Package 1775/2083 | Hostname | OS / Arch | INSTALL | BUILD | CHECK | BUILD BIN | ||||||||
| sesame 1.12.9 (landing page) Wanding Zhou
| nebbiolo2 | Linux (Ubuntu 20.04.4 LTS) / x86_64 | OK | OK | OK | |||||||||
| tokay2 | Windows Server 2012 R2 Standard / x64 | OK | OK | OK | OK | |||||||||
| machv2 | macOS 10.14.6 Mojave / x86_64 | OK | OK | OK | OK | |||||||||
| Package: sesame |
| Version: 1.12.9 |
| Command: /home/biocbuild/bbs-3.14-bioc/R/bin/R CMD check --install=check:sesame.install-out.txt --library=/home/biocbuild/bbs-3.14-bioc/R/library --no-vignettes --timings sesame_1.12.9.tar.gz |
| StartedAt: 2022-04-12 09:21:08 -0400 (Tue, 12 Apr 2022) |
| EndedAt: 2022-04-12 09:36:33 -0400 (Tue, 12 Apr 2022) |
| EllapsedTime: 925.1 seconds |
| RetCode: 0 |
| Status: OK |
| CheckDir: sesame.Rcheck |
| Warnings: 0 |
##############################################################################
##############################################################################
###
### Running command:
###
### /home/biocbuild/bbs-3.14-bioc/R/bin/R CMD check --install=check:sesame.install-out.txt --library=/home/biocbuild/bbs-3.14-bioc/R/library --no-vignettes --timings sesame_1.12.9.tar.gz
###
##############################################################################
##############################################################################
* using log directory ‘/home/biocbuild/bbs-3.14-bioc/meat/sesame.Rcheck’
* using R version 4.1.3 (2022-03-10)
* using platform: x86_64-pc-linux-gnu (64-bit)
* using session charset: UTF-8
* using option ‘--no-vignettes’
* checking for file ‘sesame/DESCRIPTION’ ... OK
* checking extension type ... Package
* this is package ‘sesame’ version ‘1.12.9’
* package encoding: UTF-8
* checking package namespace information ... OK
* checking package dependencies ... OK
* checking if this is a source package ... OK
* checking if there is a namespace ... OK
* checking for hidden files and directories ... OK
* checking for portable file names ... OK
* checking for sufficient/correct file permissions ... OK
* checking whether package ‘sesame’ can be installed ... OK
* checking installed package size ... OK
* checking package directory ... OK
* checking ‘build’ directory ... OK
* checking DESCRIPTION meta-information ... OK
* checking top-level files ... OK
* checking for left-over files ... OK
* checking index information ... OK
* checking package subdirectories ... OK
* checking R files for non-ASCII characters ... OK
* checking R files for syntax errors ... OK
* checking whether the package can be loaded ... OK
* checking whether the package can be loaded with stated dependencies ... OK
* checking whether the package can be unloaded cleanly ... OK
* checking whether the namespace can be loaded with stated dependencies ... OK
* checking whether the namespace can be unloaded cleanly ... OK
* checking dependencies in R code ... OK
* checking S3 generic/method consistency ... OK
* checking replacement functions ... OK
* checking foreign function calls ... OK
* checking R code for possible problems ... OK
* checking Rd files ... OK
* checking Rd metadata ... OK
* checking Rd cross-references ... OK
* checking for missing documentation entries ... OK
* checking for code/documentation mismatches ... OK
* checking Rd \usage sections ... OK
* checking Rd contents ... OK
* checking for unstated dependencies in examples ... OK
* checking files in ‘vignettes’ ... OK
* checking examples ... OK
Examples with CPU (user + system) or elapsed time > 5s
user system elapsed
cnSegmentation 48.559 2.263 51.509
visualizeSegments 48.646 1.919 51.397
DMR 32.709 1.721 35.372
testEnrichment 26.260 1.636 28.923
bSubMostVariable 20.945 0.929 22.125
testEnrichmentGene 15.358 1.092 17.208
diffRefSet 14.997 0.875 16.203
compareMouseTissueReference 14.674 1.004 16.099
compareMouseStrainReference 14.011 0.617 15.919
print.DMLSummary 12.095 1.068 13.577
visualizeGene 11.917 0.888 13.691
getProbesByChromosome 11.896 0.656 12.805
DML 11.052 1.239 12.870
createUCSCtrack 11.202 0.652 12.286
getProbesByGene 11.001 0.816 12.247
as.data.frame.sesameQC 10.649 0.744 11.780
bSubProbes 10.694 0.623 11.650
attachManifest 10.572 0.672 11.571
sdf_read_table 10.498 0.612 11.623
bisConversionControl 10.289 0.768 11.647
sesameQC 9.891 1.032 11.088
inferTissue 9.781 0.789 12.196
calcDatabaseSetStatisticsAll 9.577 0.954 19.695
getRefSet 9.965 0.539 10.668
print.sesameQC 9.384 1.084 10.721
getDatabaseSetOverlap 9.407 0.744 10.692
deidentify 9.210 0.713 10.427
dyeBiasCorrMostBalanced 8.878 0.600 9.904
reIdentify 8.713 0.659 9.893
estimateLeukocyte 8.675 0.508 9.704
inferStrain 8.242 0.797 9.632
dmContrasts 8.444 0.540 9.359
summaryExtractTest 7.905 0.536 8.813
SNPcheck 7.712 0.523 8.750
getProbesByRegion 6.712 0.619 7.497
bSubComplete 6.395 0.604 7.269
qualityRank 6.069 0.648 7.407
inferSex 5.896 0.485 6.730
setMaskBySpecies 5.679 0.444 6.646
getNormCtls 5.548 0.569 6.639
qualityMask 5.329 0.386 6.222
getSexInfo 4.956 0.681 5.802
dyeBiasCorrTypeINorm 4.742 0.536 5.442
getAutosomeProbes 4.763 0.256 5.274
SigDF 4.521 0.400 5.257
dyeBiasCorr 4.499 0.332 5.372
probeSuccessRate 4.477 0.303 5.288
predictMouseAgeInMonth 4.045 0.443 7.049
* checking for unstated dependencies in ‘tests’ ... OK
* checking tests ...
Running ‘testthat.R’
OK
* checking for unstated dependencies in vignettes ... OK
* checking package vignettes in ‘inst/doc’ ... OK
* checking running R code from vignettes ... SKIPPED
* checking re-building of vignette outputs ... SKIPPED
* checking PDF version of manual ... OK
* DONE
Status: OK
sesame.Rcheck/00install.out
############################################################################## ############################################################################## ### ### Running command: ### ### /home/biocbuild/bbs-3.14-bioc/R/bin/R CMD INSTALL sesame ### ############################################################################## ############################################################################## * installing to library ‘/home/biocbuild/bbs-3.14-bioc/R/library’ * installing *source* package ‘sesame’ ... ** using staged installation ** R ** inst ** byte-compile and prepare package for lazy loading ** help *** installing help indices ** building package indices ** installing vignettes ** testing if installed package can be loaded from temporary location ** testing if installed package can be loaded from final location ** testing if installed package keeps a record of temporary installation path * DONE (sesame)
sesame.Rcheck/tests/testthat.Rout
R version 4.1.3 (2022-03-10) -- "One Push-Up"
Copyright (C) 2022 The R Foundation for Statistical Computing
Platform: x86_64-pc-linux-gnu (64-bit)
R is free software and comes with ABSOLUTELY NO WARRANTY.
You are welcome to redistribute it under certain conditions.
Type 'license()' or 'licence()' for distribution details.
R is a collaborative project with many contributors.
Type 'contributors()' for more information and
'citation()' on how to cite R or R packages in publications.
Type 'demo()' for some demos, 'help()' for on-line help, or
'help.start()' for an HTML browser interface to help.
Type 'q()' to quit R.
> library(testthat)
> library(sesame)
Loading required package: sesameData
Loading required package: ExperimentHub
Loading required package: BiocGenerics
Attaching package: 'BiocGenerics'
The following objects are masked from 'package:stats':
IQR, mad, sd, var, xtabs
The following objects are masked from 'package:base':
Filter, Find, Map, Position, Reduce, anyDuplicated, append,
as.data.frame, basename, cbind, colnames, dirname, do.call,
duplicated, eval, evalq, get, grep, grepl, intersect, is.unsorted,
lapply, mapply, match, mget, order, paste, pmax, pmax.int, pmin,
pmin.int, rank, rbind, rownames, sapply, setdiff, sort, table,
tapply, union, unique, unsplit, which.max, which.min
Loading required package: AnnotationHub
Loading required package: BiocFileCache
Loading required package: dbplyr
Loading required package: rmarkdown
Loading sesameData.
----------------------------------------------------------
| SEnsible Step-wise Analysis of DNA MEthylation (SeSAMe)
| --------------------------------------------------------
| Please cache the annotation data for your array platform
| (e.g. EPIC) by calling "sesameDataCache("EPIC")"
| or "sesameDataCacheAll()". This needs to be done only
| once per SeSAMe installation.
----------------------------------------------------------
>
> test_check("sesame")
[ FAIL 0 | WARN 0 | SKIP 0 | PASS 1 ]
>
> proc.time()
user system elapsed
17.299 1.273 19.005
sesame.Rcheck/sesame-Ex.timings
| name | user | system | elapsed | |
| BetaValueToMValue | 0 | 0 | 0 | |
| DML | 11.052 | 1.239 | 12.870 | |
| DMR | 32.709 | 1.721 | 35.372 | |
| MValueToBetaValue | 0.001 | 0.000 | 0.001 | |
| RGChannelSetToSigDFs | 0.001 | 0.000 | 0.000 | |
| SNPcheck | 7.712 | 0.523 | 8.750 | |
| SigDF | 4.521 | 0.400 | 5.257 | |
| SigDFToRatioSet | 0 | 0 | 0 | |
| SigDFsToRGChannelSet | 0 | 0 | 0 | |
| addMask | 0.093 | 0.010 | 0.104 | |
| as.data.frame.sesameQC | 10.649 | 0.744 | 11.780 | |
| attachManifest | 10.572 | 0.672 | 11.571 | |
| bSubComplete | 6.395 | 0.604 | 7.269 | |
| bSubMostVariable | 20.945 | 0.929 | 22.125 | |
| bSubProbes | 10.694 | 0.623 | 11.650 | |
| bisConversionControl | 10.289 | 0.768 | 11.647 | |
| calcDatabaseSetStatisticsAll | 9.577 | 0.954 | 19.695 | |
| checkLevels | 0.843 | 0.101 | 3.477 | |
| cnSegmentation | 48.559 | 2.263 | 51.509 | |
| compareDatbaseSetOverlap | 3.075 | 0.104 | 3.453 | |
| compareMouseStrainReference | 14.011 | 0.617 | 15.919 | |
| compareMouseTissueReference | 14.674 | 1.004 | 16.099 | |
| controls | 4.122 | 0.248 | 4.795 | |
| createDatabaseSetNetwork | 3.503 | 0.256 | 4.011 | |
| createUCSCtrack | 11.202 | 0.652 | 12.286 | |
| deidentify | 9.210 | 0.713 | 10.427 | |
| detectionPnegEcdf | 0.192 | 0.016 | 0.208 | |
| detectionPoobEcdf | 1.762 | 0.071 | 1.832 | |
| detectionPoobEcdf2 | 0.980 | 0.032 | 1.013 | |
| diffRefSet | 14.997 | 0.875 | 16.203 | |
| dmContrasts | 8.444 | 0.540 | 9.359 | |
| dyeBiasCorr | 4.499 | 0.332 | 5.372 | |
| dyeBiasCorrMostBalanced | 8.878 | 0.600 | 9.904 | |
| dyeBiasCorrTypeINorm | 4.742 | 0.536 | 5.442 | |
| dyeBiasDistortion | 1.198 | 0.032 | 1.230 | |
| estimateLeukocyte | 8.675 | 0.508 | 9.704 | |
| formatVCF | 2.356 | 0.261 | 4.428 | |
| getAFTypeIbySumAlleles | 3.561 | 0.344 | 4.323 | |
| getAutosomeProbes | 4.763 | 0.256 | 5.274 | |
| getBetas | 3.731 | 0.404 | 4.404 | |
| getDatabaseSetOverlap | 9.407 | 0.744 | 10.692 | |
| getNormCtls | 5.548 | 0.569 | 6.639 | |
| getProbesByChromosome | 11.896 | 0.656 | 12.805 | |
| getProbesByGene | 11.001 | 0.816 | 12.247 | |
| getProbesByRegion | 6.712 | 0.619 | 7.497 | |
| getProbesByTSS | 0.194 | 0.016 | 0.210 | |
| getRefSet | 9.965 | 0.539 | 10.668 | |
| getSexInfo | 4.956 | 0.681 | 5.802 | |
| inferEthnicity | 0.876 | 0.020 | 0.897 | |
| inferInfiniumIChannel | 0.402 | 0.028 | 0.431 | |
| inferSex | 5.896 | 0.485 | 6.730 | |
| inferSexKaryotypes | 2.966 | 0.296 | 3.517 | |
| inferSpecies | 0 | 0 | 0 | |
| inferStrain | 8.242 | 0.797 | 9.632 | |
| inferTissue | 9.781 | 0.789 | 12.196 | |
| initFileSet | 0.038 | 0.000 | 0.037 | |
| mapFileSet | 0.041 | 0.000 | 0.040 | |
| meanIntensity | 1.305 | 0.136 | 1.716 | |
| medianTotalIntensity | 1.616 | 0.208 | 2.074 | |
| neob | 2.711 | 0.304 | 3.016 | |
| noMasked | 1.404 | 0.144 | 1.813 | |
| noob | 1.986 | 0.228 | 2.214 | |
| openSesame | 1.279 | 0.098 | 1.377 | |
| openSesameToFile | 1.414 | 0.098 | 1.511 | |
| plotLollipop | 0.838 | 0.072 | 0.910 | |
| plotVolcano | 0.091 | 0.012 | 0.103 | |
| predictAgeHorvath353 | 3.334 | 0.388 | 3.976 | |
| predictAgeSkinBlood | 0.137 | 0.003 | 0.141 | |
| predictMouseAgeInMonth | 4.045 | 0.443 | 7.049 | |
| print.DMLSummary | 12.095 | 1.068 | 13.577 | |
| print.SigDF | 1.331 | 0.188 | 1.772 | |
| print.fileSet | 0.034 | 0.000 | 0.034 | |
| print.sesameQC | 9.384 | 1.084 | 10.721 | |
| probeID_designType | 0.000 | 0.000 | 0.001 | |
| probeSuccessRate | 4.477 | 0.303 | 5.288 | |
| qualityMask | 5.329 | 0.386 | 6.222 | |
| qualityRank | 6.069 | 0.648 | 7.407 | |
| reIdentify | 8.713 | 0.659 | 9.893 | |
| readFileSet | 0.061 | 0.005 | 0.066 | |
| readIDATpair | 0.100 | 0.003 | 0.105 | |
| resetMask | 0.943 | 0.084 | 1.303 | |
| scrub | 1.653 | 0.248 | 1.901 | |
| scrubSoft | 2.655 | 0.256 | 2.911 | |
| sdfPlatform | 0.940 | 0.052 | 1.241 | |
| sdf_read_table | 10.498 | 0.612 | 11.623 | |
| sdf_write_table | 3.609 | 0.217 | 4.211 | |
| searchIDATprefixes | 0.005 | 0.004 | 0.009 | |
| sesame-package | 0.462 | 0.084 | 0.546 | |
| sesamePlotIntensVsBetas | 2.371 | 0.292 | 2.828 | |
| sesamePlotRedGrnQQ | 2.213 | 0.156 | 2.533 | |
| sesameQC | 9.891 | 1.032 | 11.088 | |
| sesamize | 0 | 0 | 0 | |
| setMask | 3.300 | 0.256 | 3.765 | |
| setMaskBySpecies | 5.679 | 0.444 | 6.646 | |
| signalMU | 1.402 | 0.160 | 1.814 | |
| sliceFileSet | 2.752 | 0.268 | 3.183 | |
| summaryExtractTest | 7.905 | 0.536 | 8.813 | |
| testEnrichment | 26.260 | 1.636 | 28.923 | |
| testEnrichmentGene | 15.358 | 1.092 | 17.208 | |
| totalIntensities | 4.224 | 0.296 | 4.954 | |
| visualizeGene | 11.917 | 0.888 | 13.691 | |
| visualizeProbes | 0.888 | 0.072 | 0.961 | |
| visualizeRegion | 0.498 | 0.060 | 0.558 | |
| visualizeSegments | 48.646 | 1.919 | 51.397 | |