| Back to Multiple platform build/check report for BioC 3.14 |
|
This page was generated on 2022-04-13 12:07:20 -0400 (Wed, 13 Apr 2022).
| Hostname | OS | Arch (*) | R version | Installed pkgs |
|---|---|---|---|---|
| nebbiolo2 | Linux (Ubuntu 20.04.4 LTS) | x86_64 | 4.1.3 (2022-03-10) -- "One Push-Up" | 4324 |
| tokay2 | Windows Server 2012 R2 Standard | x64 | 4.1.3 (2022-03-10) -- "One Push-Up" | 4077 |
| machv2 | macOS 10.14.6 Mojave | x86_64 | 4.1.3 (2022-03-10) -- "One Push-Up" | 4137 |
| Click on any hostname to see more info about the system (e.g. compilers) (*) as reported by 'uname -p', except on Windows and Mac OS X | ||||
|
To the developers/maintainers of the seqCAT package: - Please allow up to 24 hours (and sometimes 48 hours) for your latest push to git@git.bioconductor.org:packages/seqCAT.git to reflect on this report. See How and When does the builder pull? When will my changes propagate? for more information. - Make sure to use the following settings in order to reproduce any error or warning you see on this page. |
| Package 1764/2083 | Hostname | OS / Arch | INSTALL | BUILD | CHECK | BUILD BIN | ||||||||
| seqCAT 1.16.1 (landing page) Erik Fasterius
| nebbiolo2 | Linux (Ubuntu 20.04.4 LTS) / x86_64 | OK | OK | OK | |||||||||
| tokay2 | Windows Server 2012 R2 Standard / x64 | OK | OK | OK | OK | |||||||||
| machv2 | macOS 10.14.6 Mojave / x86_64 | OK | OK | OK | OK | |||||||||
| Package: seqCAT |
| Version: 1.16.1 |
| Command: rm -rf seqCAT.buildbin-libdir && mkdir seqCAT.buildbin-libdir && C:\Users\biocbuild\bbs-3.14-bioc\R\bin\R.exe CMD INSTALL --merge-multiarch --build --library=seqCAT.buildbin-libdir seqCAT_1.16.1.tar.gz |
| StartedAt: 2022-04-13 07:07:18 -0400 (Wed, 13 Apr 2022) |
| EndedAt: 2022-04-13 07:08:20 -0400 (Wed, 13 Apr 2022) |
| EllapsedTime: 61.6 seconds |
| RetCode: 0 |
| Status: OK |
| PackageFile: seqCAT_1.16.1.zip |
| PackageFileSize: 1.884 MiB |
##############################################################################
##############################################################################
###
### Running command:
###
### rm -rf seqCAT.buildbin-libdir && mkdir seqCAT.buildbin-libdir && C:\Users\biocbuild\bbs-3.14-bioc\R\bin\R.exe CMD INSTALL --merge-multiarch --build --library=seqCAT.buildbin-libdir seqCAT_1.16.1.tar.gz
###
##############################################################################
##############################################################################
install for i386
* installing *source* package 'seqCAT' ...
** using staged installation
** R
** data
*** moving datasets to lazyload DB
** inst
** byte-compile and prepare package for lazy loading
** help
*** installing help indices
converting help for package 'seqCAT'
finding HTML links ... done
calculate_similarity html
compare_many html
compare_profiles html
create_profile html
create_profiles html
filter_duplicates html
filter_variants html
list_cosmic html
list_variants html
plot_heatmap html
plot_impacts html
plot_variant_list html
read_cosmic html
read_profile html
read_profiles html
seqCAT html
test_comparison html
test_profile_1 html
test_profile_2 html
test_profile_3 html
test_similarities html
test_variant_list html
write_profile html
write_profiles html
** building package indices
** installing vignettes
** testing if installed package can be loaded from temporary location
** testing if installed package can be loaded from final location
** testing if installed package keeps a record of temporary installation path
install for x64
* installing *source* package 'seqCAT' ...
** testing if installed package can be loaded
* MD5 sums
packaged installation of 'seqCAT' as seqCAT_1.16.1.zip
* DONE (seqCAT)