| Back to Multiple platform build/check report for BioC 3.14 |
|
This page was generated on 2022-04-13 12:08:44 -0400 (Wed, 13 Apr 2022).
| Hostname | OS | Arch (*) | R version | Installed pkgs |
|---|---|---|---|---|
| nebbiolo2 | Linux (Ubuntu 20.04.4 LTS) | x86_64 | 4.1.3 (2022-03-10) -- "One Push-Up" | 4324 |
| tokay2 | Windows Server 2012 R2 Standard | x64 | 4.1.3 (2022-03-10) -- "One Push-Up" | 4077 |
| machv2 | macOS 10.14.6 Mojave | x86_64 | 4.1.3 (2022-03-10) -- "One Push-Up" | 4137 |
| Click on any hostname to see more info about the system (e.g. compilers) (*) as reported by 'uname -p', except on Windows and Mac OS X | ||||
|
To the developers/maintainers of the scde package: - Please allow up to 24 hours (and sometimes 48 hours) for your latest push to git@git.bioconductor.org:packages/scde.git to reflect on this report. See How and When does the builder pull? When will my changes propagate? for more information. - Make sure to use the following settings in order to reproduce any error or warning you see on this page. |
| Package 1720/2083 | Hostname | OS / Arch | INSTALL | BUILD | CHECK | BUILD BIN | ||||||||
| scde 2.22.0 (landing page) Jean Fan
| nebbiolo2 | Linux (Ubuntu 20.04.4 LTS) / x86_64 | OK | OK | WARNINGS | |||||||||
| tokay2 | Windows Server 2012 R2 Standard / x64 | OK | OK | WARNINGS | OK | |||||||||
| machv2 | macOS 10.14.6 Mojave / x86_64 | OK | OK | WARNINGS | OK | |||||||||
| Package: scde |
| Version: 2.22.0 |
| Command: /Library/Frameworks/R.framework/Resources/bin/R CMD INSTALL scde |
| StartedAt: 2022-04-12 03:20:29 -0400 (Tue, 12 Apr 2022) |
| EndedAt: 2022-04-12 03:21:53 -0400 (Tue, 12 Apr 2022) |
| EllapsedTime: 84.4 seconds |
| RetCode: 0 |
| Status: OK |
##############################################################################
##############################################################################
###
### Running command:
###
### /Library/Frameworks/R.framework/Resources/bin/R CMD INSTALL scde
###
##############################################################################
##############################################################################
* installing to library ‘/Library/Frameworks/R.framework/Versions/4.1/Resources/library’
* installing *source* package ‘scde’ ...
** using staged installation
** libs
clang++ -mmacosx-version-min=10.13 -std=gnu++14 -I"/Library/Frameworks/R.framework/Resources/include" -DNDEBUG -I'/Library/Frameworks/R.framework/Versions/4.1/Resources/library/Rcpp/include' -I'/Library/Frameworks/R.framework/Versions/4.1/Resources/library/RcppArmadillo/include' -I/usr/local/include -fPIC -Wall -g -O2 -c bwpca.cpp -o bwpca.o
bwpca.cpp:105:11: warning: explicitly assigning value of variable of type 'arma::mat' (aka 'Mat<double>') to itself [-Wself-assign-overloaded]
totvm %=totvm;
~~~~~ ^ ~~~~~
bwpca.cpp:122:15: warning: explicitly assigning value of variable of type 'arma::mat' (aka 'Mat<double>') to itself [-Wself-assign-overloaded]
delta %=delta;
~~~~~ ^ ~~~~~
bwpca.cpp:147:19: warning: explicitly assigning value of variable of type 'arma::mat' (aka 'Mat<double>') to itself [-Wself-assign-overloaded]
delta %=delta;
~~~~~ ^ ~~~~~
bwpca.cpp:271:19: warning: explicitly assigning value of variable of type 'arma::mat' (aka 'Mat<double>') to itself [-Wself-assign-overloaded]
delta %=delta;
~~~~~ ^ ~~~~~
4 warnings generated.
clang++ -mmacosx-version-min=10.13 -std=gnu++14 -I"/Library/Frameworks/R.framework/Resources/include" -DNDEBUG -I'/Library/Frameworks/R.framework/Versions/4.1/Resources/library/Rcpp/include' -I'/Library/Frameworks/R.framework/Versions/4.1/Resources/library/RcppArmadillo/include' -I/usr/local/include -fPIC -Wall -g -O2 -c jpmatLogBoot.cpp -o jpmatLogBoot.o
jpmatLogBoot.cpp:200:24: warning: unused variable 'maxv' [-Wunused-variable]
double maxv=nbp.max(maxij);
^
jpmatLogBoot.cpp:443:10: warning: unused variable 'maxv' [-Wunused-variable]
double maxv=nbp.max(maxij);
^
2 warnings generated.
clang++ -mmacosx-version-min=10.13 -std=gnu++14 -I"/Library/Frameworks/R.framework/Resources/include" -DNDEBUG -I'/Library/Frameworks/R.framework/Versions/4.1/Resources/library/Rcpp/include' -I'/Library/Frameworks/R.framework/Versions/4.1/Resources/library/RcppArmadillo/include' -I/usr/local/include -fPIC -Wall -g -O2 -c matSlideMult.cpp -o matSlideMult.o
clang++ -mmacosx-version-min=10.13 -std=gnu++14 -I"/Library/Frameworks/R.framework/Resources/include" -DNDEBUG -I'/Library/Frameworks/R.framework/Versions/4.1/Resources/library/Rcpp/include' -I'/Library/Frameworks/R.framework/Versions/4.1/Resources/library/RcppArmadillo/include' -I/usr/local/include -fPIC -Wall -g -O2 -c pagoda.cpp -o pagoda.o
pagoda.cpp:56:15: warning: explicitly assigning value of variable of type 'arma::colvec' (aka 'Col<double>') to itself [-Wself-assign-overloaded]
ic%=ic; jc%=jc;
~~^ ~~
pagoda.cpp:56:23: warning: explicitly assigning value of variable of type 'arma::colvec' (aka 'Col<double>') to itself [-Wself-assign-overloaded]
ic%=ic; jc%=jc;
~~^ ~~
2 warnings generated.
clang++ -mmacosx-version-min=10.13 -std=gnu++14 -dynamiclib -Wl,-headerpad_max_install_names -undefined dynamic_lookup -single_module -multiply_defined suppress -L/Library/Frameworks/R.framework/Resources/lib -L/usr/local/lib -o scde.so bwpca.o jpmatLogBoot.o matSlideMult.o pagoda.o -L/Library/Frameworks/R.framework/Resources/lib -lRlapack -L/Library/Frameworks/R.framework/Resources/lib -lRblas -L/usr/local/gfortran/lib/gcc/x86_64-apple-darwin18/8.2.0 -L/usr/local/gfortran/lib -lgfortran -lquadmath -lm -F/Library/Frameworks/R.framework/.. -framework R -Wl,-framework -Wl,CoreFoundation
installing to /Library/Frameworks/R.framework/Versions/4.1/Resources/library/00LOCK-scde/00new/scde/libs
** R
** data
*** moving datasets to lazyload DB
** byte-compile and prepare package for lazy loading
** help
*** installing help indices
** building package indices
** installing vignettes
** testing if installed package can be loaded from temporary location
** checking absolute paths in shared objects and dynamic libraries
** testing if installed package can be loaded from final location
** testing if installed package keeps a record of temporary installation path
* DONE (scde)