| Back to Multiple platform build/check report for BioC 3.14 |
|
This page was generated on 2022-04-13 12:08:45 -0400 (Wed, 13 Apr 2022).
| Hostname | OS | Arch (*) | R version | Installed pkgs |
|---|---|---|---|---|
| nebbiolo2 | Linux (Ubuntu 20.04.4 LTS) | x86_64 | 4.1.3 (2022-03-10) -- "One Push-Up" | 4324 |
| tokay2 | Windows Server 2012 R2 Standard | x64 | 4.1.3 (2022-03-10) -- "One Push-Up" | 4077 |
| machv2 | macOS 10.14.6 Mojave | x86_64 | 4.1.3 (2022-03-10) -- "One Push-Up" | 4137 |
| Click on any hostname to see more info about the system (e.g. compilers) (*) as reported by 'uname -p', except on Windows and Mac OS X | ||||
|
To the developers/maintainers of the scPipe package: - Please allow up to 24 hours (and sometimes 48 hours) for your latest push to git@git.bioconductor.org:packages/scPipe.git to reflect on this report. See How and When does the builder pull? When will my changes propagate? for more information. - Make sure to use the following settings in order to reproduce any error or warning you see on this page. |
| Package 1739/2083 | Hostname | OS / Arch | INSTALL | BUILD | CHECK | BUILD BIN | ||||||||
| scPipe 1.16.1 (landing page) Luyi Tian
| nebbiolo2 | Linux (Ubuntu 20.04.4 LTS) / x86_64 | OK | OK | OK | |||||||||
| tokay2 | Windows Server 2012 R2 Standard / x64 | OK | OK | OK | OK | |||||||||
| machv2 | macOS 10.14.6 Mojave / x86_64 | OK | OK | OK | OK | |||||||||
| Package: scPipe |
| Version: 1.16.1 |
| Command: rm -rf scPipe.buildbin-libdir && mkdir scPipe.buildbin-libdir && /Users/biocbuild/BBS/utils/build-universal.sh scPipe_1.16.1.tar.gz /Library/Frameworks/R.framework/Resources/bin/R scPipe.buildbin-libdir |
| StartedAt: 2022-04-12 21:27:37 -0400 (Tue, 12 Apr 2022) |
| EndedAt: 2022-04-12 21:30:49 -0400 (Tue, 12 Apr 2022) |
| EllapsedTime: 191.9 seconds |
| RetCode: 0 |
| Status: OK |
| PackageFile: scPipe_1.16.1.tgz |
| PackageFileSize: 1.83 MiB |
##############################################################################
##############################################################################
###
### Running command:
###
### rm -rf scPipe.buildbin-libdir && mkdir scPipe.buildbin-libdir && /Users/biocbuild/BBS/utils/build-universal.sh scPipe_1.16.1.tar.gz /Library/Frameworks/R.framework/Resources/bin/R scPipe.buildbin-libdir
###
##############################################################################
##############################################################################
>>>>>>>
>>>>>>> INSTALLATION WITH 'R CMD INSTALL --preclean --no-multiarch --library=scPipe.buildbin-libdir scPipe_1.16.1.tar.gz'
>>>>>>>
* installing *source* package ‘scPipe’ ...
** using staged installation
** libs
clang++ -mmacosx-version-min=10.13 -std=gnu++11 -I"/Library/Frameworks/R.framework/Resources/include" -DNDEBUG -D_FILE_OFFSET_BITS=64 -I'/Library/Frameworks/R.framework/Versions/4.1/Resources/library/Rcpp/include' -I'/Library/Frameworks/R.framework/Versions/4.1/Resources/library/Rhtslib/include' -I'/Library/Frameworks/R.framework/Versions/4.1/Resources/library/zlibbioc/include' -I'/Library/Frameworks/R.framework/Versions/4.1/Resources/library/testthat/include' -I/usr/local/include -fPIC -Wall -g -O2 -c Gene.cpp -o Gene.o
clang++ -mmacosx-version-min=10.13 -std=gnu++11 -I"/Library/Frameworks/R.framework/Resources/include" -DNDEBUG -D_FILE_OFFSET_BITS=64 -I'/Library/Frameworks/R.framework/Versions/4.1/Resources/library/Rcpp/include' -I'/Library/Frameworks/R.framework/Versions/4.1/Resources/library/Rhtslib/include' -I'/Library/Frameworks/R.framework/Versions/4.1/Resources/library/zlibbioc/include' -I'/Library/Frameworks/R.framework/Versions/4.1/Resources/library/testthat/include' -I/usr/local/include -fPIC -Wall -g -O2 -c Interval.cpp -o Interval.o
clang++ -mmacosx-version-min=10.13 -std=gnu++11 -I"/Library/Frameworks/R.framework/Resources/include" -DNDEBUG -D_FILE_OFFSET_BITS=64 -I'/Library/Frameworks/R.framework/Versions/4.1/Resources/library/Rcpp/include' -I'/Library/Frameworks/R.framework/Versions/4.1/Resources/library/Rhtslib/include' -I'/Library/Frameworks/R.framework/Versions/4.1/Resources/library/zlibbioc/include' -I'/Library/Frameworks/R.framework/Versions/4.1/Resources/library/testthat/include' -I/usr/local/include -fPIC -Wall -g -O2 -c RcppExports.cpp -o RcppExports.o
clang++ -mmacosx-version-min=10.13 -std=gnu++11 -I"/Library/Frameworks/R.framework/Resources/include" -DNDEBUG -D_FILE_OFFSET_BITS=64 -I'/Library/Frameworks/R.framework/Versions/4.1/Resources/library/Rcpp/include' -I'/Library/Frameworks/R.framework/Versions/4.1/Resources/library/Rhtslib/include' -I'/Library/Frameworks/R.framework/Versions/4.1/Resources/library/zlibbioc/include' -I'/Library/Frameworks/R.framework/Versions/4.1/Resources/library/testthat/include' -I/usr/local/include -fPIC -Wall -g -O2 -c cellbarcode.cpp -o cellbarcode.o
clang++ -mmacosx-version-min=10.13 -std=gnu++11 -I"/Library/Frameworks/R.framework/Resources/include" -DNDEBUG -D_FILE_OFFSET_BITS=64 -I'/Library/Frameworks/R.framework/Versions/4.1/Resources/library/Rcpp/include' -I'/Library/Frameworks/R.framework/Versions/4.1/Resources/library/Rhtslib/include' -I'/Library/Frameworks/R.framework/Versions/4.1/Resources/library/zlibbioc/include' -I'/Library/Frameworks/R.framework/Versions/4.1/Resources/library/testthat/include' -I/usr/local/include -fPIC -Wall -g -O2 -c detect_barcode.cpp -o detect_barcode.o
clang++ -mmacosx-version-min=10.13 -std=gnu++11 -I"/Library/Frameworks/R.framework/Resources/include" -DNDEBUG -D_FILE_OFFSET_BITS=64 -I'/Library/Frameworks/R.framework/Versions/4.1/Resources/library/Rcpp/include' -I'/Library/Frameworks/R.framework/Versions/4.1/Resources/library/Rhtslib/include' -I'/Library/Frameworks/R.framework/Versions/4.1/Resources/library/zlibbioc/include' -I'/Library/Frameworks/R.framework/Versions/4.1/Resources/library/testthat/include' -I/usr/local/include -fPIC -Wall -g -O2 -c parsebam.cpp -o parsebam.o
parsebam.cpp:116:9: warning: unused variable 'map_status' [-Wunused-variable]
int map_status;
^
1 warning generated.
clang++ -mmacosx-version-min=10.13 -std=gnu++11 -I"/Library/Frameworks/R.framework/Resources/include" -DNDEBUG -D_FILE_OFFSET_BITS=64 -I'/Library/Frameworks/R.framework/Versions/4.1/Resources/library/Rcpp/include' -I'/Library/Frameworks/R.framework/Versions/4.1/Resources/library/Rhtslib/include' -I'/Library/Frameworks/R.framework/Versions/4.1/Resources/library/zlibbioc/include' -I'/Library/Frameworks/R.framework/Versions/4.1/Resources/library/testthat/include' -I/usr/local/include -fPIC -Wall -g -O2 -c parsecount.cpp -o parsecount.o
clang++ -mmacosx-version-min=10.13 -std=gnu++11 -I"/Library/Frameworks/R.framework/Resources/include" -DNDEBUG -D_FILE_OFFSET_BITS=64 -I'/Library/Frameworks/R.framework/Versions/4.1/Resources/library/Rcpp/include' -I'/Library/Frameworks/R.framework/Versions/4.1/Resources/library/Rhtslib/include' -I'/Library/Frameworks/R.framework/Versions/4.1/Resources/library/zlibbioc/include' -I'/Library/Frameworks/R.framework/Versions/4.1/Resources/library/testthat/include' -I/usr/local/include -fPIC -Wall -g -O2 -c rcpp_scPipe_func.cpp -o rcpp_scPipe_func.o
In file included from rcpp_scPipe_func.cpp:3:
./trimbarcode.h:11:1: warning: unused function 'kseq_init' [-Wunused-function]
KSEQ_INIT(gzFile, gzread)
^
/Library/Frameworks/R.framework/Versions/4.1/Resources/library/Rhtslib/include/htslib/kseq.h:244:35: note: expanded from macro 'KSEQ_INIT'
#define KSEQ_INIT(type_t, __read) KSEQ_INIT2(static, type_t, __read)
^
/Library/Frameworks/R.framework/Versions/4.1/Resources/library/Rhtslib/include/htslib/kseq.h:241:2: note: expanded from macro 'KSEQ_INIT2'
__KSEQ_BASIC(SCOPE, type_t) \
^
/Library/Frameworks/R.framework/Versions/4.1/Resources/library/Rhtslib/include/htslib/kseq.h:170:16: note: expanded from macro '__KSEQ_BASIC'
SCOPE kseq_t *kseq_init(type_t fd) \
^
In file included from rcpp_scPipe_func.cpp:3:
./trimbarcode.h:11:1: warning: unused function 'kseq_destroy' [-Wunused-function]
/Library/Frameworks/R.framework/Versions/4.1/Resources/library/Rhtslib/include/htslib/kseq.h:244:35: note: expanded from macro 'KSEQ_INIT'
#define KSEQ_INIT(type_t, __read) KSEQ_INIT2(static, type_t, __read)
^
/Library/Frameworks/R.framework/Versions/4.1/Resources/library/Rhtslib/include/htslib/kseq.h:241:2: note: expanded from macro 'KSEQ_INIT2'
__KSEQ_BASIC(SCOPE, type_t) \
^
/Library/Frameworks/R.framework/Versions/4.1/Resources/library/Rhtslib/include/htslib/kseq.h:176:13: note: expanded from macro '__KSEQ_BASIC'
SCOPE void kseq_destroy(kseq_t *ks) \
^
In file included from rcpp_scPipe_func.cpp:3:
./trimbarcode.h:11:1: warning: unused function 'kseq_read' [-Wunused-function]
/Library/Frameworks/R.framework/Versions/4.1/Resources/library/Rhtslib/include/htslib/kseq.h:244:35: note: expanded from macro 'KSEQ_INIT'
#define KSEQ_INIT(type_t, __read) KSEQ_INIT2(static, type_t, __read)
^
/Library/Frameworks/R.framework/Versions/4.1/Resources/library/Rhtslib/include/htslib/kseq.h:242:2: note: expanded from macro 'KSEQ_INIT2'
__KSEQ_READ(SCOPE)
^
/Library/Frameworks/R.framework/Versions/4.1/Resources/library/Rhtslib/include/htslib/kseq.h:190:12: note: expanded from macro '__KSEQ_READ'
SCOPE int kseq_read(kseq_t *seq) \
^
3 warnings generated.
clang++ -mmacosx-version-min=10.13 -std=gnu++11 -I"/Library/Frameworks/R.framework/Resources/include" -DNDEBUG -D_FILE_OFFSET_BITS=64 -I'/Library/Frameworks/R.framework/Versions/4.1/Resources/library/Rcpp/include' -I'/Library/Frameworks/R.framework/Versions/4.1/Resources/library/Rhtslib/include' -I'/Library/Frameworks/R.framework/Versions/4.1/Resources/library/zlibbioc/include' -I'/Library/Frameworks/R.framework/Versions/4.1/Resources/library/testthat/include' -I/usr/local/include -fPIC -Wall -g -O2 -c test-cpp.cpp -o test-cpp.o
clang++ -mmacosx-version-min=10.13 -std=gnu++11 -I"/Library/Frameworks/R.framework/Resources/include" -DNDEBUG -D_FILE_OFFSET_BITS=64 -I'/Library/Frameworks/R.framework/Versions/4.1/Resources/library/Rcpp/include' -I'/Library/Frameworks/R.framework/Versions/4.1/Resources/library/Rhtslib/include' -I'/Library/Frameworks/R.framework/Versions/4.1/Resources/library/zlibbioc/include' -I'/Library/Frameworks/R.framework/Versions/4.1/Resources/library/testthat/include' -I/usr/local/include -fPIC -Wall -g -O2 -c test-runner.cpp -o test-runner.o
clang++ -mmacosx-version-min=10.13 -std=gnu++11 -I"/Library/Frameworks/R.framework/Resources/include" -DNDEBUG -D_FILE_OFFSET_BITS=64 -I'/Library/Frameworks/R.framework/Versions/4.1/Resources/library/Rcpp/include' -I'/Library/Frameworks/R.framework/Versions/4.1/Resources/library/Rhtslib/include' -I'/Library/Frameworks/R.framework/Versions/4.1/Resources/library/zlibbioc/include' -I'/Library/Frameworks/R.framework/Versions/4.1/Resources/library/testthat/include' -I/usr/local/include -fPIC -Wall -g -O2 -c transcriptmapping.cpp -o transcriptmapping.o
transcriptmapping.cpp:701:20: warning: unused variable 'bam_hdr' [-Wunused-variable]
bam_hdr_t *bam_hdr = bam_hdr_read(fp);
^
transcriptmapping.cpp:699:25: warning: unused function 'get_bc_umi_lengths' [-Wunused-function]
std::pair<int, int> get_bc_umi_lengths(string bam_fn) {
^
In file included from transcriptmapping.cpp:2:
./transcriptmapping.h:140:15: warning: private field 'SOURCE' is not used [-Wunused-private-field]
const int SOURCE = 1;
^
./transcriptmapping.h:144:15: warning: private field 'SCORE' is not used [-Wunused-private-field]
const int SCORE = 5;
^
./transcriptmapping.h:146:15: warning: private field 'PHASE' is not used [-Wunused-private-field]
const int PHASE = 7;
^
5 warnings generated.
clang++ -mmacosx-version-min=10.13 -std=gnu++11 -I"/Library/Frameworks/R.framework/Resources/include" -DNDEBUG -D_FILE_OFFSET_BITS=64 -I'/Library/Frameworks/R.framework/Versions/4.1/Resources/library/Rcpp/include' -I'/Library/Frameworks/R.framework/Versions/4.1/Resources/library/Rhtslib/include' -I'/Library/Frameworks/R.framework/Versions/4.1/Resources/library/zlibbioc/include' -I'/Library/Frameworks/R.framework/Versions/4.1/Resources/library/testthat/include' -I/usr/local/include -fPIC -Wall -g -O2 -c trimbarcode.cpp -o trimbarcode.o
clang++ -mmacosx-version-min=10.13 -std=gnu++11 -I"/Library/Frameworks/R.framework/Resources/include" -DNDEBUG -D_FILE_OFFSET_BITS=64 -I'/Library/Frameworks/R.framework/Versions/4.1/Resources/library/Rcpp/include' -I'/Library/Frameworks/R.framework/Versions/4.1/Resources/library/Rhtslib/include' -I'/Library/Frameworks/R.framework/Versions/4.1/Resources/library/zlibbioc/include' -I'/Library/Frameworks/R.framework/Versions/4.1/Resources/library/testthat/include' -I/usr/local/include -fPIC -Wall -g -O2 -c utils.cpp -o utils.o
clang++ -mmacosx-version-min=10.13 -std=gnu++11 -dynamiclib -Wl,-headerpad_max_install_names -undefined dynamic_lookup -single_module -multiply_defined suppress -L/Library/Frameworks/R.framework/Resources/lib -L/usr/local/lib -o scPipe.so Gene.o Interval.o RcppExports.o cellbarcode.o detect_barcode.o parsebam.o parsecount.o rcpp_scPipe_func.o test-cpp.o test-runner.o transcriptmapping.o trimbarcode.o utils.o /Library/Frameworks/R.framework/Versions/4.1/Resources/library/Rhtslib/usrlib/libhts.a -lcurl -F/Library/Frameworks/R.framework/.. -framework R -Wl,-framework -Wl,CoreFoundation
installing to /Users/biocbuild/bbs-3.14-bioc/meat/scPipe.buildbin-libdir/00LOCK-scPipe/00new/scPipe/libs
** R
** data
** inst
** byte-compile and prepare package for lazy loading
** help
*** installing help indices
** building package indices
** installing vignettes
** testing if installed package can be loaded from temporary location
** checking absolute paths in shared objects and dynamic libraries
** testing if installed package can be loaded from final location
** testing if installed package keeps a record of temporary installation path
* DONE (scPipe)
>>>>>>>
>>>>>>> FIXING LINKS FOR scPipe.buildbin-libdir/scPipe/libs/scPipe.so
>>>>>>>
install_name_tool -change "/usr/local/lib/libgcc_s.1.dylib" "/Library/Frameworks/R.framework/Versions/4.1/Resources/lib/libgcc_s.1.dylib" "scPipe.buildbin-libdir/scPipe/libs/scPipe.so"
install_name_tool -change "/usr/local/lib/libgfortran.5.dylib" "/Library/Frameworks/R.framework/Versions/4.1/Resources/lib/libgfortran.5.dylib" "scPipe.buildbin-libdir/scPipe/libs/scPipe.so"
install_name_tool -change "/usr/local/lib/libquadmath.0.dylib" "/Library/Frameworks/R.framework/Versions/4.1/Resources/lib/libquadmath.0.dylib" "scPipe.buildbin-libdir/scPipe/libs/scPipe.so"