| Back to Multiple platform build/check report for BioC 3.14 |
|
This page was generated on 2022-04-13 12:05:55 -0400 (Wed, 13 Apr 2022).
| Hostname | OS | Arch (*) | R version | Installed pkgs |
|---|---|---|---|---|
| nebbiolo2 | Linux (Ubuntu 20.04.4 LTS) | x86_64 | 4.1.3 (2022-03-10) -- "One Push-Up" | 4324 |
| tokay2 | Windows Server 2012 R2 Standard | x64 | 4.1.3 (2022-03-10) -- "One Push-Up" | 4077 |
| machv2 | macOS 10.14.6 Mojave | x86_64 | 4.1.3 (2022-03-10) -- "One Push-Up" | 4137 |
| Click on any hostname to see more info about the system (e.g. compilers) (*) as reported by 'uname -p', except on Windows and Mac OS X | ||||
|
To the developers/maintainers of the scClassify package: - Please allow up to 24 hours (and sometimes 48 hours) for your latest push to git@git.bioconductor.org:packages/scClassify.git to reflect on this report. See How and When does the builder pull? When will my changes propagate? for more information. - Make sure to use the following settings in order to reproduce any error or warning you see on this page. |
| Package 1716/2083 | Hostname | OS / Arch | INSTALL | BUILD | CHECK | BUILD BIN | ||||||||
| scClassify 1.6.0 (landing page) Yingxin Lin
| nebbiolo2 | Linux (Ubuntu 20.04.4 LTS) / x86_64 | OK | OK | OK | |||||||||
| tokay2 | Windows Server 2012 R2 Standard / x64 | OK | OK | OK | OK | |||||||||
| machv2 | macOS 10.14.6 Mojave / x86_64 | OK | OK | OK | OK | |||||||||
| Package: scClassify |
| Version: 1.6.0 |
| Command: /home/biocbuild/bbs-3.14-bioc/R/bin/R CMD check --install=check:scClassify.install-out.txt --library=/home/biocbuild/bbs-3.14-bioc/R/library --no-vignettes --timings scClassify_1.6.0.tar.gz |
| StartedAt: 2022-04-12 09:14:25 -0400 (Tue, 12 Apr 2022) |
| EndedAt: 2022-04-12 09:19:25 -0400 (Tue, 12 Apr 2022) |
| EllapsedTime: 300.6 seconds |
| RetCode: 0 |
| Status: OK |
| CheckDir: scClassify.Rcheck |
| Warnings: 0 |
##############################################################################
##############################################################################
###
### Running command:
###
### /home/biocbuild/bbs-3.14-bioc/R/bin/R CMD check --install=check:scClassify.install-out.txt --library=/home/biocbuild/bbs-3.14-bioc/R/library --no-vignettes --timings scClassify_1.6.0.tar.gz
###
##############################################################################
##############################################################################
* using log directory ‘/home/biocbuild/bbs-3.14-bioc/meat/scClassify.Rcheck’
* using R version 4.1.3 (2022-03-10)
* using platform: x86_64-pc-linux-gnu (64-bit)
* using session charset: UTF-8
* using option ‘--no-vignettes’
* checking for file ‘scClassify/DESCRIPTION’ ... OK
* checking extension type ... Package
* this is package ‘scClassify’ version ‘1.6.0’
* package encoding: UTF-8
* checking package namespace information ... OK
* checking package dependencies ... OK
* checking if this is a source package ... OK
* checking if there is a namespace ... OK
* checking for hidden files and directories ... OK
* checking for portable file names ... OK
* checking for sufficient/correct file permissions ... OK
* checking whether package ‘scClassify’ can be installed ... OK
* checking installed package size ... OK
* checking package directory ... OK
* checking ‘build’ directory ... OK
* checking DESCRIPTION meta-information ... OK
* checking top-level files ... OK
* checking for left-over files ... OK
* checking index information ... OK
* checking package subdirectories ... OK
* checking R files for non-ASCII characters ... OK
* checking R files for syntax errors ... OK
* checking whether the package can be loaded ... OK
* checking whether the package can be loaded with stated dependencies ... OK
* checking whether the package can be unloaded cleanly ... OK
* checking whether the namespace can be loaded with stated dependencies ... OK
* checking whether the namespace can be unloaded cleanly ... OK
* checking dependencies in R code ... OK
* checking S3 generic/method consistency ... OK
* checking replacement functions ... OK
* checking foreign function calls ... OK
* checking R code for possible problems ... OK
* checking Rd files ... OK
* checking Rd metadata ... OK
* checking Rd cross-references ... OK
* checking for missing documentation entries ... OK
* checking for code/documentation mismatches ... OK
* checking Rd \usage sections ... OK
* checking Rd contents ... OK
* checking for unstated dependencies in examples ... OK
* checking contents of ‘data’ directory ... OK
* checking data for non-ASCII characters ... OK
* checking data for ASCII and uncompressed saves ... OK
* checking files in ‘vignettes’ ... OK
* checking examples ... OK
Examples with CPU (user + system) or elapsed time > 5s
user system elapsed
runSampleCal 74.432 5.427 74.585
predict_scClassifyJoint 17.005 1.685 15.024
scClassify 9.779 1.787 9.288
predict_scClassify 9.517 1.104 8.656
* checking for unstated dependencies in vignettes ... OK
* checking package vignettes in ‘inst/doc’ ... OK
* checking running R code from vignettes ... SKIPPED
* checking re-building of vignette outputs ... SKIPPED
* checking PDF version of manual ... OK
* DONE
Status: OK
scClassify.Rcheck/00install.out
############################################################################## ############################################################################## ### ### Running command: ### ### /home/biocbuild/bbs-3.14-bioc/R/bin/R CMD INSTALL scClassify ### ############################################################################## ############################################################################## * installing to library ‘/home/biocbuild/bbs-3.14-bioc/R/library’ * installing *source* package ‘scClassify’ ... ** using staged installation ** R ** data ** inst ** byte-compile and prepare package for lazy loading ** help *** installing help indices *** copying figures ** building package indices ** installing vignettes ** testing if installed package can be loaded from temporary location ** testing if installed package can be loaded from final location ** testing if installed package keeps a record of temporary installation path * DONE (scClassify)
scClassify.Rcheck/scClassify-Ex.timings
| name | user | system | elapsed | |
| cellTypeTrain | 0.079 | 0.013 | 0.092 | |
| cellTypeTree | 0.081 | 0.001 | 0.081 | |
| features | 0.081 | 0.000 | 0.081 | |
| getN | 0.089 | 0.004 | 0.094 | |
| learningCurve | 0.076 | 0.004 | 0.080 | |
| model | 0.47 | 0.22 | 0.69 | |
| modelweights | 0.084 | 0.000 | 0.084 | |
| name | 0.109 | 0.003 | 0.113 | |
| plotCellTypeTree | 1.054 | 0.044 | 1.098 | |
| predict_scClassify | 9.517 | 1.104 | 8.656 | |
| predict_scClassifyJoint | 17.005 | 1.685 | 15.024 | |
| runHOPACH | 0.576 | 0.020 | 0.596 | |
| runSampleCal | 74.432 | 5.427 | 74.585 | |
| scClassify | 9.779 | 1.787 | 9.288 | |
| scClassifyTrainModelList | 0.186 | 0.000 | 0.186 | |
| train_scClassify | 1.806 | 0.256 | 2.061 | |